Workbook

Sheet BAMBINO
A1: #VALUE!
A2: #VALUE! | G2: REGIONAL | L2: KILLARNEY | O2: FK | R2: ZIKR | U2: ZWARTKOPS | Y2: BEST NATIONAL POINTS | AI2: TOTAL | AJ2: FINAL
A3: Rnk | B3: No. | C3: Name | D3: License # | E3: Region | F3: Chassis | G3: SARMC 1 | H3: SARMC 2 | I3: SARMC 3 | J3: SARMC 4 | K3: Total Bonus | L3: K1 | M3: K2 | N3: K3 | O3: FK1 | P3: FK2 | Q3: FK3 | R3: Z1 | S3: Z2 | T3: Z3 | U3: Z1' | V3: Z2' | W3: Z3' | X3: Z4 | Y3: 1 | Z3: 2 | AA3: 3 | AB3: 4 | AC3: 5 | AD3: 6 | AE3: 7 | AF3: 8 | AG3: 9 | AH3: 10 | AI3: National | AJ3: TOTAL
A4: 1 | B4: 55 | C4: =_xlfn.XLOOKUP(Table6234[[#This Row],[No.]],Sheet2!B:B,Sheet2!C:C) -> Melokhule Ndlovu | D4: =_xlfn.XLOOKUP(Table6234[[#This Row],[No.]],Sheet2!B:B,Sheet2!G:G) -> 44293 | E4: =_xlfn.XLOOKUP(Table6234[[#This Row],[No.]],Sheet2!B:B,Sheet2!H:H) -> KZN | F4: =_xlfn.XLOOKUP(Table6234[[#This Row],[No.]],Sheet2!B:B,Sheet2!D:D) -> TOP | G4: 3 | H4: 3 | I4: 3 | J4: 3 | K4: =SUM(Table6234[[#This Row],[SARMC 1]:[SARMC 4]]) -> 12 | L4: 24 | M4: excl | N4: 35 | O4: 32 | P4: 32 | Q4: 32 | R4: 35 | S4: 29 | T4: 35 | U4: 32 | V4: 35 | W4: 32 | X4: 30 | Y4: =LARGE((Table6234[[#This Row],[K1]:[Z4]]),1) -> 35 | Z4: =LARGE((Table6234[[#This Row],[K1]:[Z4]]),2) -> 35 | AA4: =LARGE((Table6234[[#This Row],[K1]:[Z4]]),3) -> 35 | AB4: =LARGE((Table6234[[#This Row],[K1]:[Z4]]),4) -> 35 | AC4: =LARGE((Table6234[[#This Row],[K1]:[Z4]]),5) -> 32 | AD4: =LARGE((Table6234[[#This Row],[K1]:[Z4]]),6) -> 32 | AE4: =LARGE((Table6234[[#This Row],[K1]:[Z4]]),7) -> 32 | AF4: =LARGE((Table6234[[#This Row],[K1]:[Z4]]),8) -> 32 | AG4: =LARGE((Table6234[[#This Row],[K1]:[Z4]]),9) -> 32 | AH4: =LARGE((Table6234[[#This Row],[K1]:[Z4]]),10) -> 30 | AI4: =SUM(Y4:AH4) -> 330 | AJ4: =K4+AI4 -> 342
A5: 2 | B5: 72 | C5: =_xlfn.XLOOKUP(Table6234[[#This Row],[No.]],Sheet2!B:B,Sheet2!C:C) -> Yerhu Malabie | D5: =_xlfn.XLOOKUP(Table6234[[#This Row],[No.]],Sheet2!B:B,Sheet2!G:G) -> 44523 | E5: =_xlfn.XLOOKUP(Table6234[[#This Row],[No.]],Sheet2!B:B,Sheet2!H:H) -> NR | F5: =_xlfn.XLOOKUP(Table6234[[#This Row],[No.]],Sheet2!B:B,Sheet2!D:D) -> TOP | G5: 3 | H5: 3 | I5: 3 | J5: 3 | K5: =SUM(Table6234[[#This Row],[SARMC 1]:[SARMC 4]]) -> 12 | L5: 35 | M5: 28 | N5: 29 | O5: 30 | P5: 17 | Q5: 30 | R5: 30 | S5: 35 | T5: 32 | U5: 35 | V5: 32 | W5: 35 | X5: 35 | Y5: =LARGE((Table6234[[#This Row],[K1]:[Z4]]),1) -> 35 | Z5: =LARGE((Table6234[[#This Row],[K1]:[Z4]]),2) -> 35 | AA5: =LARGE((Table6234[[#This Row],[K1]:[Z4]]),3) -> 35 | AB5: =LARGE((Table6234[[#This Row],[K1]:[Z4]]),4) -> 35 | AC5: =LARGE((Table6234[[#This Row],[K1]:[Z4]]),5) -> 35 | AD5: =LARGE((Table6234[[#This Row],[K1]:[Z4]]),6) -> 32 | AE5: =LARGE((Table6234[[#This Row],[K1]:[Z4]]),7) -> 32 | AF5: =LARGE((Table6234[[#This Row],[K1]:[Z4]]),8) -> 30 | AG5: =LARGE((Table6234[[#This Row],[K1]:[Z4]]),9) -> 30 | AH5: =LARGE((Table6234[[#This Row],[K1]:[Z4]]),10) -> 30 | AI5: =SUM(Y5:AH5) -> 329 | AJ5: =K5+AI5 -> 341
A6: 3 | B6: 22 | C6: =_xlfn.XLOOKUP(Table6234[[#This Row],[No.]],Sheet2!B:B,Sheet2!C:C) -> Tiyani Malabie | D6: =_xlfn.XLOOKUP(Table6234[[#This Row],[No.]],Sheet2!B:B,Sheet2!G:G) -> 44534 | E6: =_xlfn.XLOOKUP(Table6234[[#This Row],[No.]],Sheet2!B:B,Sheet2!H:H) -> NR | F6: =_xlfn.XLOOKUP(Table6234[[#This Row],[No.]],Sheet2!B:B,Sheet2!D:D) -> TOP | G6: 3 | H6: 3 | I6: 3 | J6: 3 | K6: =SUM(Table6234[[#This Row],[SARMC 1]:[SARMC 4]]) -> 12 | L6: 32 | M6: 30 | N6: 32 | O6: 35 | P6: 35 | Q6: 35 | R6: 32 | S6: 27 | T6: 30 | U6: 30 | V6: 29 | W6: 28 | X6: 29 | Y6: =LARGE((Table6234[[#This Row],[K1]:[Z4]]),1) -> 35 | Z6: =LARGE((Table6234[[#This Row],[K1]:[Z4]]),2) -> 35 | AA6: =LARGE((Table6234[[#This Row],[K1]:[Z4]]),3) -> 35 | AB6: =LARGE((Table6234[[#This Row],[K1]:[Z4]]),4) -> 32 | AC6: =LARGE((Table6234[[#This Row],[K1]:[Z4]]),5) -> 32 | AD6: =LARGE((Table6234[[#This Row],[K1]:[Z4]]),6) -> 32 | AE6: =LARGE((Table6234[[#This Row],[K1]:[Z4]]),7) -> 30 | AF6: =LARGE((Table6234[[#This Row],[K1]:[Z4]]),8) -> 30 | AG6: =LARGE((Table6234[[#This Row],[K1]:[Z4]]),9) -> 30 | AH6: =LARGE((Table6234[[#This Row],[K1]:[Z4]]),10) -> 29 | AI6: =SUM(Y6:AH6) -> 320 | AJ6: =K6+AI6 -> 332
A7: 4 | B7: 18 | C7: =_xlfn.XLOOKUP(Table6234[[#This Row],[No.]],Sheet2!B:B,Sheet2!C:C) -> Zonkizizwe Holomisa | D7: =_xlfn.XLOOKUP(Table6234[[#This Row],[No.]],Sheet2!B:B,Sheet2!G:G) -> 43093 | E7: =_xlfn.XLOOKUP(Table6234[[#This Row],[No.]],Sheet2!B:B,Sheet2!H:H) -> NR | F7: =_xlfn.XLOOKUP(Table6234[[#This Row],[No.]],Sheet2!B:B,Sheet2!D:D) -> TOP | G7: 3 | H7: 3 | I7: 3 | J7: 0 | K7: =SUM(Table6234[[#This Row],[SARMC 1]:[SARMC 4]]) -> 9 | L7: 29 | M7: 32 | N7: 28 | O7: 29 | P7: 25 | Q7: 18 | R7: 28 | S7: 30 | T7: 29 | U7: 27 | V7: 30 | W7: 30 | X7: 32 | Y7: =LARGE((Table6234[[#This Row],[K1]:[Z4]]),1) -> 32 | Z7: =LARGE((Table6234[[#This Row],[K1]:[Z4]]),2) -> 32 | AA7: =LARGE((Table6234[[#This Row],[K1]:[Z4]]),3) -> 30 | AB7: =LARGE((Table6234[[#This Row],[K1]:[Z4]]),4) -> 30 | AC7: =LARGE((Table6234[[#This Row],[K1]:[Z4]]),5) -> 30 | AD7: =LARGE((Table6234[[#This Row],[K1]:[Z4]]),6) -> 29 | AE7: =LARGE((Table6234[[#This Row],[K1]:[Z4]]),7) -> 29 | AF7: =LARGE((Table6234[[#This Row],[K1]:[Z4]]),8) -> 29 | AG7: =LARGE((Table6234[[#This Row],[K1]:[Z4]]),9) -> 28 | AH7: =LARGE((Table6234[[#This Row],[K1]:[Z4]]),10) -> 28 | AI7: =SUM(Y7:AH7) -> 297 | AJ7: =K7+AI7 -> 306
A8: 5 | B8: 33 | C8: =_xlfn.XLOOKUP(Table6234[[#This Row],[No.]],Sheet2!B:B,Sheet2!C:C) -> Siyanda Nkwanyana | D8: =_xlfn.XLOOKUP(Table6234[[#This Row],[No.]],Sheet2!B:B,Sheet2!G:G) -> 45545 | E8: =_xlfn.XLOOKUP(Table6234[[#This Row],[No.]],Sheet2!B:B,Sheet2!H:H) -> NR | F8: =_xlfn.XLOOKUP(Table6234[[#This Row],[No.]],Sheet2!B:B,Sheet2!D:D) -> TOP | G8: 3 | H8: 3 | I8: 3 | J8: 3 | K8: =SUM(Table6234[[#This Row],[SARMC 1]:[SARMC 4]]) -> 12 | L8: 25 | M8: 27 | N8: 27 | O8: excl | P8: 28 | Q8: 28 | R8: 27 | S8: 32 | T8: 28 | U8: excl | V8: 27 | W8: 27 | X8: 28 | Y8: =LARGE((Table6234[[#This Row],[K1]:[Z4]]),1) -> 32 | Z8: =LARGE((Table6234[[#This Row],[K1]:[Z4]]),2) -> 28 | AA8: =LARGE((Table6234[[#This Row],[K1]:[Z4]]),3) -> 28 | AB8: =LARGE((Table6234[[#This Row],[K1]:[Z4]]),4) -> 28 | AC8: =LARGE((Table6234[[#This Row],[K1]:[Z4]]),5) -> 28 | AD8: =LARGE((Table6234[[#This Row],[K1]:[Z4]]),6) -> 27 | AE8: =LARGE((Table6234[[#This Row],[K1]:[Z4]]),7) -> 27 | AF8: =LARGE((Table6234[[#This Row],[K1]:[Z4]]),8) -> 27 | AG8: =LARGE((Table6234[[#This Row],[K1]:[Z4]]),9) -> 27 | AH8: =LARGE((Table6234[[#This Row],[K1]:[Z4]]),10) -> 27 | AI8: =SUM(Y8:AH8) -> 279 | AJ8: =K8+AI8 -> 291
A9: 6 | B9: 14 | C9: =_xlfn.XLOOKUP(Table6234[[#This Row],[No.]],Sheet2!B:B,Sheet2!C:C) -> Tyler Stanyer | D9: =_xlfn.XLOOKUP(Table6234[[#This Row],[No.]],Sheet2!B:B,Sheet2!G:G) -> 43198 | E9: =_xlfn.XLOOKUP(Table6234[[#This Row],[No.]],Sheet2!B:B,Sheet2!H:H) -> NR | F9: =_xlfn.XLOOKUP(Table6234[[#This Row],[No.]],Sheet2!B:B,Sheet2!D:D) -> TOP | G9: 3 | H9: 3 | I9: 3 | J9: 3 | K9: =SUM(Table6234[[#This Row],[SARMC 1]:[SARMC 4]]) -> 12 | L9: 28 | M9: 29 | N9: 26 | O9: 28 | P9: 27 | Q9: 25 | R9: 29 | S9: 25 | T9: 25 | U9: 29 | V9: 28 | W9: 29 | X9: 24 | Y9: =LARGE((Table6234[[#This Row],[K1]:[Z4]]),1) -> 29 | Z9: =LARGE((Table6234[[#This Row],[K1]:[Z4]]),2) -> 29 | AA9: =LARGE((Table6234[[#This Row],[K1]:[Z4]]),3) -> 29 | AB9: =LARGE((Table6234[[#This Row],[K1]:[Z4]]),4) -> 29 | AC9: =LARGE((Table6234[[#This Row],[K1]:[Z4]]),5) -> 28 | AD9: =LARGE((Table6234[[#This Row],[K1]:[Z4]]),6) -> 28 | AE9: =LARGE((Table6234[[#This Row],[K1]:[Z4]]),7) -> 28 | AF9: =LARGE((Table6234[[#This Row],[K1]:[Z4]]),8) -> 27 | AG9: =LARGE((Table6234[[#This Row],[K1]:[Z4]]),9) -> 26 | AH9: =LARGE((Table6234[[#This Row],[K1]:[Z4]]),10) -> 25 | AI9: =SUM(Y9:AH9) -> 278 | AJ9: =K9+AI9 -> 290
A10: 7 | B10: 61 | C10: =_xlfn.XLOOKUP(Table6234[[#This Row],[No.]],Sheet2!B:B,Sheet2!C:C) -> William Grant | D10: =_xlfn.XLOOKUP(Table6234[[#This Row],[No.]],Sheet2!B:B,Sheet2!G:G) -> 46404 | E10: =_xlfn.XLOOKUP(Table6234[[#This Row],[No.]],Sheet2!B:B,Sheet2!H:H) -> NR | F10: =_xlfn.XLOOKUP(Table6234[[#This Row],[No.]],Sheet2!B:B,Sheet2!D:D) -> TOP | G10: 3 | H10: 3 | I10: 3 | J10: 3 | K10: =SUM(Table6234[[#This Row],[SARMC 1]:[SARMC 4]]) -> 12 | L10: 0 | M10: 0 | N10: 0 | O10: 23 | P10: 26 | Q10: 27 | R10: 26 | S10: 26 | T10: 27 | U10: 28 | V10: 24 | W10: 26 | X10: 27 | Y10: =LARGE((Table6234[[#This Row],[K1]:[Z4]]),1) -> 28 | Z10: =LARGE((Table6234[[#This Row],[K1]:[Z4]]),2) -> 27 | AA10: =LARGE((Table6234[[#This Row],[K1]:[Z4]]),3) -> 27 | AB10: =LARGE((Table6234[[#This Row],[K1]:[Z4]]),4) -> 27 | AC10: =LARGE((Table6234[[#This Row],[K1]:[Z4]]),5) -> 26 | AD10: =LARGE((Table6234[[#This Row],[K1]:[Z4]]),6) -> 26 | AE10: =LARGE((Table6234[[#This Row],[K1]:[Z4]]),7) -> 26 | AF10: =LARGE((Table6234[[#This Row],[K1]:[Z4]]),8) -> 26 | AG10: =LARGE((Table6234[[#This Row],[K1]:[Z4]]),9) -> 24 | AH10: =LARGE((Table6234[[#This Row],[K1]:[Z4]]),10) -> 23 | AI10: =SUM(Y10:AH10) -> 260 | AJ10: =K10+AI10 -> 272
A11: 8 | B11: 25 | C11: =_xlfn.XLOOKUP(Table6234[[#This Row],[No.]],Sheet2!B:B,Sheet2!C:C) -> Zaid Panday | D11: =_xlfn.XLOOKUP(Table6234[[#This Row],[No.]],Sheet2!B:B,Sheet2!G:G) -> 45552 | E11: =_xlfn.XLOOKUP(Table6234[[#This Row],[No.]],Sheet2!B:B,Sheet2!H:H) -> WP | F11: =_xlfn.XLOOKUP(Table6234[[#This Row],[No.]],Sheet2!B:B,Sheet2!D:D) -> TOP | G11: 3 | H11: 0 | I11: 3 | J11: 3 | K11: =SUM(Table6234[[#This Row],[SARMC 1]:[SARMC 4]]) -> 9 | L11: 30 | M11: 35 | N11: 30 | O11: 26 | P11: 29 | Q11: 26 | R11: 0 | S11: 0 | T11: 0 | U11: 18 | V11: 26 | W11: 21 | X11: 21 | Y11: =LARGE((Table6234[[#This Row],[K1]:[Z4]]),1) -> 35 | Z11: =LARGE((Table6234[[#This Row],[K1]:[Z4]]),2) -> 30 | AA11: =LARGE((Table6234[[#This Row],[K1]:[Z4]]),3) -> 30 | AB11: =LARGE((Table6234[[#This Row],[K1]:[Z4]]),4) -> 29 | AC11: =LARGE((Table6234[[#This Row],[K1]:[Z4]]),5) -> 26 | AD11: =LARGE((Table6234[[#This Row],[K1]:[Z4]]),6) -> 26 | AE11: =LARGE((Table6234[[#This Row],[K1]:[Z4]]),7) -> 26 | AF11: =LARGE((Table6234[[#This Row],[K1]:[Z4]]),8) -> 21 | AG11: =LARGE((Table6234[[#This Row],[K1]:[Z4]]),9) -> 21 | AH11: =LARGE((Table6234[[#This Row],[K1]:[Z4]]),10) -> 18 | AI11: =SUM(Y11:AH11) -> 262 | AJ11: =K11+AI11 -> 271
A12: 9 | B12: 11 | C12: =_xlfn.XLOOKUP(Table6234[[#This Row],[No.]],Sheet2!B:B,Sheet2!C:C) -> Gerrard Martin | D12: =_xlfn.XLOOKUP(Table6234[[#This Row],[No.]],Sheet2!B:B,Sheet2!G:G) -> 45703 | E12: =_xlfn.XLOOKUP(Table6234[[#This Row],[No.]],Sheet2!B:B,Sheet2!H:H) -> NR | F12: =_xlfn.XLOOKUP(Table6234[[#This Row],[No.]],Sheet2!B:B,Sheet2!D:D) -> TOP | G12: 2 | H12: 3 | I12: 3 | J12: 2 | K12: =SUM(Table6234[[#This Row],[SARMC 1]:[SARMC 4]]) -> 10 | L12: 27 | M12: 26 | N12: 25 | O12: 25 | P12: 24 | Q12: 24 | R12: 22 | S12: 24 | T12: 23 | U12: 25 | V12: 21 | W12: 23 | X12: 25 | Y12: =LARGE((Table6234[[#This Row],[K1]:[Z4]]),1) -> 27 | Z12: =LARGE((Table6234[[#This Row],[K1]:[Z4]]),2) -> 26 | AA12: =LARGE((Table6234[[#This Row],[K1]:[Z4]]),3) -> 25 | AB12: =LARGE((Table6234[[#This Row],[K1]:[Z4]]),4) -> 25 | AC12: =LARGE((Table6234[[#This Row],[K1]:[Z4]]),5) -> 25 | AD12: =LARGE((Table6234[[#This Row],[K1]:[Z4]]),6) -> 25 | AE12: =LARGE((Table6234[[#This Row],[K1]:[Z4]]),7) -> 24 | AF12: =LARGE((Table6234[[#This Row],[K1]:[Z4]]),8) -> 24 | AG12: =LARGE((Table6234[[#This Row],[K1]:[Z4]]),9) -> 24 | AH12: =LARGE((Table6234[[#This Row],[K1]:[Z4]]),10) -> 23 | AI12: =SUM(Y12:AH12) -> 248 | AJ12: =K12+AI12 -> 258
A13: 10 | B13: 24 | C13: =_xlfn.XLOOKUP(Table6234[[#This Row],[No.]],Sheet2!B:B,Sheet2!C:C) -> Handre Kukkuk | D13: =_xlfn.XLOOKUP(Table6234[[#This Row],[No.]],Sheet2!B:B,Sheet2!G:G) -> 45092 | E13: =_xlfn.XLOOKUP(Table6234[[#This Row],[No.]],Sheet2!B:B,Sheet2!H:H) -> NR | F13: =_xlfn.XLOOKUP(Table6234[[#This Row],[No.]],Sheet2!B:B,Sheet2!D:D) -> TOP | G13: 3 | H13: 3 | I13: 3 | J13: 3 | K13: =SUM(Table6234[[#This Row],[SARMC 1]:[SARMC 4]]) -> 12 | L13: 0 | M13: 0 | N13: 0 | O13: 24 | P13: 22 | Q13: 23 | R13: 19 | S13: 20 | T13: 21 | U13: 24 | V13: 25 | W13: 25 | X13: 22 | Y13: =LARGE((Table6234[[#This Row],[K1]:[Z4]]),1) -> 25 | Z13: =LARGE((Table6234[[#This Row],[K1]:[Z4]]),2) -> 25 | AA13: =LARGE((Table6234[[#This Row],[K1]:[Z4]]),3) -> 24 | AB13: =LARGE((Table6234[[#This Row],[K1]:[Z4]]),4) -> 24 | AC13: =LARGE((Table6234[[#This Row],[K1]:[Z4]]),5) -> 23 | AD13: =LARGE((Table6234[[#This Row],[K1]:[Z4]]),6) -> 22 | AE13: =LARGE((Table6234[[#This Row],[K1]:[Z4]]),7) -> 22 | AF13: =LARGE((Table6234[[#This Row],[K1]:[Z4]]),8) -> 21 | AG13: =LARGE((Table6234[[#This Row],[K1]:[Z4]]),9) -> 20 | AH13: =LARGE((Table6234[[#This Row],[K1]:[Z4]]),10) -> 19 | AI13: =SUM(Y13:AH13) -> 225 | AJ13: =K13+AI13 -> 237
A14: 11 | B14: 16 | C14: Declan Berowsky | D14: 46082 | E14: NR | F14: TOP | G14: 0 | H14: 3 | I14: 3 | J14: 0 | K14: =SUM(Table6234[[#This Row],[SARMC 1]:[SARMC 4]]) -> 6 | L14: 0 | M14: 0 | N14: 0 | O14: 22 | P14: 23 | Q14: 18 | R14: 18 | S14: 18 | T14: 18 | U14: 23 | V14: 23 | W14: 22 | X14: 23 | Y14: =LARGE((Table6234[[#This Row],[K1]:[Z4]]),1) -> 23 | Z14: =LARGE((Table6234[[#This Row],[K1]:[Z4]]),2) -> 23 | AA14: =LARGE((Table6234[[#This Row],[K1]:[Z4]]),3) -> 23 | AB14: =LARGE((Table6234[[#This Row],[K1]:[Z4]]),4) -> 23 | AC14: =LARGE((Table6234[[#This Row],[K1]:[Z4]]),5) -> 22 | AD14: =LARGE((Table6234[[#This Row],[K1]:[Z4]]),6) -> 22 | AE14: =LARGE((Table6234[[#This Row],[K1]:[Z4]]),7) -> 18 | AF14: =LARGE((Table6234[[#This Row],[K1]:[Z4]]),8) -> 18 | AG14: =LARGE((Table6234[[#This Row],[K1]:[Z4]]),9) -> 18 | AH14: =LARGE((Table6234[[#This Row],[K1]:[Z4]]),10) -> 18 | AI14: =SUM(Y14:AH14) -> 208 | AJ14: =K14+AI14 -> 214
A15: 12 | B15: 57 | C15: =_xlfn.XLOOKUP(Table6234[[#This Row],[No.]],Sheet2!B:B,Sheet2!C:C) -> Jaxon Holzapfel | D15: =_xlfn.XLOOKUP(Table6234[[#This Row],[No.]],Sheet2!B:B,Sheet2!G:G) -> 6237 | E15: =_xlfn.XLOOKUP(Table6234[[#This Row],[No.]],Sheet2!B:B,Sheet2!H:H) -> NR | F15: =_xlfn.XLOOKUP(Table6234[[#This Row],[No.]],Sheet2!B:B,Sheet2!D:D) -> TOP | G15: 3 | H15: 0 | I15: 3 | J15: 3 | K15: =SUM(Table6234[[#This Row],[SARMC 1]:[SARMC 4]]) -> 9 | L15: 0 | M15: 0 | N15: 0 | O15: 0 | P15: 0 | Q15: 0 | R15: 21 | S15: 23 | T15: 24 | U15: 26 | V15: 22 | W15: 24 | X15: 26 | Y15: =LARGE((Table6234[[#This Row],[K1]:[Z4]]),1) -> 26 | Z15: =LARGE((Table6234[[#This Row],[K1]:[Z4]]),2) -> 26 | AA15: =LARGE((Table6234[[#This Row],[K1]:[Z4]]),3) -> 24 | AB15: =LARGE((Table6234[[#This Row],[K1]:[Z4]]),4) -> 24 | AC15: =LARGE((Table6234[[#This Row],[K1]:[Z4]]),5) -> 23 | AD15: =LARGE((Table6234[[#This Row],[K1]:[Z4]]),6) -> 22 | AE15: =LARGE((Table6234[[#This Row],[K1]:[Z4]]),7) -> 21 | AF15: =LARGE((Table6234[[#This Row],[K1]:[Z4]]),8) -> 0 | AG15: =LARGE((Table6234[[#This Row],[K1]:[Z4]]),9) -> 0 | AH15: =LARGE((Table6234[[#This Row],[K1]:[Z4]]),10) -> 0 | AI15: =SUM(Y15:AH15) -> 166 | AJ15: =K15+AI15 -> 175
A16: 13 | B16: 29 | C16: =_xlfn.XLOOKUP(Table6234[[#This Row],[No.]],Sheet2!B:B,Sheet2!C:C) -> Grayson Venter | D16: =_xlfn.XLOOKUP(Table6234[[#This Row],[No.]],Sheet2!B:B,Sheet2!G:G) -> 44105 | E16: =_xlfn.XLOOKUP(Table6234[[#This Row],[No.]],Sheet2!B:B,Sheet2!H:H) -> NR | F16: =_xlfn.XLOOKUP(Table6234[[#This Row],[No.]],Sheet2!B:B,Sheet2!D:D) -> TOP | G16: 3 | H16: 3 | I16: 3 | J16: 0 | K16: =SUM(Table6234[[#This Row],[SARMC 1]:[SARMC 4]]) -> 9 | L16: 0 | M16: 0 | N16: 0 | O16: 27 | P16: 30 | Q16: 29 | R16: 25 | S16: 28 | T16: 26 | U16: 0 | V16: 0 | W16: 0 | X16: 0 | Y16: =LARGE((Table6234[[#This Row],[K1]:[Z4]]),1) -> 30 | Z16: =LARGE((Table6234[[#This Row],[K1]:[Z4]]),2) -> 29 | AA16: =LARGE((Table6234[[#This Row],[K1]:[Z4]]),3) -> 28 | AB16: =LARGE((Table6234[[#This Row],[K1]:[Z4]]),4) -> 27 | AC16: =LARGE((Table6234[[#This Row],[K1]:[Z4]]),5) -> 26 | AD16: =LARGE((Table6234[[#This Row],[K1]:[Z4]]),6) -> 25 | AE16: =LARGE((Table6234[[#This Row],[K1]:[Z4]]),7) -> 0 | AF16: =LARGE((Table6234[[#This Row],[K1]:[Z4]]),8) -> 0 | AG16: =LARGE((Table6234[[#This Row],[K1]:[Z4]]),9) -> 0 | AH16: =LARGE((Table6234[[#This Row],[K1]:[Z4]]),10) -> 0 | AI16: =SUM(Y16:AH16) -> 165 | AJ16: =K16+AI16 -> 174
A17: 14 | B17: 83 | C17: =_xlfn.XLOOKUP(Table6234[[#This Row],[No.]],Sheet2!B:B,Sheet2!C:C) -> Miya Mabunda | D17: =_xlfn.XLOOKUP(Table6234[[#This Row],[No.]],Sheet2!B:B,Sheet2!G:G) -> 44449 | E17: =_xlfn.XLOOKUP(Table6234[[#This Row],[No.]],Sheet2!B:B,Sheet2!H:H) -> NR | F17: =_xlfn.XLOOKUP(Table6234[[#This Row],[No.]],Sheet2!B:B,Sheet2!D:D) -> TOP | G17: 0 | H17: 0 | I17: 3 | J17: 0 | K17: =SUM(Table6234[[#This Row],[SARMC 1]:[SARMC 4]]) -> 3 | L17: 26 | M17: 25 | N17: 24 | O17: 0 | P17: 0 | Q17: 0 | R17: 20 | S17: 19 | T17: 19 | U17: 0 | V17: 0 | W17: 0 | X17: 0 | Y17: =LARGE((Table6234[[#This Row],[K1]:[Z4]]),1) -> 26 | Z17: =LARGE((Table6234[[#This Row],[K1]:[Z4]]),2) -> 25 | AA17: =LARGE((Table6234[[#This Row],[K1]:[Z4]]),3) -> 24 | AB17: =LARGE((Table6234[[#This Row],[K1]:[Z4]]),4) -> 20 | AC17: =LARGE((Table6234[[#This Row],[K1]:[Z4]]),5) -> 19 | AD17: =LARGE((Table6234[[#This Row],[K1]:[Z4]]),6) -> 19 | AE17: =LARGE((Table6234[[#This Row],[K1]:[Z4]]),7) -> 0 | AF17: =LARGE((Table6234[[#This Row],[K1]:[Z4]]),8) -> 0 | AG17: =LARGE((Table6234[[#This Row],[K1]:[Z4]]),9) -> 0 | AH17: =LARGE((Table6234[[#This Row],[K1]:[Z4]]),10) -> 0 | AI17: =SUM(Y17:AH17) -> 133 | AJ17: =K17+AI17 -> 136
A18: 15 | B18: 82 | C18: =_xlfn.XLOOKUP(Table6234[[#This Row],[No.]],Sheet2!B:B,Sheet2!C:C) -> Tiane Resende | D18: =_xlfn.XLOOKUP(Table6234[[#This Row],[No.]],Sheet2!B:B,Sheet2!G:G) -> D037 | E18: =_xlfn.XLOOKUP(Table6234[[#This Row],[No.]],Sheet2!B:B,Sheet2!H:H) -> MOZ | F18: =_xlfn.XLOOKUP(Table6234[[#This Row],[No.]],Sheet2!B:B,Sheet2!D:D) -> TOP | G18: 3 | H18: 0 | I18: 0 | J18: 3 | K18: =SUM(Table6234[[#This Row],[SARMC 1]:[SARMC 4]]) -> 6 | L18: 0 | M18: 0 | N18: 0 | O18: 0 | P18: 0 | Q18: 0 | R18: 24 | S18: 22 | T18: 22 | U18: 0 | V18: 0 | W18: 0 | X18: 0 | Y18: =LARGE((Table6234[[#This Row],[K1]:[Z4]]),1) -> 24 | Z18: =LARGE((Table6234[[#This Row],[K1]:[Z4]]),2) -> 22 | AA18: =LARGE((Table6234[[#This Row],[K1]:[Z4]]),3) -> 22 | AB18: =LARGE((Table6234[[#This Row],[K1]:[Z4]]),4) -> 0 | AC18: =LARGE((Table6234[[#This Row],[K1]:[Z4]]),5) -> 0 | AD18: =LARGE((Table6234[[#This Row],[K1]:[Z4]]),6) -> 0 | AE18: =LARGE((Table6234[[#This Row],[K1]:[Z4]]),7) -> 0 | AF18: =LARGE((Table6234[[#This Row],[K1]:[Z4]]),8) -> 0 | AG18: =LARGE((Table6234[[#This Row],[K1]:[Z4]]),9) -> 0 | AH18: =LARGE((Table6234[[#This Row],[K1]:[Z4]]),10) -> 0 | AI18: =SUM(Y18:AH18) -> 68 | AJ18: =K18+AI18 -> 74
A19: 16 | B19: 90 | C19: Franco Steyn | D19: NMSF | E19: NAM | F19: TOP | G19: 0 | H19: 0 | I19: 0 | J19: 0 | K19: =SUM(Table6234[[#This Row],[SARMC 1]:[SARMC 4]]) -> 0 | L19: 0 | M19: 0 | N19: 0 | O19: 0 | P19: 0 | Q19: 0 | R19: 23 | S19: 21 | T19: 20 | U19: 0 | V19: 0 | W19: 0 | X19: 0 | Y19: =LARGE((Table6234[[#This Row],[K1]:[Z4]]),1) -> 23 | Z19: =LARGE((Table6234[[#This Row],[K1]:[Z4]]),2) -> 21 | AA19: =LARGE((Table6234[[#This Row],[K1]:[Z4]]),3) -> 20 | AB19: =LARGE((Table6234[[#This Row],[K1]:[Z4]]),4) -> 0 | AC19: =LARGE((Table6234[[#This Row],[K1]:[Z4]]),5) -> 0 | AD19: =LARGE((Table6234[[#This Row],[K1]:[Z4]]),6) -> 0 | AE19: =LARGE((Table6234[[#This Row],[K1]:[Z4]]),7) -> 0 | AF19: =LARGE((Table6234[[#This Row],[K1]:[Z4]]),8) -> 0 | AG19: =LARGE((Table6234[[#This Row],[K1]:[Z4]]),9) -> 0 | AH19: =LARGE((Table6234[[#This Row],[K1]:[Z4]]),10) -> 0 | AI19: =SUM(Y19:AH19) -> 64 | AJ19: =K19+AI19 -> 64
A20: 17 | B20: 67 | C20: =_xlfn.XLOOKUP(Table6234[[#This Row],[No.]],Sheet2!B:B,Sheet2!C:C) -> Blake Van Deventer | E20: =_xlfn.XLOOKUP(Table6234[[#This Row],[No.]],Sheet2!B:B,Sheet2!H:H) -> WP | F20: =_xlfn.XLOOKUP(Table6234[[#This Row],[No.]],Sheet2!B:B,Sheet2!D:D) -> TOP | G20: 3 | H20: 3 | I20: 3 | J20: 3 | K20: =SUM(Table6234[[#This Row],[SARMC 1]:[SARMC 4]]) -> 12 | L20: 0 | M20: 0 | N20: 0 | O20: 0 | P20: 0 | Q20: 0 | R20: 0 | S20: 0 | T20: 0 | U20: 0 | V20: 0 | W20: 0 | X20: 0 | Y20: =LARGE((Table6234[[#This Row],[K1]:[Z4]]),1) -> 0 | Z20: =LARGE((Table6234[[#This Row],[K1]:[Z4]]),2) -> 0 | AA20: =LARGE((Table6234[[#This Row],[K1]:[Z4]]),3) -> 0 | AB20: =LARGE((Table6234[[#This Row],[K1]:[Z4]]),4) -> 0 | AC20: =LARGE((Table6234[[#This Row],[K1]:[Z4]]),5) -> 0 | AD20: =LARGE((Table6234[[#This Row],[K1]:[Z4]]),6) -> 0 | AE20: =LARGE((Table6234[[#This Row],[K1]:[Z4]]),7) -> 0 | AF20: =LARGE((Table6234[[#This Row],[K1]:[Z4]]),8) -> 0 | AG20: =LARGE((Table6234[[#This Row],[K1]:[Z4]]),9) -> 0 | AH20: =LARGE((Table6234[[#This Row],[K1]:[Z4]]),10) -> 0 | AI20: =SUM(Y20:AH20) -> 0 | AJ20: =K20+AI20 -> 12
A21: 18 | B21: 93 | C21: =_xlfn.XLOOKUP(Table6234[[#This Row],[No.]],Sheet2!B:B,Sheet2!C:C) -> Sebastian Fletcher | D21: =_xlfn.XLOOKUP(Table6234[[#This Row],[No.]],Sheet2!B:B,Sheet2!G:G) -> 46383 | E21: =_xlfn.XLOOKUP(Table6234[[#This Row],[No.]],Sheet2!B:B,Sheet2!H:H) -> WP | F21: =_xlfn.XLOOKUP(Table6234[[#This Row],[No.]],Sheet2!B:B,Sheet2!D:D) -> TOP | G21: 3 | H21: 3 | I21: 3 | J21: 3 | K21: =SUM(Table6234[[#This Row],[SARMC 1]:[SARMC 4]]) -> 12 | L21: 0 | M21: 0 | N21: 0 | O21: 0 | P21: 0 | Q21: 0 | R21: 0 | S21: 0 | T21: 0 | U21: 0 | V21: 0 | W21: 0 | X21: 0 | Y21: =LARGE((Table6234[[#This Row],[K1]:[Z4]]),1) -> 0 | Z21: =LARGE((Table6234[[#This Row],[K1]:[Z4]]),2) -> 0 | AA21: =LARGE((Table6234[[#This Row],[K1]:[Z4]]),3) -> 0 | AB21: =LARGE((Table6234[[#This Row],[K1]:[Z4]]),4) -> 0 | AC21: =LARGE((Table6234[[#This Row],[K1]:[Z4]]),5) -> 0 | AD21: =LARGE((Table6234[[#This Row],[K1]:[Z4]]),6) -> 0 | AE21: =LARGE((Table6234[[#This Row],[K1]:[Z4]]),7) -> 0 | AF21: =LARGE((Table6234[[#This Row],[K1]:[Z4]]),8) -> 0 | AG21: =LARGE((Table6234[[#This Row],[K1]:[Z4]]),9) -> 0 | AH21: =LARGE((Table6234[[#This Row],[K1]:[Z4]]),10) -> 0 | AI21: =SUM(Y21:AH21) -> 0 | AJ21: =K21+AI21 -> 12
A22: 19 | B22: 76 | C22: Remi Coxon | E22: WP | F22: TOP | G22: 3 | H22: 3 | I22: 3 | J22: 3 | K22: =SUM(Table6234[[#This Row],[SARMC 1]:[SARMC 4]]) -> 12 | L22: 0 | M22: 0 | N22: 0 | O22: 0 | P22: 0 | Q22: 0 | R22: 0 | S22: 0 | T22: 0 | U22: 0 | V22: 0 | W22: 0 | X22: 0 | Y22: =LARGE((Table6234[[#This Row],[K1]:[Z4]]),1) -> 0 | Z22: =LARGE((Table6234[[#This Row],[K1]:[Z4]]),2) -> 0 | AA22: =LARGE((Table6234[[#This Row],[K1]:[Z4]]),3) -> 0 | AB22: =LARGE((Table6234[[#This Row],[K1]:[Z4]]),4) -> 0 | AC22: =LARGE((Table6234[[#This Row],[K1]:[Z4]]),5) -> 0 | AD22: =LARGE((Table6234[[#This Row],[K1]:[Z4]]),6) -> 0 | AE22: =LARGE((Table6234[[#This Row],[K1]:[Z4]]),7) -> 0 | AF22: =LARGE((Table6234[[#This Row],[K1]:[Z4]]),8) -> 0 | AG22: =LARGE((Table6234[[#This Row],[K1]:[Z4]]),9) -> 0 | AH22: =LARGE((Table6234[[#This Row],[K1]:[Z4]]),10) -> 0 | AI22: =SUM(Y22:AH22) -> 0 | AJ22: =K22+AI22 -> 12
A23: 20 | B23: 44 | C23: =_xlfn.XLOOKUP(Table6234[[#This Row],[No.]],Sheet2!B:B,Sheet2!C:C) -> Azlan Singh | D23: =_xlfn.XLOOKUP(Table6234[[#This Row],[No.]],Sheet2!B:B,Sheet2!G:G) -> 46203 | E23: =_xlfn.XLOOKUP(Table6234[[#This Row],[No.]],Sheet2!B:B,Sheet2!H:H) -> KZN | F23: =_xlfn.XLOOKUP(Table6234[[#This Row],[No.]],Sheet2!B:B,Sheet2!D:D) -> TOP | G23: 3 | H23: 3 | I23: 3 | J23: 3 | K23: =SUM(Table6234[[#This Row],[SARMC 1]:[SARMC 4]]) -> 12 | L23: 0 | M23: 0 | N23: 0 | O23: 0 | P23: 0 | Q23: 0 | R23: 0 | S23: 0 | T23: 0 | U23: 0 | V23: 0 | W23: 0 | X23: 0 | Y23: =LARGE((Table6234[[#This Row],[K1]:[Z4]]),1) -> 0 | Z23: =LARGE((Table6234[[#This Row],[K1]:[Z4]]),2) -> 0 | AA23: =LARGE((Table6234[[#This Row],[K1]:[Z4]]),3) -> 0 | AB23: =LARGE((Table6234[[#This Row],[K1]:[Z4]]),4) -> 0 | AC23: =LARGE((Table6234[[#This Row],[K1]:[Z4]]),5) -> 0 | AD23: =LARGE((Table6234[[#This Row],[K1]:[Z4]]),6) -> 0 | AE23: =LARGE((Table6234[[#This Row],[K1]:[Z4]]),7) -> 0 | AF23: =LARGE((Table6234[[#This Row],[K1]:[Z4]]),8) -> 0 | AG23: =LARGE((Table6234[[#This Row],[K1]:[Z4]]),9) -> 0 | AH23: =LARGE((Table6234[[#This Row],[K1]:[Z4]]),10) -> 0 | AI23: =SUM(Y23:AH23) -> 0 | AJ23: =K23+AI23 -> 12
A24: 21 | B24: 78 | C24: =_xlfn.XLOOKUP(Table6234[[#This Row],[No.]],Sheet2!B:B,Sheet2!C:C) -> Jayden Minnie | D24: =_xlfn.XLOOKUP(Table6234[[#This Row],[No.]],Sheet2!B:B,Sheet2!G:G) -> 46146 | E24: =_xlfn.XLOOKUP(Table6234[[#This Row],[No.]],Sheet2!B:B,Sheet2!H:H) -> NR | F24: =_xlfn.XLOOKUP(Table6234[[#This Row],[No.]],Sheet2!B:B,Sheet2!D:D) -> TOP | G24: 3 | H24: 3 | I24: 0 | J24: 3 | K24: =SUM(Table6234[[#This Row],[SARMC 1]:[SARMC 4]]) -> 9 | L24: 0 | M24: 0 | N24: 0 | O24: 0 | P24: 0 | Q24: 0 | R24: 0 | S24: 0 | T24: 0 | U24: 0 | V24: 0 | W24: 0 | X24: 0 | Y24: =LARGE((Table6234[[#This Row],[K1]:[Z4]]),1) -> 0 | Z24: =LARGE((Table6234[[#This Row],[K1]:[Z4]]),2) -> 0 | AA24: =LARGE((Table6234[[#This Row],[K1]:[Z4]]),3) -> 0 | AB24: =LARGE((Table6234[[#This Row],[K1]:[Z4]]),4) -> 0 | AC24: =LARGE((Table6234[[#This Row],[K1]:[Z4]]),5) -> 0 | AD24: =LARGE((Table6234[[#This Row],[K1]:[Z4]]),6) -> 0 | AE24: =LARGE((Table6234[[#This Row],[K1]:[Z4]]),7) -> 0 | AF24: =LARGE((Table6234[[#This Row],[K1]:[Z4]]),8) -> 0 | AG24: =LARGE((Table6234[[#This Row],[K1]:[Z4]]),9) -> 0 | AH24: =LARGE((Table6234[[#This Row],[K1]:[Z4]]),10) -> 0 | AI24: =SUM(Y24:AH24) -> 0 | AJ24: =K24+AI24 -> 9
A25: 22 | B25: 56 | C25: Zeeva Strydom | E25: WP | F25: TOP | G25: 3 | H25: 3 | I25: 3 | J25: 0 | K25: =SUM(Table6234[[#This Row],[SARMC 1]:[SARMC 4]]) -> 9 | L25: 0 | M25: 0 | N25: 0 | O25: 0 | P25: 0 | Q25: 0 | R25: 0 | S25: 0 | T25: 0 | U25: 0 | V25: 0 | W25: 0 | X25: 0 | Y25: =LARGE((Table6234[[#This Row],[K1]:[Z4]]),1) -> 0 | Z25: =LARGE((Table6234[[#This Row],[K1]:[Z4]]),2) -> 0 | AA25: =LARGE((Table6234[[#This Row],[K1]:[Z4]]),3) -> 0 | AB25: =LARGE((Table6234[[#This Row],[K1]:[Z4]]),4) -> 0 | AC25: =LARGE((Table6234[[#This Row],[K1]:[Z4]]),5) -> 0 | AD25: =LARGE((Table6234[[#This Row],[K1]:[Z4]]),6) -> 0 | AE25: =LARGE((Table6234[[#This Row],[K1]:[Z4]]),7) -> 0 | AF25: =LARGE((Table6234[[#This Row],[K1]:[Z4]]),8) -> 0 | AG25: =LARGE((Table6234[[#This Row],[K1]:[Z4]]),9) -> 0 | AH25: =LARGE((Table6234[[#This Row],[K1]:[Z4]]),10) -> 0 | AI25: =SUM(Y25:AH25) -> 0 | AJ25: =K25+AI25 -> 9
A26: 23 | B26: 98 | C26: =_xlfn.XLOOKUP(Table6234[[#This Row],[No.]],Sheet2!B:B,Sheet2!C:C) -> Elijah Fedderke | D26: =_xlfn.XLOOKUP(Table6234[[#This Row],[No.]],Sheet2!B:B,Sheet2!G:G) -> 46383 | E26: =_xlfn.XLOOKUP(Table6234[[#This Row],[No.]],Sheet2!B:B,Sheet2!H:H) -> KZN | F26: =_xlfn.XLOOKUP(Table6234[[#This Row],[No.]],Sheet2!B:B,Sheet2!D:D) -> TOP | G26: 3 | H26: 3 | I26: 3 | J26: 0 | K26: =SUM(Table6234[[#This Row],[SARMC 1]:[SARMC 4]]) -> 9 | L26: 0 | M26: 0 | N26: 0 | O26: 0 | P26: 0 | Q26: 0 | R26: 0 | S26: 0 | T26: 0 | U26: 0 | V26: 0 | W26: 0 | X26: 0 | Y26: =LARGE((Table6234[[#This Row],[K1]:[Z4]]),1) -> 0 | Z26: =LARGE((Table6234[[#This Row],[K1]:[Z4]]),2) -> 0 | AA26: =LARGE((Table6234[[#This Row],[K1]:[Z4]]),3) -> 0 | AB26: =LARGE((Table6234[[#This Row],[K1]:[Z4]]),4) -> 0 | AC26: =LARGE((Table6234[[#This Row],[K1]:[Z4]]),5) -> 0 | AD26: =LARGE((Table6234[[#This Row],[K1]:[Z4]]),6) -> 0 | AE26: =LARGE((Table6234[[#This Row],[K1]:[Z4]]),7) -> 0 | AF26: =LARGE((Table6234[[#This Row],[K1]:[Z4]]),8) -> 0 | AG26: =LARGE((Table6234[[#This Row],[K1]:[Z4]]),9) -> 0 | AH26: =LARGE((Table6234[[#This Row],[K1]:[Z4]]),10) -> 0 | AI26: =SUM(Y26:AH26) -> 0 | AJ26: =K26+AI26 -> 9
A27: 24 | B27: 37 | C27: =_xlfn.XLOOKUP(Table6234[[#This Row],[No.]],Sheet2!B:B,Sheet2!C:C) -> Kganya Mahlakoana | D27: =_xlfn.XLOOKUP(Table6234[[#This Row],[No.]],Sheet2!B:B,Sheet2!G:G) -> 46877 | E27: =_xlfn.XLOOKUP(Table6234[[#This Row],[No.]],Sheet2!B:B,Sheet2!H:H) -> NR | F27: =_xlfn.XLOOKUP(Table6234[[#This Row],[No.]],Sheet2!B:B,Sheet2!D:D) -> TOP | G27: 2 | H27: 0 | I27: 0 | J27: 3 | K27: =SUM(Table6234[[#This Row],[SARMC 1]:[SARMC 4]]) -> 5 | L27: 0 | M27: 0 | N27: 0 | O27: 0 | P27: 0 | Q27: 0 | R27: 0 | S27: 0 | T27: 0 | U27: 0 | V27: 0 | W27: 0 | X27: 0 | Y27: =LARGE((Table6234[[#This Row],[K1]:[Z4]]),1) -> 0 | Z27: =LARGE((Table6234[[#This Row],[K1]:[Z4]]),2) -> 0 | AA27: =LARGE((Table6234[[#This Row],[K1]:[Z4]]),3) -> 0 | AB27: =LARGE((Table6234[[#This Row],[K1]:[Z4]]),4) -> 0 | AC27: =LARGE((Table6234[[#This Row],[K1]:[Z4]]),5) -> 0 | AD27: =LARGE((Table6234[[#This Row],[K1]:[Z4]]),6) -> 0 | AE27: =LARGE((Table6234[[#This Row],[K1]:[Z4]]),7) -> 0 | AF27: =LARGE((Table6234[[#This Row],[K1]:[Z4]]),8) -> 0 | AG27: =LARGE((Table6234[[#This Row],[K1]:[Z4]]),9) -> 0 | AH27: =LARGE((Table6234[[#This Row],[K1]:[Z4]]),10) -> 0 | AI27: =SUM(Y27:AH27) -> 0 | AJ27: =K27+AI27 -> 5
A28: 25 | B28: 27 | C28: =_xlfn.XLOOKUP(Table6234[[#This Row],[No.]],Sheet2!B:B,Sheet2!C:C) -> Zayen Thesan | D28: =_xlfn.XLOOKUP(Table6234[[#This Row],[No.]],Sheet2!B:B,Sheet2!G:G) -> 46875 | E28: =_xlfn.XLOOKUP(Table6234[[#This Row],[No.]],Sheet2!B:B,Sheet2!H:H) -> KZN | F28: =_xlfn.XLOOKUP(Table6234[[#This Row],[No.]],Sheet2!B:B,Sheet2!D:D) -> TOP | G28: 3 | H28: 0 | I28: 0 | J28: 0 | K28: =SUM(Table6234[[#This Row],[SARMC 1]:[SARMC 4]]) -> 3 | L28: 0 | M28: 0 | N28: 0 | O28: 0 | P28: 0 | Q28: 0 | R28: 0 | S28: 0 | T28: 0 | U28: 0 | V28: 0 | W28: 0 | X28: 0 | Y28: =LARGE((Table6234[[#This Row],[K1]:[Z4]]),1) -> 0 | Z28: =LARGE((Table6234[[#This Row],[K1]:[Z4]]),2) -> 0 | AA28: =LARGE((Table6234[[#This Row],[K1]:[Z4]]),3) -> 0 | AB28: =LARGE((Table6234[[#This Row],[K1]:[Z4]]),4) -> 0 | AC28: =LARGE((Table6234[[#This Row],[K1]:[Z4]]),5) -> 0 | AD28: =LARGE((Table6234[[#This Row],[K1]:[Z4]]),6) -> 0 | AE28: =LARGE((Table6234[[#This Row],[K1]:[Z4]]),7) -> 0 | AF28: =LARGE((Table6234[[#This Row],[K1]:[Z4]]),8) -> 0 | AG28: =LARGE((Table6234[[#This Row],[K1]:[Z4]]),9) -> 0 | AH28: =LARGE((Table6234[[#This Row],[K1]:[Z4]]),10) -> 0 | AI28: =SUM(Y28:AH28) -> 0 | AJ28: =K28+AI28 -> 3
A29: 26 | B29: 52 | C29: =_xlfn.XLOOKUP(Table6234[[#This Row],[No.]],Sheet2!B:B,Sheet2!C:C) -> Hayden Allison | D29: 46456 | E29: =_xlfn.XLOOKUP(Table6234[[#This Row],[No.]],Sheet2!B:B,Sheet2!H:H) -> NR | F29: =_xlfn.XLOOKUP(Table6234[[#This Row],[No.]],Sheet2!B:B,Sheet2!D:D) -> TOP | G29: 0 | H29: 3 | I29: 0 | J29: 0 | K29: =SUM(Table6234[[#This Row],[SARMC 1]:[SARMC 4]]) -> 3 | L29: 0 | M29: 0 | N29: 0 | O29: 0 | P29: 0 | Q29: 0 | R29: 0 | S29: 0 | T29: 0 | U29: 0 | V29: 0 | W29: 0 | X29: 0 | Y29: =LARGE((Table6234[[#This Row],[K1]:[Z4]]),1) -> 0 | Z29: =LARGE((Table6234[[#This Row],[K1]:[Z4]]),2) -> 0 | AA29: =LARGE((Table6234[[#This Row],[K1]:[Z4]]),3) -> 0 | AB29: =LARGE((Table6234[[#This Row],[K1]:[Z4]]),4) -> 0 | AC29: =LARGE((Table6234[[#This Row],[K1]:[Z4]]),5) -> 0 | AD29: =LARGE((Table6234[[#This Row],[K1]:[Z4]]),6) -> 0 | AE29: =LARGE((Table6234[[#This Row],[K1]:[Z4]]),7) -> 0 | AF29: =LARGE((Table6234[[#This Row],[K1]:[Z4]]),8) -> 0 | AG29: =LARGE((Table6234[[#This Row],[K1]:[Z4]]),9) -> 0 | AH29: =LARGE((Table6234[[#This Row],[K1]:[Z4]]),10) -> 0 | AI29: =SUM(Y29:AH29) -> 0 | AJ29: =K29+AI29 -> 3
A30: 27 | B30: 17 | C30: Liam Ludwig | E30: WP | F30: TOP | G30: 0 | H30: 0 | I30: 0 | J30: 3 | K30: =SUM(Table6234[[#This Row],[SARMC 1]:[SARMC 4]]) -> 3 | L30: 0 | M30: 0 | N30: 0 | O30: 0 | P30: 0 | Q30: 0 | R30: 0 | S30: 0 | T30: 0 | U30: 0 | V30: 0 | W30: 0 | X30: 0 | Y30: =LARGE((Table6234[[#This Row],[K1]:[Z4]]),1) -> 0 | Z30: =LARGE((Table6234[[#This Row],[K1]:[Z4]]),2) -> 0 | AA30: =LARGE((Table6234[[#This Row],[K1]:[Z4]]),3) -> 0 | AB30: =LARGE((Table6234[[#This Row],[K1]:[Z4]]),4) -> 0 | AC30: =LARGE((Table6234[[#This Row],[K1]:[Z4]]),5) -> 0 | AD30: =LARGE((Table6234[[#This Row],[K1]:[Z4]]),6) -> 0 | AE30: =LARGE((Table6234[[#This Row],[K1]:[Z4]]),7) -> 0 | AF30: =LARGE((Table6234[[#This Row],[K1]:[Z4]]),8) -> 0 | AG30: =LARGE((Table6234[[#This Row],[K1]:[Z4]]),9) -> 0 | AH30: =LARGE((Table6234[[#This Row],[K1]:[Z4]]),10) -> 0 | AI30: =SUM(Y30:AH30) -> 0 | AJ30: =K30+AI30 -> 3
A31: 28 | B31: 30 | C31: Zaydaan Moosajee | D31: 44344 | E31: NR | F31: TOP | G31: 0 | H31: 0 | I31: 0 | J31: 3 | K31: 3 | L31: 0 | M31: 0 | N31: 0 | O31: 0 | P31: 0 | Q31: 0 | R31: 0 | S31: 0 | T31: 0 | U31: 0 | V31: 0 | W31: 0 | X31: 0 | Y31: =LARGE((Table6234[[#This Row],[K1]:[Z4]]),1) -> 0 | Z31: =LARGE((Table6234[[#This Row],[K1]:[Z4]]),2) -> 0 | AA31: =LARGE((Table6234[[#This Row],[K1]:[Z4]]),3) -> 0 | AB31: =LARGE((Table6234[[#This Row],[K1]:[Z4]]),4) -> 0 | AC31: =LARGE((Table6234[[#This Row],[K1]:[Z4]]),5) -> 0 | AD31: =LARGE((Table6234[[#This Row],[K1]:[Z4]]),6) -> 0 | AE31: =LARGE((Table6234[[#This Row],[K1]:[Z4]]),7) -> 0 | AF31: =LARGE((Table6234[[#This Row],[K1]:[Z4]]),8) -> 0 | AG31: =LARGE((Table6234[[#This Row],[K1]:[Z4]]),9) -> 0 | AH31: =LARGE((Table6234[[#This Row],[K1]:[Z4]]),10) -> 0 | AI31: =SUM(Y31:AH31) -> 0 | AJ31: =K31+AI31 -> 3
A32: 29 | B32: 13 | C32: Luke van Zyl | D32: 47890 | E32: NR | F32: TOP | G32: 0 | H32: 0 | I32: 0 | J32: 3 | K32: =SUM(Table6234[[#This Row],[SARMC 1]:[SARMC 4]]) -> 3 | L32: 0 | M32: 0 | N32: 0 | O32: 0 | P32: 0 | Q32: 0 | R32: 0 | S32: 0 | T32: 0 | U32: 0 | V32: 0 | W32: 0 | X32: 0 | Y32: =LARGE((Table6234[[#This Row],[K1]:[Z4]]),1) -> 0 | Z32: =LARGE((Table6234[[#This Row],[K1]:[Z4]]),2) -> 0 | AA32: =LARGE((Table6234[[#This Row],[K1]:[Z4]]),3) -> 0 | AB32: =LARGE((Table6234[[#This Row],[K1]:[Z4]]),4) -> 0 | AC32: =LARGE((Table6234[[#This Row],[K1]:[Z4]]),5) -> 0 | AD32: =LARGE((Table6234[[#This Row],[K1]:[Z4]]),6) -> 0 | AE32: =LARGE((Table6234[[#This Row],[K1]:[Z4]]),7) -> 0 | AF32: =LARGE((Table6234[[#This Row],[K1]:[Z4]]),8) -> 0 | AG32: =LARGE((Table6234[[#This Row],[K1]:[Z4]]),9) -> 0 | AH32: =LARGE((Table6234[[#This Row],[K1]:[Z4]]),10) -> 0 | AI32: =SUM(Y32:AH32) -> 0 | AJ32: =K32+AI32 -> 3
A33: 30 | C33: =_xlfn.XLOOKUP(Table6234[[#This Row],[No.]],Sheet2!B:B,Sheet2!C:C) -> 0 | D33: =_xlfn.XLOOKUP(Table6234[[#This Row],[No.]],Sheet2!B:B,Sheet2!G:G) -> 0 | E33: =_xlfn.XLOOKUP(Table6234[[#This Row],[No.]],Sheet2!B:B,Sheet2!H:H) -> 0 | F33: =_xlfn.XLOOKUP(Table6234[[#This Row],[No.]],Sheet2!B:B,Sheet2!D:D) -> 0 | G33: 0 | H33: 0 | I33: 0 | J33: 0 | K33: =SUM(Table6234[[#This Row],[SARMC 1]:[SARMC 4]]) -> 0 | L33: 0 | M33: 0 | N33: 0 | O33: 0 | P33: 0 | Q33: 0 | R33: 0 | S33: 0 | T33: 0 | U33: 0 | V33: 0 | W33: 0 | X33: 0 | Y33: =LARGE((Table6234[[#This Row],[K1]:[Z4]]),1) -> 0 | Z33: =LARGE((Table6234[[#This Row],[K1]:[Z4]]),2) -> 0 | AA33: =LARGE((Table6234[[#This Row],[K1]:[Z4]]),3) -> 0 | AB33: =LARGE((Table6234[[#This Row],[K1]:[Z4]]),4) -> 0 | AC33: =LARGE((Table6234[[#This Row],[K1]:[Z4]]),5) -> 0 | AD33: =LARGE((Table6234[[#This Row],[K1]:[Z4]]),6) -> 0 | AE33: =LARGE((Table6234[[#This Row],[K1]:[Z4]]),7) -> 0 | AF33: =LARGE((Table6234[[#This Row],[K1]:[Z4]]),8) -> 0 | AG33: =LARGE((Table6234[[#This Row],[K1]:[Z4]]),9) -> 0 | AH33: =LARGE((Table6234[[#This Row],[K1]:[Z4]]),10) -> 0 | AI33: =SUM(Y33:AH33) -> 0 | AJ33: =K33+AI33 -> 0
A34: 31 | C34: =_xlfn.XLOOKUP(Table6234[[#This Row],[No.]],Sheet2!B:B,Sheet2!C:C) -> 0 | D34: =_xlfn.XLOOKUP(Table6234[[#This Row],[No.]],Sheet2!B:B,Sheet2!G:G) -> 0 | E34: =_xlfn.XLOOKUP(Table6234[[#This Row],[No.]],Sheet2!B:B,Sheet2!H:H) -> 0 | F34: =_xlfn.XLOOKUP(Table6234[[#This Row],[No.]],Sheet2!B:B,Sheet2!D:D) -> 0 | G34: 0 | H34: 0 | I34: 0 | J34: 0 | K34: =SUM(Table6234[[#This Row],[SARMC 1]:[SARMC 4]]) -> 0 | L34: 0 | M34: 0 | N34: 0 | O34: 0 | P34: 0 | Q34: 0 | R34: 0 | S34: 0 | T34: 0 | U34: 0 | V34: 0 | W34: 0 | X34: 0 | Y34: =LARGE((Table6234[[#This Row],[K1]:[Z4]]),1) -> 0 | Z34: =LARGE((Table6234[[#This Row],[K1]:[Z4]]),2) -> 0 | AA34: =LARGE((Table6234[[#This Row],[K1]:[Z4]]),3) -> 0 | AB34: =LARGE((Table6234[[#This Row],[K1]:[Z4]]),4) -> 0 | AC34: =LARGE((Table6234[[#This Row],[K1]:[Z4]]),5) -> 0 | AD34: =LARGE((Table6234[[#This Row],[K1]:[Z4]]),6) -> 0 | AE34: =LARGE((Table6234[[#This Row],[K1]:[Z4]]),7) -> 0 | AF34: =LARGE((Table6234[[#This Row],[K1]:[Z4]]),8) -> 0 | AG34: =LARGE((Table6234[[#This Row],[K1]:[Z4]]),9) -> 0 | AH34: =LARGE((Table6234[[#This Row],[K1]:[Z4]]),10) -> 0 | AI34: =SUM(Y34:AH34) -> 0 | AJ34: =K34+AI34 -> 0
A35: 32 | C35: =_xlfn.XLOOKUP(Table6234[[#This Row],[No.]],Sheet2!B:B,Sheet2!C:C) -> 0 | D35: =_xlfn.XLOOKUP(Table6234[[#This Row],[No.]],Sheet2!B:B,Sheet2!G:G) -> 0 | E35: =_xlfn.XLOOKUP(Table6234[[#This Row],[No.]],Sheet2!B:B,Sheet2!H:H) -> 0 | F35: =_xlfn.XLOOKUP(Table6234[[#This Row],[No.]],Sheet2!B:B,Sheet2!D:D) -> 0 | G35: 0 | H35: 0 | I35: 0 | J35: 0 | K35: =SUM(Table6234[[#This Row],[SARMC 1]:[SARMC 4]]) -> 0 | L35: 0 | M35: 0 | N35: 0 | O35: 0 | P35: 0 | Q35: 0 | R35: 0 | S35: 0 | T35: 0 | U35: 0 | V35: 0 | W35: 0 | X35: 0 | Y35: =LARGE((Table6234[[#This Row],[K1]:[Z4]]),1) -> 0 | Z35: =LARGE((Table6234[[#This Row],[K1]:[Z4]]),2) -> 0 | AA35: =LARGE((Table6234[[#This Row],[K1]:[Z4]]),3) -> 0 | AB35: =LARGE((Table6234[[#This Row],[K1]:[Z4]]),4) -> 0 | AC35: =LARGE((Table6234[[#This Row],[K1]:[Z4]]),5) -> 0 | AD35: =LARGE((Table6234[[#This Row],[K1]:[Z4]]),6) -> 0 | AE35: =LARGE((Table6234[[#This Row],[K1]:[Z4]]),7) -> 0 | AF35: =LARGE((Table6234[[#This Row],[K1]:[Z4]]),8) -> 0 | AG35: =LARGE((Table6234[[#This Row],[K1]:[Z4]]),9) -> 0 | AH35: =LARGE((Table6234[[#This Row],[K1]:[Z4]]),10) -> 0 | AI35: =SUM(Y35:AH35) -> 0 | AJ35: =K35+AI35 -> 0
A36: 33 | C36: =_xlfn.XLOOKUP(Table6234[[#This Row],[No.]],Sheet2!B:B,Sheet2!C:C) -> 0 | D36: =_xlfn.XLOOKUP(Table6234[[#This Row],[No.]],Sheet2!B:B,Sheet2!G:G) -> 0 | E36: =_xlfn.XLOOKUP(Table6234[[#This Row],[No.]],Sheet2!B:B,Sheet2!H:H) -> 0 | F36: =_xlfn.XLOOKUP(Table6234[[#This Row],[No.]],Sheet2!B:B,Sheet2!D:D) -> 0 | G36: 0 | H36: 0 | I36: 0 | J36: 0 | K36: =SUM(Table6234[[#This Row],[SARMC 1]:[SARMC 4]]) -> 0 | L36: 0 | M36: 0 | N36: 0 | O36: 0 | P36: 0 | Q36: 0 | R36: 0 | S36: 0 | T36: 0 | U36: 0 | V36: 0 | W36: 0 | X36: 0 | Y36: =LARGE((Table6234[[#This Row],[K1]:[Z4]]),1) -> 0 | Z36: =LARGE((Table6234[[#This Row],[K1]:[Z4]]),2) -> 0 | AA36: =LARGE((Table6234[[#This Row],[K1]:[Z4]]),3) -> 0 | AB36: =LARGE((Table6234[[#This Row],[K1]:[Z4]]),4) -> 0 | AC36: =LARGE((Table6234[[#This Row],[K1]:[Z4]]),5) -> 0 | AD36: =LARGE((Table6234[[#This Row],[K1]:[Z4]]),6) -> 0 | AE36: =LARGE((Table6234[[#This Row],[K1]:[Z4]]),7) -> 0 | AF36: =LARGE((Table6234[[#This Row],[K1]:[Z4]]),8) -> 0 | AG36: =LARGE((Table6234[[#This Row],[K1]:[Z4]]),9) -> 0 | AH36: =LARGE((Table6234[[#This Row],[K1]:[Z4]]),10) -> 0 | AI36: =SUM(Y36:AH36) -> 0 | AJ36: =K36+AI36 -> 0
A37: 34 | C37: =_xlfn.XLOOKUP(Table6234[[#This Row],[No.]],Sheet2!B:B,Sheet2!C:C) -> 0 | D37: =_xlfn.XLOOKUP(Table6234[[#This Row],[No.]],Sheet2!B:B,Sheet2!G:G) -> 0 | E37: =_xlfn.XLOOKUP(Table6234[[#This Row],[No.]],Sheet2!B:B,Sheet2!H:H) -> 0 | F37: =_xlfn.XLOOKUP(Table6234[[#This Row],[No.]],Sheet2!B:B,Sheet2!D:D) -> 0 | G37: 0 | H37: 0 | I37: 0 | J37: 0 | K37: =SUM(Table6234[[#This Row],[SARMC 1]:[SARMC 4]]) -> 0 | L37: 0 | M37: 0 | N37: 0 | O37: 0 | P37: 0 | Q37: 0 | R37: 0 | S37: 0 | T37: 0 | U37: 0 | V37: 0 | W37: 0 | X37: 0 | Y37: =LARGE((Table6234[[#This Row],[K1]:[Z4]]),1) -> 0 | Z37: =LARGE((Table6234[[#This Row],[K1]:[Z4]]),2) -> 0 | AA37: =LARGE((Table6234[[#This Row],[K1]:[Z4]]),3) -> 0 | AB37: =LARGE((Table6234[[#This Row],[K1]:[Z4]]),4) -> 0 | AC37: =LARGE((Table6234[[#This Row],[K1]:[Z4]]),5) -> 0 | AD37: =LARGE((Table6234[[#This Row],[K1]:[Z4]]),6) -> 0 | AE37: =LARGE((Table6234[[#This Row],[K1]:[Z4]]),7) -> 0 | AF37: =LARGE((Table6234[[#This Row],[K1]:[Z4]]),8) -> 0 | AG37: =LARGE((Table6234[[#This Row],[K1]:[Z4]]),9) -> 0 | AH37: =LARGE((Table6234[[#This Row],[K1]:[Z4]]),10) -> 0 | AI37: =SUM(Y37:AH37) -> 0 | AJ37: =K37+AI37 -> 0
A38: 35 | C38: =_xlfn.XLOOKUP(Table6234[[#This Row],[No.]],Sheet2!B:B,Sheet2!C:C) -> 0 | D38: =_xlfn.XLOOKUP(Table6234[[#This Row],[No.]],Sheet2!B:B,Sheet2!G:G) -> 0 | E38: =_xlfn.XLOOKUP(Table6234[[#This Row],[No.]],Sheet2!B:B,Sheet2!H:H) -> 0 | F38: =_xlfn.XLOOKUP(Table6234[[#This Row],[No.]],Sheet2!B:B,Sheet2!D:D) -> 0 | G38: 0 | H38: 0 | I38: 0 | J38: 0 | K38: =SUM(Table6234[[#This Row],[SARMC 1]:[SARMC 4]]) -> 0 | L38: 0 | M38: 0 | N38: 0 | O38: 0 | P38: 0 | Q38: 0 | R38: 0 | S38: 0 | T38: 0 | U38: 0 | V38: 0 | W38: 0 | X38: 0 | Y38: =LARGE((Table6234[[#This Row],[K1]:[Z4]]),1) -> 0 | Z38: =LARGE((Table6234[[#This Row],[K1]:[Z4]]),2) -> 0 | AA38: =LARGE((Table6234[[#This Row],[K1]:[Z4]]),3) -> 0 | AB38: =LARGE((Table6234[[#This Row],[K1]:[Z4]]),4) -> 0 | AC38: =LARGE((Table6234[[#This Row],[K1]:[Z4]]),5) -> 0 | AD38: =LARGE((Table6234[[#This Row],[K1]:[Z4]]),6) -> 0 | AE38: =LARGE((Table6234[[#This Row],[K1]:[Z4]]),7) -> 0 | AF38: =LARGE((Table6234[[#This Row],[K1]:[Z4]]),8) -> 0 | AG38: =LARGE((Table6234[[#This Row],[K1]:[Z4]]),9) -> 0 | AH38: =LARGE((Table6234[[#This Row],[K1]:[Z4]]),10) -> 0 | AI38: =SUM(Y38:AH38) -> 0 | AJ38: =K38+AI38 -> 0
C39: Provisional subject to MSA | M39: =(COUNTIF(L4:L38,">0")) -> 9 | P39: =(COUNTIF(O4:O38,">0")) -> 11 | S39: =(COUNTIF(R4:R38,">0")) -> 15 | V39: =(COUNTIF(U4:U38,">0")) -> 11

Sheet MICRO MAX
A1: #VALUE!
A2: #VALUE! | G2: REGIONAL | L2: KILLARNEY | O2: FK | R2: ZIKR | U2: ZWARTKOPS | Y2: BEST NATIONAL POINTS | AI2: TOTAL | AJ2: FINAL
A3: Rnk | B3: No. | C3: Name | D3: License # | E3: Region | F3: Chassis | G3: SARMC 1 | H3: SARMC 2 | I3: SARMC 3 | J3: SARMC 4 | K3: Total Bonus | L3: K1 | M3: K2 | N3: K3 | O3: FK1 | P3: FK2 | Q3: FK3 | R3: Z1 | S3: Z2 | T3: Z3 | U3: Z1' | V3: Z2' | W3: Z3' | X3: Z4 | Y3: 1 | Z3: 2 | AA3: 3 | AB3: 4 | AC3: 5 | AD3: 6 | AE3: 7 | AF3: 8 | AG3: 9 | AH3: 10 | AI3: National | AJ3: TOTAL
A4: 1 | B4: 623 | C4: Radhi Harris | D4: 37271 | E4: NR | F4: CRG | G4: 3 | H4: 3 | I4: 3 | J4: 3 | K4: =SUM(Table623[[#This Row],[SARMC 1]:[SARMC 4]]) -> 12 | L4: 32 | M4: 35 | N4: 32 | O4: 35 | P4: 35 | Q4: 35 | R4: 35 | S4: 35 | T4: 35 | U4: 35 | V4: 35 | W4: 32 | X4: excl | Y4: =LARGE((Table623[[#This Row],[K1]:[Z4]]),1) -> 35 | Z4: =LARGE((Table623[[#This Row],[K1]:[Z4]]),2) -> 35 | AA4: =LARGE((Table623[[#This Row],[K1]:[Z4]]),3) -> 35 | AB4: =LARGE((Table623[[#This Row],[K1]:[Z4]]),4) -> 35 | AC4: =LARGE((Table623[[#This Row],[K1]:[Z4]]),5) -> 35 | AD4: =LARGE((Table623[[#This Row],[K1]:[Z4]]),6) -> 35 | AE4: =LARGE((Table623[[#This Row],[K1]:[Z4]]),7) -> 35 | AF4: =LARGE((Table623[[#This Row],[K1]:[Z4]]),8) -> 35 | AG4: =LARGE((Table623[[#This Row],[K1]:[Z4]]),9) -> 35 | AH4: =LARGE((Table623[[#This Row],[K1]:[Z4]]),10) -> 32 | AI4: =SUM(Y4:AH4) -> 347 | AJ4: =K4+AI4 -> 359
A5: 2 | B5: 699 | C5: Slater Smith | D5: 33804 | E5: WP | F5: CRG | G5: 3 | H5: 3 | I5: 3 | J5: 3 | K5: =SUM(Table623[[#This Row],[SARMC 1]:[SARMC 4]]) -> 12 | L5: 35 | M5: 30 | N5: 35 | O5: 27 | P5: 28 | Q5: 30 | R5: 25 | S5: 29 | T5: 32 | U5: 32 | V5: 29 | W5: 30 | X5: 35 | Y5: =LARGE((Table623[[#This Row],[K1]:[Z4]]),1) -> 35 | Z5: =LARGE((Table623[[#This Row],[K1]:[Z4]]),2) -> 35 | AA5: =LARGE((Table623[[#This Row],[K1]:[Z4]]),3) -> 35 | AB5: =LARGE((Table623[[#This Row],[K1]:[Z4]]),4) -> 32 | AC5: =LARGE((Table623[[#This Row],[K1]:[Z4]]),5) -> 32 | AD5: =LARGE((Table623[[#This Row],[K1]:[Z4]]),6) -> 30 | AE5: =LARGE((Table623[[#This Row],[K1]:[Z4]]),7) -> 30 | AF5: =LARGE((Table623[[#This Row],[K1]:[Z4]]),8) -> 30 | AG5: =LARGE((Table623[[#This Row],[K1]:[Z4]]),9) -> 29 | AH5: =LARGE((Table623[[#This Row],[K1]:[Z4]]),10) -> 29 | AI5: =SUM(Y5:AH5) -> 317 | AJ5: =K5+AI5 -> 329
A6: 3 | B6: 646 | C6: Alonzo De Oliveira | D6: 37426 | E6: NR | F6: PAROLIN | G6: 3 | H6: 3 | I6: 3 | J6: 3 | K6: =SUM(Table623[[#This Row],[SARMC 1]:[SARMC 4]]) -> 12 | L6: 28 | M6: 26 | N6: 28 | O6: 32 | P6: 32 | Q6: 32 | R6: 32 | S6: 30 | T6: 30 | U6: 26 | V6: 25 | W6: 27 | X6: 29 | Y6: =LARGE((Table623[[#This Row],[K1]:[Z4]]),1) -> 32 | Z6: =LARGE((Table623[[#This Row],[K1]:[Z4]]),2) -> 32 | AA6: =LARGE((Table623[[#This Row],[K1]:[Z4]]),3) -> 32 | AB6: =LARGE((Table623[[#This Row],[K1]:[Z4]]),4) -> 32 | AC6: =LARGE((Table623[[#This Row],[K1]:[Z4]]),5) -> 30 | AD6: =LARGE((Table623[[#This Row],[K1]:[Z4]]),6) -> 30 | AE6: =LARGE((Table623[[#This Row],[K1]:[Z4]]),7) -> 29 | AF6: =LARGE((Table623[[#This Row],[K1]:[Z4]]),8) -> 28 | AG6: =LARGE((Table623[[#This Row],[K1]:[Z4]]),9) -> 28 | AH6: =LARGE((Table623[[#This Row],[K1]:[Z4]]),10) -> 27 | AI6: =SUM(Y6:AH6) -> 300 | AJ6: =K6+AI6 -> 312
A7: 4 | B7: 664 | C7: Jordan Jurgens | D7: 34339 | E7: NR | F7: PAROLIN | G7: 3 | H7: 3 | I7: 3 | J7: 3 | K7: =SUM(Table623[[#This Row],[SARMC 1]:[SARMC 4]]) -> 12 | L7: 25 | M7: 25 | N7: 26 | O7: 30 | P7: 29 | Q7: 28 | R7: 28 | S7: 32 | T7: 29 | U7: 28 | V7: 28 | W7: 25 | X7: 30 | Y7: =LARGE((Table623[[#This Row],[K1]:[Z4]]),1) -> 32 | Z7: =LARGE((Table623[[#This Row],[K1]:[Z4]]),2) -> 30 | AA7: =LARGE((Table623[[#This Row],[K1]:[Z4]]),3) -> 30 | AB7: =LARGE((Table623[[#This Row],[K1]:[Z4]]),4) -> 29 | AC7: =LARGE((Table623[[#This Row],[K1]:[Z4]]),5) -> 29 | AD7: =LARGE((Table623[[#This Row],[K1]:[Z4]]),6) -> 28 | AE7: =LARGE((Table623[[#This Row],[K1]:[Z4]]),7) -> 28 | AF7: =LARGE((Table623[[#This Row],[K1]:[Z4]]),8) -> 28 | AG7: =LARGE((Table623[[#This Row],[K1]:[Z4]]),9) -> 28 | AH7: =LARGE((Table623[[#This Row],[K1]:[Z4]]),10) -> 26 | AI7: =SUM(Y7:AH7) -> 288 | AJ7: =K7+AI7 -> 300
A8: 5 | B8: 621 | C8: Teresa Bettencourt | D8: ATCM1026 | E8: MOZ | F8: CRG | G8: 3 | H8: 3 | I8: 3 | J8: 3 | K8: =SUM(Table623[[#This Row],[SARMC 1]:[SARMC 4]]) -> 12 | L8: 19 | M8: 21 | N8: 23 | O8: 28 | P8: 30 | Q8: 29 | R8: 24 | S8: 27 | T8: 26 | U8: 30 | V8: 30 | W8: 35 | X8: 21 | Y8: =LARGE((Table623[[#This Row],[K1]:[Z4]]),1) -> 35 | Z8: =LARGE((Table623[[#This Row],[K1]:[Z4]]),2) -> 30 | AA8: =LARGE((Table623[[#This Row],[K1]:[Z4]]),3) -> 30 | AB8: =LARGE((Table623[[#This Row],[K1]:[Z4]]),4) -> 30 | AC8: =LARGE((Table623[[#This Row],[K1]:[Z4]]),5) -> 29 | AD8: =LARGE((Table623[[#This Row],[K1]:[Z4]]),6) -> 28 | AE8: =LARGE((Table623[[#This Row],[K1]:[Z4]]),7) -> 27 | AF8: =LARGE((Table623[[#This Row],[K1]:[Z4]]),8) -> 26 | AG8: =LARGE((Table623[[#This Row],[K1]:[Z4]]),9) -> 24 | AH8: =LARGE((Table623[[#This Row],[K1]:[Z4]]),10) -> 23 | AI8: =SUM(Y8:AH8) -> 282 | AJ8: =K8+AI8 -> 294
A9: 6 | B9: 617 | C9: Rofhiwa Ndwambi | D9: 42864 | E9: NR | F9: KR | G9: 3 | H9: 3 | I9: 3 | J9: 3 | K9: =SUM(Table623[[#This Row],[SARMC 1]:[SARMC 4]]) -> 12 | L9: 26 | M9: 28 | N9: 27 | O9: 29 | P9: 27 | Q9: 25 | R9: 29 | S9: 23 | T9: 28 | U9: 22 | V9: 21 | W9: 20 | X9: 26 | Y9: =LARGE((Table623[[#This Row],[K1]:[Z4]]),1) -> 29 | Z9: =LARGE((Table623[[#This Row],[K1]:[Z4]]),2) -> 29 | AA9: =LARGE((Table623[[#This Row],[K1]:[Z4]]),3) -> 28 | AB9: =LARGE((Table623[[#This Row],[K1]:[Z4]]),4) -> 28 | AC9: =LARGE((Table623[[#This Row],[K1]:[Z4]]),5) -> 27 | AD9: =LARGE((Table623[[#This Row],[K1]:[Z4]]),6) -> 27 | AE9: =LARGE((Table623[[#This Row],[K1]:[Z4]]),7) -> 26 | AF9: =LARGE((Table623[[#This Row],[K1]:[Z4]]),8) -> 26 | AG9: =LARGE((Table623[[#This Row],[K1]:[Z4]]),9) -> 25 | AH9: =LARGE((Table623[[#This Row],[K1]:[Z4]]),10) -> 23 | AI9: =SUM(Y9:AH9) -> 268 | AJ9: =K9+AI9 -> 280
A10: 7 | B10: 641 | C10: Aston Verheul | D10: 37524 | E10: NR | F10: CRG | G10: 3 | H10: 3 | I10: 3 | J10: 3 | K10: =SUM(Table623[[#This Row],[SARMC 1]:[SARMC 4]]) -> 12 | L10: 23 | M10: 23 | N10: 21 | O10: 24 | P10: 25 | Q10: 24 | R10: 27 | S10: 28 | T10: 15 | U10: 27 | V10: 27 | W10: 28 | X10: 32 | Y10: =LARGE((Table623[[#This Row],[K1]:[Z4]]),1) -> 32 | Z10: =LARGE((Table623[[#This Row],[K1]:[Z4]]),2) -> 28 | AA10: =LARGE((Table623[[#This Row],[K1]:[Z4]]),3) -> 28 | AB10: =LARGE((Table623[[#This Row],[K1]:[Z4]]),4) -> 27 | AC10: =LARGE((Table623[[#This Row],[K1]:[Z4]]),5) -> 27 | AD10: =LARGE((Table623[[#This Row],[K1]:[Z4]]),6) -> 27 | AE10: =LARGE((Table623[[#This Row],[K1]:[Z4]]),7) -> 25 | AF10: =LARGE((Table623[[#This Row],[K1]:[Z4]]),8) -> 24 | AG10: =LARGE((Table623[[#This Row],[K1]:[Z4]]),9) -> 24 | AH10: =LARGE((Table623[[#This Row],[K1]:[Z4]]),10) -> 23 | AI10: =SUM(Y10:AH10) -> 265 | AJ10: =K10+AI10 -> 277
A11: 8 | B11: 619 | C11: Zwothe Magoda | D11: 45247 | E11: NR | F11: CRG | G11: 3 | H11: 3 | I11: 3 | J11: 3 | K11: =SUM(Table623[[#This Row],[SARMC 1]:[SARMC 4]]) -> 12 | L11: 24 | M11: 20 | N11: 22 | O11: 23 | P11: 23 | Q11: 26 | R11: 23 | S11: 24 | T11: 27 | U11: 29 | V11: 32 | W11: 29 | X11: 23 | Y11: =LARGE((Table623[[#This Row],[K1]:[Z4]]),1) -> 32 | Z11: =LARGE((Table623[[#This Row],[K1]:[Z4]]),2) -> 29 | AA11: =LARGE((Table623[[#This Row],[K1]:[Z4]]),3) -> 29 | AB11: =LARGE((Table623[[#This Row],[K1]:[Z4]]),4) -> 27 | AC11: =LARGE((Table623[[#This Row],[K1]:[Z4]]),5) -> 26 | AD11: =LARGE((Table623[[#This Row],[K1]:[Z4]]),6) -> 24 | AE11: =LARGE((Table623[[#This Row],[K1]:[Z4]]),7) -> 24 | AF11: =LARGE((Table623[[#This Row],[K1]:[Z4]]),8) -> 23 | AG11: =LARGE((Table623[[#This Row],[K1]:[Z4]]),9) -> 23 | AH11: =LARGE((Table623[[#This Row],[K1]:[Z4]]),10) -> 23 | AI11: =SUM(Y11:AH11) -> 260 | AJ11: =K11+AI11 -> 272
A12: 9 | B12: 672 | C12: Thendo Mulaudzi | D12: 46064 | E12: NR | F12: CRG | G12: 3 | H12: 3 | I12: 3 | J12: 3 | K12: =SUM(Table623[[#This Row],[SARMC 1]:[SARMC 4]]) -> 12 | L12: 20 | M12: 24 | N12: 20 | O12: 25 | P12: 24 | Q12: 22 | R12: 30 | S12: 17 | T12: 24 | U12: 25 | V12: 26 | W12: 26 | X12: 28 | Y12: =LARGE((Table623[[#This Row],[K1]:[Z4]]),1) -> 30 | Z12: =LARGE((Table623[[#This Row],[K1]:[Z4]]),2) -> 28 | AA12: =LARGE((Table623[[#This Row],[K1]:[Z4]]),3) -> 26 | AB12: =LARGE((Table623[[#This Row],[K1]:[Z4]]),4) -> 26 | AC12: =LARGE((Table623[[#This Row],[K1]:[Z4]]),5) -> 25 | AD12: =LARGE((Table623[[#This Row],[K1]:[Z4]]),6) -> 25 | AE12: =LARGE((Table623[[#This Row],[K1]:[Z4]]),7) -> 24 | AF12: =LARGE((Table623[[#This Row],[K1]:[Z4]]),8) -> 24 | AG12: =LARGE((Table623[[#This Row],[K1]:[Z4]]),9) -> 24 | AH12: =LARGE((Table623[[#This Row],[K1]:[Z4]]),10) -> 22 | AI12: =SUM(Y12:AH12) -> 254 | AJ12: =K12+AI12 -> 266
A13: 10 | B13: 620 | C13: Nicholas Fleming | D13: 45645 | E13: NR | F13: LN | G13: 3 | H13: 3 | I13: 3 | J13: 0 | K13: =SUM(Table623[[#This Row],[SARMC 1]:[SARMC 4]]) -> 9 | L13: 0 | M13: 0 | N13: 0 | O13: 26 | P13: 26 | Q13: 27 | R13: 26 | S13: 25 | T13: 25 | U13: 23 | V13: 24 | W13: 23 | X13: 24 | Y13: =LARGE((Table623[[#This Row],[K1]:[Z4]]),1) -> 27 | Z13: =LARGE((Table623[[#This Row],[K1]:[Z4]]),2) -> 26 | AA13: =LARGE((Table623[[#This Row],[K1]:[Z4]]),3) -> 26 | AB13: =LARGE((Table623[[#This Row],[K1]:[Z4]]),4) -> 26 | AC13: =LARGE((Table623[[#This Row],[K1]:[Z4]]),5) -> 25 | AD13: =LARGE((Table623[[#This Row],[K1]:[Z4]]),6) -> 25 | AE13: =LARGE((Table623[[#This Row],[K1]:[Z4]]),7) -> 24 | AF13: =LARGE((Table623[[#This Row],[K1]:[Z4]]),8) -> 24 | AG13: =LARGE((Table623[[#This Row],[K1]:[Z4]]),9) -> 23 | AH13: =LARGE((Table623[[#This Row],[K1]:[Z4]]),10) -> 23 | AI13: =SUM(Y13:AH13) -> 249 | AJ13: =K13+AI13 -> 258
A14: 11 | B14: 662 | C14: Yaseen Panday | D14: 44567 | E14: WP | F14: CRG | G14: 2 | H14: 3 | I14: 3 | J14: 3 | K14: =SUM(Table623[[#This Row],[SARMC 1]:[SARMC 4]]) -> 11 | L14: 27 | M14: 22 | N14: 25 | O14: 22 | P14: 22 | Q14: 0 | R14: 21 | S14: 17 | T14: 22 | U14: 24 | V14: 23 | W14: 24 | X14: 25 | Y14: =LARGE((Table623[[#This Row],[K1]:[Z4]]),1) -> 27 | Z14: =LARGE((Table623[[#This Row],[K1]:[Z4]]),2) -> 25 | AA14: =LARGE((Table623[[#This Row],[K1]:[Z4]]),3) -> 25 | AB14: =LARGE((Table623[[#This Row],[K1]:[Z4]]),4) -> 24 | AC14: =LARGE((Table623[[#This Row],[K1]:[Z4]]),5) -> 24 | AD14: =LARGE((Table623[[#This Row],[K1]:[Z4]]),6) -> 23 | AE14: =LARGE((Table623[[#This Row],[K1]:[Z4]]),7) -> 22 | AF14: =LARGE((Table623[[#This Row],[K1]:[Z4]]),8) -> 22 | AG14: =LARGE((Table623[[#This Row],[K1]:[Z4]]),9) -> 22 | AH14: =LARGE((Table623[[#This Row],[K1]:[Z4]]),10) -> 22 | AI14: =SUM(Y14:AH14) -> 236 | AJ14: =K14+AI14 -> 247
A15: 12 | B15: 624 | C15: Muhluri Ngobeni | D15: 6224 | E15: NR | F15: CRG | G15: 3 | H15: 3 | I15: 3 | J15: 3 | K15: =SUM(Table623[[#This Row],[SARMC 1]:[SARMC 4]]) -> 12 | L15: 0 | M15: 0 | N15: 0 | O15: 21 | P15: 21 | Q15: 23 | R15: 22 | S15: 26 | T15: 23 | U15: 21 | V15: 22 | W15: 22 | X15: 27 | Y15: =LARGE((Table623[[#This Row],[K1]:[Z4]]),1) -> 27 | Z15: =LARGE((Table623[[#This Row],[K1]:[Z4]]),2) -> 26 | AA15: =LARGE((Table623[[#This Row],[K1]:[Z4]]),3) -> 23 | AB15: =LARGE((Table623[[#This Row],[K1]:[Z4]]),4) -> 23 | AC15: =LARGE((Table623[[#This Row],[K1]:[Z4]]),5) -> 22 | AD15: =LARGE((Table623[[#This Row],[K1]:[Z4]]),6) -> 22 | AE15: =LARGE((Table623[[#This Row],[K1]:[Z4]]),7) -> 22 | AF15: =LARGE((Table623[[#This Row],[K1]:[Z4]]),8) -> 21 | AG15: =LARGE((Table623[[#This Row],[K1]:[Z4]]),9) -> 21 | AH15: =LARGE((Table623[[#This Row],[K1]:[Z4]]),10) -> 21 | AI15: =SUM(Y15:AH15) -> 228 | AJ15: =K15+AI15 -> 240
A16: 13 | B16: 636 | C16: Lehan Fourie | D16: 0000 | E16: WP | F16: TONY | G16: 3 | H16: 3 | I16: 3 | J16: 3 | K16: =SUM(Table623[[#This Row],[SARMC 1]:[SARMC 4]]) -> 12 | L16: 30 | M16: 32 | N16: 30 | O16: 0 | P16: 0 | Q16: 0 | R16: 0 | S16: 0 | T16: 0 | U16: 0 | V16: 0 | W16: 0 | X16: 0 | Y16: =LARGE((Table623[[#This Row],[K1]:[Z4]]),1) -> 32 | Z16: =LARGE((Table623[[#This Row],[K1]:[Z4]]),2) -> 30 | AA16: =LARGE((Table623[[#This Row],[K1]:[Z4]]),3) -> 30 | AB16: =LARGE((Table623[[#This Row],[K1]:[Z4]]),4) -> 0 | AC16: =LARGE((Table623[[#This Row],[K1]:[Z4]]),5) -> 0 | AD16: =LARGE((Table623[[#This Row],[K1]:[Z4]]),6) -> 0 | AE16: =LARGE((Table623[[#This Row],[K1]:[Z4]]),7) -> 0 | AF16: =LARGE((Table623[[#This Row],[K1]:[Z4]]),8) -> 0 | AG16: =LARGE((Table623[[#This Row],[K1]:[Z4]]),9) -> 0 | AH16: =LARGE((Table623[[#This Row],[K1]:[Z4]]),10) -> 0 | AI16: =SUM(Y16:AH16) -> 92 | AJ16: =K16+AI16 -> 104
A17: 14 | B17: 633 | C17: Caleb Lingeveldt | D17: 202500003186 | E17: WP | F17: CRG | G17: 3 | H17: 3 | I17: 3 | J17: 3 | K17: =SUM(Table623[[#This Row],[SARMC 1]:[SARMC 4]]) -> 12 | L17: 29 | M17: 29 | N17: 29 | O17: 0 | P17: 0 | Q17: 0 | R17: 0 | S17: 0 | T17: 0 | U17: 0 | V17: 0 | W17: 0 | X17: 0 | Y17: =LARGE((Table623[[#This Row],[K1]:[Z4]]),1) -> 29 | Z17: =LARGE((Table623[[#This Row],[K1]:[Z4]]),2) -> 29 | AA17: =LARGE((Table623[[#This Row],[K1]:[Z4]]),3) -> 29 | AB17: =LARGE((Table623[[#This Row],[K1]:[Z4]]),4) -> 0 | AC17: =LARGE((Table623[[#This Row],[K1]:[Z4]]),5) -> 0 | AD17: =LARGE((Table623[[#This Row],[K1]:[Z4]]),6) -> 0 | AE17: =LARGE((Table623[[#This Row],[K1]:[Z4]]),7) -> 0 | AF17: =LARGE((Table623[[#This Row],[K1]:[Z4]]),8) -> 0 | AG17: =LARGE((Table623[[#This Row],[K1]:[Z4]]),9) -> 0 | AH17: =LARGE((Table623[[#This Row],[K1]:[Z4]]),10) -> 0 | AI17: =SUM(Y17:AH17) -> 87 | AJ17: =K17+AI17 -> 99
A18: 15 | B18: 651 | C18: Ethan Zitha | E18: NR | F18: FK | G18: 0 | H18: 0 | I18: 0 | J18: 0 | K18: =SUM(Table623[[#This Row],[SARMC 1]:[SARMC 4]]) -> 0 | L18: 0 | M18: 0 | N18: 0 | O18: 0 | P18: 0 | Q18: 0 | R18: 0 | S18: 0 | T18: 0 | U18: 20 | V18: 20 | W18: 21 | X18: 22 | Y18: =LARGE((Table623[[#This Row],[K1]:[Z4]]),1) -> 22 | Z18: =LARGE((Table623[[#This Row],[K1]:[Z4]]),2) -> 21 | AA18: =LARGE((Table623[[#This Row],[K1]:[Z4]]),3) -> 20 | AB18: =LARGE((Table623[[#This Row],[K1]:[Z4]]),4) -> 20 | AC18: =LARGE((Table623[[#This Row],[K1]:[Z4]]),5) -> 0 | AD18: =LARGE((Table623[[#This Row],[K1]:[Z4]]),6) -> 0 | AE18: =LARGE((Table623[[#This Row],[K1]:[Z4]]),7) -> 0 | AF18: =LARGE((Table623[[#This Row],[K1]:[Z4]]),8) -> 0 | AG18: =LARGE((Table623[[#This Row],[K1]:[Z4]]),9) -> 0 | AH18: =LARGE((Table623[[#This Row],[K1]:[Z4]]),10) -> 0 | AI18: =SUM(Y18:AH18) -> 83 | AJ18: =K18+AI18 -> 83
A19: 16 | B19: 654 | C19: Juan Stander | D19: 45996 | E19: WP | F19: PRAGA | G19: 3 | H19: 0 | I19: 0 | J19: 0 | K19: =SUM(Table623[[#This Row],[SARMC 1]:[SARMC 4]]) -> 3 | L19: 21 | M19: 27 | N19: 24 | O19: 0 | P19: 0 | Q19: 0 | R19: 0 | S19: 0 | T19: 0 | U19: 0 | V19: 0 | W19: 0 | X19: 0 | Y19: =LARGE((Table623[[#This Row],[K1]:[Z4]]),1) -> 27 | Z19: =LARGE((Table623[[#This Row],[K1]:[Z4]]),2) -> 24 | AA19: =LARGE((Table623[[#This Row],[K1]:[Z4]]),3) -> 21 | AB19: =LARGE((Table623[[#This Row],[K1]:[Z4]]),4) -> 0 | AC19: =LARGE((Table623[[#This Row],[K1]:[Z4]]),5) -> 0 | AD19: =LARGE((Table623[[#This Row],[K1]:[Z4]]),6) -> 0 | AE19: =LARGE((Table623[[#This Row],[K1]:[Z4]]),7) -> 0 | AF19: =LARGE((Table623[[#This Row],[K1]:[Z4]]),8) -> 0 | AG19: =LARGE((Table623[[#This Row],[K1]:[Z4]]),9) -> 0 | AH19: =LARGE((Table623[[#This Row],[K1]:[Z4]]),10) -> 0 | AI19: =SUM(Y19:AH19) -> 72 | AJ19: =K19+AI19 -> 75
A20: 17 | B20: 694 | C20: Abdulnassir Ahm Elmi | D20: KART042 | E20: KEN | F20: BIRELART | G20: 0 | H20: 0 | I20: 0 | J20: 0 | K20: =SUM(Table623[[#This Row],[SARMC 1]:[SARMC 4]]) -> 0 | L20: 0 | M20: 0 | N20: 0 | O20: 0 | P20: 0 | Q20: 0 | R20: 20 | S20: 22 | T20: 20 | U20: 0 | V20: 0 | W20: 0 | X20: 0 | Y20: =LARGE((Table623[[#This Row],[K1]:[Z4]]),1) -> 22 | Z20: =LARGE((Table623[[#This Row],[K1]:[Z4]]),2) -> 20 | AA20: =LARGE((Table623[[#This Row],[K1]:[Z4]]),3) -> 20 | AB20: =LARGE((Table623[[#This Row],[K1]:[Z4]]),4) -> 0 | AC20: =LARGE((Table623[[#This Row],[K1]:[Z4]]),5) -> 0 | AD20: =LARGE((Table623[[#This Row],[K1]:[Z4]]),6) -> 0 | AE20: =LARGE((Table623[[#This Row],[K1]:[Z4]]),7) -> 0 | AF20: =LARGE((Table623[[#This Row],[K1]:[Z4]]),8) -> 0 | AG20: =LARGE((Table623[[#This Row],[K1]:[Z4]]),9) -> 0 | AH20: =LARGE((Table623[[#This Row],[K1]:[Z4]]),10) -> 0 | AI20: =SUM(Y20:AH20) -> 62 | AJ20: =K20+AI20 -> 62
A21: 18 | B21: 644 | C21: Rocco van Eeden | D21: NMSF588 | E21: NAM | F21: TONY | G21: 0 | H21: 0 | I21: 0 | J21: 0 | K21: =SUM(Table623[[#This Row],[SARMC 1]:[SARMC 4]]) -> 0 | L21: 0 | M21: 0 | N21: 0 | O21: 0 | P21: 0 | Q21: 0 | R21: 15 | S21: 17 | T21: 21 | U21: 0 | V21: 0 | W21: 0 | X21: 0 | Y21: =LARGE((Table623[[#This Row],[K1]:[Z4]]),1) -> 21 | Z21: =LARGE((Table623[[#This Row],[K1]:[Z4]]),2) -> 17 | AA21: =LARGE((Table623[[#This Row],[K1]:[Z4]]),3) -> 15 | AB21: =LARGE((Table623[[#This Row],[K1]:[Z4]]),4) -> 0 | AC21: =LARGE((Table623[[#This Row],[K1]:[Z4]]),5) -> 0 | AD21: =LARGE((Table623[[#This Row],[K1]:[Z4]]),6) -> 0 | AE21: =LARGE((Table623[[#This Row],[K1]:[Z4]]),7) -> 0 | AF21: =LARGE((Table623[[#This Row],[K1]:[Z4]]),8) -> 0 | AG21: =LARGE((Table623[[#This Row],[K1]:[Z4]]),9) -> 0 | AH21: =LARGE((Table623[[#This Row],[K1]:[Z4]]),10) -> 0 | AI21: =SUM(Y21:AH21) -> 53 | AJ21: =K21+AI21 -> 53
A22: 19 | B22: 631 | C22: Yinhla Makhubele | D22: 44874 | E22: NR | F22: CRG | G22: 1 | H22: 0 | I22: 0 | J22: 3 | K22: =SUM(Table623[[#This Row],[SARMC 1]:[SARMC 4]]) -> 4 | L22: 22 | M22: 0 | N22: 0 | O22: 0 | P22: 0 | Q22: 0 | R22: 0 | S22: 0 | T22: 0 | U22: 0 | V22: 0 | W22: 0 | X22: 0 | Y22: =LARGE((Table623[[#This Row],[K1]:[Z4]]),1) -> 22 | Z22: =LARGE((Table623[[#This Row],[K1]:[Z4]]),2) -> 0 | AA22: =LARGE((Table623[[#This Row],[K1]:[Z4]]),3) -> 0 | AB22: =LARGE((Table623[[#This Row],[K1]:[Z4]]),4) -> 0 | AC22: =LARGE((Table623[[#This Row],[K1]:[Z4]]),5) -> 0 | AD22: =LARGE((Table623[[#This Row],[K1]:[Z4]]),6) -> 0 | AE22: =LARGE((Table623[[#This Row],[K1]:[Z4]]),7) -> 0 | AF22: =LARGE((Table623[[#This Row],[K1]:[Z4]]),8) -> 0 | AG22: =LARGE((Table623[[#This Row],[K1]:[Z4]]),9) -> 0 | AH22: =LARGE((Table623[[#This Row],[K1]:[Z4]]),10) -> 0 | AI22: =SUM(Y22:AH22) -> 22 | AJ22: =K22+AI22 -> 26
A23: 20 | B23: 684 | C23: Kgosi Mkhawana | D23: 45254 | E23: NR | F23: CRG | G23: 3 | H23: 0 | I23: 0 | J23: 0 | K23: =SUM(Table623[[#This Row],[SARMC 1]:[SARMC 4]]) -> 3 | L23: 18 | M23: 0 | N23: 0 | O23: 0 | P23: 0 | Q23: 0 | R23: 0 | S23: 0 | T23: 0 | U23: 0 | V23: 0 | W23: 0 | X23: 0 | Y23: =LARGE((Table623[[#This Row],[K1]:[Z4]]),1) -> 18 | Z23: =LARGE((Table623[[#This Row],[K1]:[Z4]]),2) -> 0 | AA23: =LARGE((Table623[[#This Row],[K1]:[Z4]]),3) -> 0 | AB23: =LARGE((Table623[[#This Row],[K1]:[Z4]]),4) -> 0 | AC23: =LARGE((Table623[[#This Row],[K1]:[Z4]]),5) -> 0 | AD23: =LARGE((Table623[[#This Row],[K1]:[Z4]]),6) -> 0 | AE23: =LARGE((Table623[[#This Row],[K1]:[Z4]]),7) -> 0 | AF23: =LARGE((Table623[[#This Row],[K1]:[Z4]]),8) -> 0 | AG23: =LARGE((Table623[[#This Row],[K1]:[Z4]]),9) -> 0 | AH23: =LARGE((Table623[[#This Row],[K1]:[Z4]]),10) -> 0 | AI23: =SUM(Y23:AH23) -> 18 | AJ23: =K23+AI23 -> 21
