Workbook

Sheet BAMBINO
A1: #VALUE!
A2: #VALUE! | G2: REGIONAL | L2: KILLARNEY | O2: FK | R2: ZIKR | U2: ZWARTKOPS | Y2: BEST NATIONAL POINTS | AI2: TOTAL | AJ2: FINAL
A3: Rnk | B3: No. | C3: Name | D3: License # | E3: Region | F3: Chassis | G3: SARMC 1 | H3: SARMC 2 | I3: SARMC 3 | J3: SARMC 4 | K3: Total Bonus | L3: K1 | M3: K2 | N3: K3 | O3: FK1 | P3: FK2 | Q3: FK3 | R3: Z1 | S3: Z2 | T3: Z3 | U3: Z1' | V3: Z2' | W3: Z3' | X3: Z4 | Y3: 1 | Z3: 2 | AA3: 3 | AB3: 4 | AC3: 5 | AD3: 6 | AE3: 7 | AF3: 8 | AG3: 9 | AH3: 10 | AI3: National | AJ3: TOTAL
A4: 1 | B4: 55 | C4: =_xlfn.XLOOKUP(Table6234[[#This Row],[No.]],Sheet2!B:B,Sheet2!C:C) -> Melokhule Ndlovu | D4: =_xlfn.XLOOKUP(Table6234[[#This Row],[No.]],Sheet2!B:B,Sheet2!G:G) -> 44293 | E4: =_xlfn.XLOOKUP(Table6234[[#This Row],[No.]],Sheet2!B:B,Sheet2!H:H) -> KZN | F4: =_xlfn.XLOOKUP(Table6234[[#This Row],[No.]],Sheet2!B:B,Sheet2!D:D) -> TOP | G4: 3 | H4: 3 | I4: 3 | J4: 3 | K4: =SUM(Table6234[[#This Row],[SARMC 1]:[SARMC 4]]) -> 12 | L4: 24 | M4: excl | N4: 35 | O4: 32 | P4: 32 | Q4: 32 | R4: 35 | S4: 29 | T4: 35 | U4: 32 | V4: 35 | W4: 32 | X4: 30 | Y4: =LARGE((Table6234[[#This Row],[K1]:[Z4]]),1) -> 35 | Z4: =LARGE((Table6234[[#This Row],[K1]:[Z4]]),2) -> 35 | AA4: =LARGE((Table6234[[#This Row],[K1]:[Z4]]),3) -> 35 | AB4: =LARGE((Table6234[[#This Row],[K1]:[Z4]]),4) -> 35 | AC4: =LARGE((Table6234[[#This Row],[K1]:[Z4]]),5) -> 32 | AD4: =LARGE((Table6234[[#This Row],[K1]:[Z4]]),6) -> 32 | AE4: =LARGE((Table6234[[#This Row],[K1]:[Z4]]),7) -> 32 | AF4: =LARGE((Table6234[[#This Row],[K1]:[Z4]]),8) -> 32 | AG4: =LARGE((Table6234[[#This Row],[K1]:[Z4]]),9) -> 32 | AH4: =LARGE((Table6234[[#This Row],[K1]:[Z4]]),10) -> 30 | AI4: =SUM(Y4:AH4) -> 330 | AJ4: =K4+AI4 -> 342
A5: 2 | B5: 72 | C5: =_xlfn.XLOOKUP(Table6234[[#This Row],[No.]],Sheet2!B:B,Sheet2!C:C) -> Yerhu Malabie | D5: =_xlfn.XLOOKUP(Table6234[[#This Row],[No.]],Sheet2!B:B,Sheet2!G:G) -> 44523 | E5: =_xlfn.XLOOKUP(Table6234[[#This Row],[No.]],Sheet2!B:B,Sheet2!H:H) -> NR | F5: =_xlfn.XLOOKUP(Table6234[[#This Row],[No.]],Sheet2!B:B,Sheet2!D:D) -> TOP | G5: 3 | H5: 3 | I5: 3 | J5: 3 | K5: =SUM(Table6234[[#This Row],[SARMC 1]:[SARMC 4]]) -> 12 | L5: 35 | M5: 28 | N5: 29 | O5: 30 | P5: 17 | Q5: 30 | R5: 30 | S5: 35 | T5: 32 | U5: 35 | V5: 32 | W5: 35 | X5: 35 | Y5: =LARGE((Table6234[[#This Row],[K1]:[Z4]]),1) -> 35 | Z5: =LARGE((Table6234[[#This Row],[K1]:[Z4]]),2) -> 35 | AA5: =LARGE((Table6234[[#This Row],[K1]:[Z4]]),3) -> 35 | AB5: =LARGE((Table6234[[#This Row],[K1]:[Z4]]),4) -> 35 | AC5: =LARGE((Table6234[[#This Row],[K1]:[Z4]]),5) -> 35 | AD5: =LARGE((Table6234[[#This Row],[K1]:[Z4]]),6) -> 32 | AE5: =LARGE((Table6234[[#This Row],[K1]:[Z4]]),7) -> 32 | AF5: =LARGE((Table6234[[#This Row],[K1]:[Z4]]),8) -> 30 | AG5: =LARGE((Table6234[[#This Row],[K1]:[Z4]]),9) -> 30 | AH5: =LARGE((Table6234[[#This Row],[K1]:[Z4]]),10) -> 30 | AI5: =SUM(Y5:AH5) -> 329 | AJ5: =K5+AI5 -> 341
A6: 3 | B6: 22 | C6: =_xlfn.XLOOKUP(Table6234[[#This Row],[No.]],Sheet2!B:B,Sheet2!C:C) -> Tiyani Malabie | D6: =_xlfn.XLOOKUP(Table6234[[#This Row],[No.]],Sheet2!B:B,Sheet2!G:G) -> 44534 | E6: =_xlfn.XLOOKUP(Table6234[[#This Row],[No.]],Sheet2!B:B,Sheet2!H:H) -> NR | F6: =_xlfn.XLOOKUP(Table6234[[#This Row],[No.]],Sheet2!B:B,Sheet2!D:D) -> TOP | G6: 3 | H6: 3 | I6: 3 | J6: 3 | K6: =SUM(Table6234[[#This Row],[SARMC 1]:[SARMC 4]]) -> 12 | L6: 32 | M6: 30 | N6: 32 | O6: 35 | P6: 35 | Q6: 35 | R6: 32 | S6: 27 | T6: 30 | U6: 30 | V6: 29 | W6: 28 | X6: 29 | Y6: =LARGE((Table6234[[#This Row],[K1]:[Z4]]),1) -> 35 | Z6: =LARGE((Table6234[[#This Row],[K1]:[Z4]]),2) -> 35 | AA6: =LARGE((Table6234[[#This Row],[K1]:[Z4]]),3) -> 35 | AB6: =LARGE((Table6234[[#This Row],[K1]:[Z4]]),4) -> 32 | AC6: =LARGE((Table6234[[#This Row],[K1]:[Z4]]),5) -> 32 | AD6: =LARGE((Table6234[[#This Row],[K1]:[Z4]]),6) -> 32 | AE6: =LARGE((Table6234[[#This Row],[K1]:[Z4]]),7) -> 30 | AF6: =LARGE((Table6234[[#This Row],[K1]:[Z4]]),8) -> 30 | AG6: =LARGE((Table6234[[#This Row],[K1]:[Z4]]),9) -> 30 | AH6: =LARGE((Table6234[[#This Row],[K1]:[Z4]]),10) -> 29 | AI6: =SUM(Y6:AH6) -> 320 | AJ6: =K6+AI6 -> 332
A7: 4 | B7: 18 | C7: =_xlfn.XLOOKUP(Table6234[[#This Row],[No.]],Sheet2!B:B,Sheet2!C:C) -> Zonkizizwe Holomisa | D7: =_xlfn.XLOOKUP(Table6234[[#This Row],[No.]],Sheet2!B:B,Sheet2!G:G) -> 43093 | E7: =_xlfn.XLOOKUP(Table6234[[#This Row],[No.]],Sheet2!B:B,Sheet2!H:H) -> NR | F7: =_xlfn.XLOOKUP(Table6234[[#This Row],[No.]],Sheet2!B:B,Sheet2!D:D) -> TOP | G7: 3 | H7: 3 | I7: 3 | J7: 0 | K7: =SUM(Table6234[[#This Row],[SARMC 1]:[SARMC 4]]) -> 9 | L7: 29 | M7: 32 | N7: 28 | O7: 29 | P7: 25 | Q7: 18 | R7: 28 | S7: 30 | T7: 29 | U7: 27 | V7: 30 | W7: 30 | X7: 32 | Y7: =LARGE((Table6234[[#This Row],[K1]:[Z4]]),1) -> 32 | Z7: =LARGE((Table6234[[#This Row],[K1]:[Z4]]),2) -> 32 | AA7: =LARGE((Table6234[[#This Row],[K1]:[Z4]]),3) -> 30 | AB7: =LARGE((Table6234[[#This Row],[K1]:[Z4]]),4) -> 30 | AC7: =LARGE((Table6234[[#This Row],[K1]:[Z4]]),5) -> 30 | AD7: =LARGE((Table6234[[#This Row],[K1]:[Z4]]),6) -> 29 | AE7: =LARGE((Table6234[[#This Row],[K1]:[Z4]]),7) -> 29 | AF7: =LARGE((Table6234[[#This Row],[K1]:[Z4]]),8) -> 29 | AG7: =LARGE((Table6234[[#This Row],[K1]:[Z4]]),9) -> 28 | AH7: =LARGE((Table6234[[#This Row],[K1]:[Z4]]),10) -> 28 | AI7: =SUM(Y7:AH7) -> 297 | AJ7: =K7+AI7 -> 306
A8: 5 | B8: 33 | C8: =_xlfn.XLOOKUP(Table6234[[#This Row],[No.]],Sheet2!B:B,Sheet2!C:C) -> Siyanda Nkwanyana | D8: =_xlfn.XLOOKUP(Table6234[[#This Row],[No.]],Sheet2!B:B,Sheet2!G:G) -> 45545 | E8: =_xlfn.XLOOKUP(Table6234[[#This Row],[No.]],Sheet2!B:B,Sheet2!H:H) -> NR | F8: =_xlfn.XLOOKUP(Table6234[[#This Row],[No.]],Sheet2!B:B,Sheet2!D:D) -> TOP | G8: 3 | H8: 3 | I8: 3 | J8: 3 | K8: =SUM(Table6234[[#This Row],[SARMC 1]:[SARMC 4]]) -> 12 | L8: 25 | M8: 27 | N8: 27 | O8: excl | P8: 28 | Q8: 28 | R8: 27 | S8: 32 | T8: 28 | U8: excl | V8: 27 | W8: 27 | X8: 28 | Y8: =LARGE((Table6234[[#This Row],[K1]:[Z4]]),1) -> 32 | Z8: =LARGE((Table6234[[#This Row],[K1]:[Z4]]),2) -> 28 | AA8: =LARGE((Table6234[[#This Row],[K1]:[Z4]]),3) -> 28 | AB8: =LARGE((Table6234[[#This Row],[K1]:[Z4]]),4) -> 28 | AC8: =LARGE((Table6234[[#This Row],[K1]:[Z4]]),5) -> 28 | AD8: =LARGE((Table6234[[#This Row],[K1]:[Z4]]),6) -> 27 | AE8: =LARGE((Table6234[[#This Row],[K1]:[Z4]]),7) -> 27 | AF8: =LARGE((Table6234[[#This Row],[K1]:[Z4]]),8) -> 27 | AG8: =LARGE((Table6234[[#This Row],[K1]:[Z4]]),9) -> 27 | AH8: =LARGE((Table6234[[#This Row],[K1]:[Z4]]),10) -> 27 | AI8: =SUM(Y8:AH8) -> 279 | AJ8: =K8+AI8 -> 291
A9: 6 | B9: 14 | C9: =_xlfn.XLOOKUP(Table6234[[#This Row],[No.]],Sheet2!B:B,Sheet2!C:C) -> Tyler Stanyer | D9: =_xlfn.XLOOKUP(Table6234[[#This Row],[No.]],Sheet2!B:B,Sheet2!G:G) -> 43198 | E9: =_xlfn.XLOOKUP(Table6234[[#This Row],[No.]],Sheet2!B:B,Sheet2!H:H) -> NR | F9: =_xlfn.XLOOKUP(Table6234[[#This Row],[No.]],Sheet2!B:B,Sheet2!D:D) -> TOP | G9: 3 | H9: 3 | I9: 3 | J9: 3 | K9: =SUM(Table6234[[#This Row],[SARMC 1]:[SARMC 4]]) -> 12 | L9: 28 | M9: 29 | N9: 26 | O9: 28 | P9: 27 | Q9: 25 | R9: 29 | S9: 25 | T9: 25 | U9: 29 | V9: 28 | W9: 29 | X9: 24 | Y9: =LARGE((Table6234[[#This Row],[K1]:[Z4]]),1) -> 29 | Z9: =LARGE((Table6234[[#This Row],[K1]:[Z4]]),2) -> 29 | AA9: =LARGE((Table6234[[#This Row],[K1]:[Z4]]),3) -> 29 | AB9: =LARGE((Table6234[[#This Row],[K1]:[Z4]]),4) -> 29 | AC9: =LARGE((Table6234[[#This Row],[K1]:[Z4]]),5) -> 28 | AD9: =LARGE((Table6234[[#This Row],[K1]:[Z4]]),6) -> 28 | AE9: =LARGE((Table6234[[#This Row],[K1]:[Z4]]),7) -> 28 | AF9: =LARGE((Table6234[[#This Row],[K1]:[Z4]]),8) -> 27 | AG9: =LARGE((Table6234[[#This Row],[K1]:[Z4]]),9) -> 26 | AH9: =LARGE((Table6234[[#This Row],[K1]:[Z4]]),10) -> 25 | AI9: =SUM(Y9:AH9) -> 278 | AJ9: =K9+AI9 -> 290
A10: 7 | B10: 61 | C10: =_xlfn.XLOOKUP(Table6234[[#This Row],[No.]],Sheet2!B:B,Sheet2!C:C) -> William Grant | D10: =_xlfn.XLOOKUP(Table6234[[#This Row],[No.]],Sheet2!B:B,Sheet2!G:G) -> 46404 | E10: =_xlfn.XLOOKUP(Table6234[[#This Row],[No.]],Sheet2!B:B,Sheet2!H:H) -> NR | F10: =_xlfn.XLOOKUP(Table6234[[#This Row],[No.]],Sheet2!B:B,Sheet2!D:D) -> TOP | G10: 3 | H10: 3 | I10: 3 | J10: 3 | K10: =SUM(Table6234[[#This Row],[SARMC 1]:[SARMC 4]]) -> 12 | L10: 0 | M10: 0 | N10: 0 | O10: 23 | P10: 26 | Q10: 27 | R10: 26 | S10: 26 | T10: 27 | U10: 28 | V10: 24 | W10: 26 | X10: 27 | Y10: =LARGE((Table6234[[#This Row],[K1]:[Z4]]),1) -> 28 | Z10: =LARGE((Table6234[[#This Row],[K1]:[Z4]]),2) -> 27 | AA10: =LARGE((Table6234[[#This Row],[K1]:[Z4]]),3) -> 27 | AB10: =LARGE((Table6234[[#This Row],[K1]:[Z4]]),4) -> 27 | AC10: =LARGE((Table6234[[#This Row],[K1]:[Z4]]),5) -> 26 | AD10: =LARGE((Table6234[[#This Row],[K1]:[Z4]]),6) -> 26 | AE10: =LARGE((Table6234[[#This Row],[K1]:[Z4]]),7) -> 26 | AF10: =LARGE((Table6234[[#This Row],[K1]:[Z4]]),8) -> 26 | AG10: =LARGE((Table6234[[#This Row],[K1]:[Z4]]),9) -> 24 | AH10: =LARGE((Table6234[[#This Row],[K1]:[Z4]]),10) -> 23 | AI10: =SUM(Y10:AH10) -> 260 | AJ10: =K10+AI10 -> 272
A11: 8 | B11: 25 | C11: =_xlfn.XLOOKUP(Table6234[[#This Row],[No.]],Sheet2!B:B,Sheet2!C:C) -> Zaid Panday | D11: =_xlfn.XLOOKUP(Table6234[[#This Row],[No.]],Sheet2!B:B,Sheet2!G:G) -> 45552 | E11: =_xlfn.XLOOKUP(Table6234[[#This Row],[No.]],Sheet2!B:B,Sheet2!H:H) -> WP | F11: =_xlfn.XLOOKUP(Table6234[[#This Row],[No.]],Sheet2!B:B,Sheet2!D:D) -> TOP | G11: 3 | H11: 0 | I11: 3 | J11: 3 | K11: =SUM(Table6234[[#This Row],[SARMC 1]:[SARMC 4]]) -> 9 | L11: 30 | M11: 35 | N11: 30 | O11: 26 | P11: 29 | Q11: 26 | R11: 0 | S11: 0 | T11: 0 | U11: 18 | V11: 26 | W11: 21 | X11: 21 | Y11: =LARGE((Table6234[[#This Row],[K1]:[Z4]]),1) -> 35 | Z11: =LARGE((Table6234[[#This Row],[K1]:[Z4]]),2) -> 30 | AA11: =LARGE((Table6234[[#This Row],[K1]:[Z4]]),3) -> 30 | AB11: =LARGE((Table6234[[#This Row],[K1]:[Z4]]),4) -> 29 | AC11: =LARGE((Table6234[[#This Row],[K1]:[Z4]]),5) -> 26 | AD11: =LARGE((Table6234[[#This Row],[K1]:[Z4]]),6) -> 26 | AE11: =LARGE((Table6234[[#This Row],[K1]:[Z4]]),7) -> 26 | AF11: =LARGE((Table6234[[#This Row],[K1]:[Z4]]),8) -> 21 | AG11: =LARGE((Table6234[[#This Row],[K1]:[Z4]]),9) -> 21 | AH11: =LARGE((Table6234[[#This Row],[K1]:[Z4]]),10) -> 18 | AI11: =SUM(Y11:AH11) -> 262 | AJ11: =K11+AI11 -> 271
A12: 9 | B12: 11 | C12: =_xlfn.XLOOKUP(Table6234[[#This Row],[No.]],Sheet2!B:B,Sheet2!C:C) -> Gerrard Martin | D12: =_xlfn.XLOOKUP(Table6234[[#This Row],[No.]],Sheet2!B:B,Sheet2!G:G) -> 45703 | E12: =_xlfn.XLOOKUP(Table6234[[#This Row],[No.]],Sheet2!B:B,Sheet2!H:H) -> NR | F12: =_xlfn.XLOOKUP(Table6234[[#This Row],[No.]],Sheet2!B:B,Sheet2!D:D) -> TOP | G12: 2 | H12: 3 | I12: 3 | J12: 2 | K12: =SUM(Table6234[[#This Row],[SARMC 1]:[SARMC 4]]) -> 10 | L12: 27 | M12: 26 | N12: 25 | O12: 25 | P12: 24 | Q12: 24 | R12: 22 | S12: 24 | T12: 23 | U12: 25 | V12: 21 | W12: 23 | X12: 25 | Y12: =LARGE((Table6234[[#This Row],[K1]:[Z4]]),1) -> 27 | Z12: =LARGE((Table6234[[#This Row],[K1]:[Z4]]),2) -> 26 | AA12: =LARGE((Table6234[[#This Row],[K1]:[Z4]]),3) -> 25 | AB12: =LARGE((Table6234[[#This Row],[K1]:[Z4]]),4) -> 25 | AC12: =LARGE((Table6234[[#This Row],[K1]:[Z4]]),5) -> 25 | AD12: =LARGE((Table6234[[#This Row],[K1]:[Z4]]),6) -> 25 | AE12: =LARGE((Table6234[[#This Row],[K1]:[Z4]]),7) -> 24 | AF12: =LARGE((Table6234[[#This Row],[K1]:[Z4]]),8) -> 24 | AG12: =LARGE((Table6234[[#This Row],[K1]:[Z4]]),9) -> 24 | AH12: =LARGE((Table6234[[#This Row],[K1]:[Z4]]),10) -> 23 | AI12: =SUM(Y12:AH12) -> 248 | AJ12: =K12+AI12 -> 258
A13: 10 | B13: 24 | C13: =_xlfn.XLOOKUP(Table6234[[#This Row],[No.]],Sheet2!B:B,Sheet2!C:C) -> Handre Kukkuk | D13: =_xlfn.XLOOKUP(Table6234[[#This Row],[No.]],Sheet2!B:B,Sheet2!G:G) -> 45092 | E13: =_xlfn.XLOOKUP(Table6234[[#This Row],[No.]],Sheet2!B:B,Sheet2!H:H) -> NR | F13: =_xlfn.XLOOKUP(Table6234[[#This Row],[No.]],Sheet2!B:B,Sheet2!D:D) -> TOP | G13: 3 | H13: 3 | I13: 3 | J13: 3 | K13: =SUM(Table6234[[#This Row],[SARMC 1]:[SARMC 4]]) -> 12 | L13: 0 | M13: 0 | N13: 0 | O13: 24 | P13: 22 | Q13: 23 | R13: 19 | S13: 20 | T13: 21 | U13: 24 | V13: 25 | W13: 25 | X13: 22 | Y13: =LARGE((Table6234[[#This Row],[K1]:[Z4]]),1) -> 25 | Z13: =LARGE((Table6234[[#This Row],[K1]:[Z4]]),2) -> 25 | AA13: =LARGE((Table6234[[#This Row],[K1]:[Z4]]),3) -> 24 | AB13: =LARGE((Table6234[[#This Row],[K1]:[Z4]]),4) -> 24 | AC13: =LARGE((Table6234[[#This Row],[K1]:[Z4]]),5) -> 23 | AD13: =LARGE((Table6234[[#This Row],[K1]:[Z4]]),6) -> 22 | AE13: =LARGE((Table6234[[#This Row],[K1]:[Z4]]),7) -> 22 | AF13: =LARGE((Table6234[[#This Row],[K1]:[Z4]]),8) -> 21 | AG13: =LARGE((Table6234[[#This Row],[K1]:[Z4]]),9) -> 20 | AH13: =LARGE((Table6234[[#This Row],[K1]:[Z4]]),10) -> 19 | AI13: =SUM(Y13:AH13) -> 225 | AJ13: =K13+AI13 -> 237
A14: 11 | B14: 16 | C14: Declan Berowsky | D14: 46082 | E14: NR | F14: TOP | G14: 0 | H14: 3 | I14: 3 | J14: 0 | K14: =SUM(Table6234[[#This Row],[SARMC 1]:[SARMC 4]]) -> 6 | L14: 0 | M14: 0 | N14: 0 | O14: 22 | P14: 23 | Q14: 18 | R14: 18 | S14: 18 | T14: 18 | U14: 23 | V14: 23 | W14: 22 | X14: 23 | Y14: =LARGE((Table6234[[#This Row],[K1]:[Z4]]),1) -> 23 | Z14: =LARGE((Table6234[[#This Row],[K1]:[Z4]]),2) -> 23 | AA14: =LARGE((Table6234[[#This Row],[K1]:[Z4]]),3) -> 23 | AB14: =LARGE((Table6234[[#This Row],[K1]:[Z4]]),4) -> 23 | AC14: =LARGE((Table6234[[#This Row],[K1]:[Z4]]),5) -> 22 | AD14: =LARGE((Table6234[[#This Row],[K1]:[Z4]]),6) -> 22 | AE14: =LARGE((Table6234[[#This Row],[K1]:[Z4]]),7) -> 18 | AF14: =LARGE((Table6234[[#This Row],[K1]:[Z4]]),8) -> 18 | AG14: =LARGE((Table6234[[#This Row],[K1]:[Z4]]),9) -> 18 | AH14: =LARGE((Table6234[[#This Row],[K1]:[Z4]]),10) -> 18 | AI14: =SUM(Y14:AH14) -> 208 | AJ14: =K14+AI14 -> 214
A15: 12 | B15: 57 | C15: =_xlfn.XLOOKUP(Table6234[[#This Row],[No.]],Sheet2!B:B,Sheet2!C:C) -> Jaxon Holzapfel | D15: =_xlfn.XLOOKUP(Table6234[[#This Row],[No.]],Sheet2!B:B,Sheet2!G:G) -> 6237 | E15: =_xlfn.XLOOKUP(Table6234[[#This Row],[No.]],Sheet2!B:B,Sheet2!H:H) -> NR | F15: =_xlfn.XLOOKUP(Table6234[[#This Row],[No.]],Sheet2!B:B,Sheet2!D:D) -> TOP | G15: 3 | H15: 0 | I15: 3 | J15: 3 | K15: =SUM(Table6234[[#This Row],[SARMC 1]:[SARMC 4]]) -> 9 | L15: 0 | M15: 0 | N15: 0 | O15: 0 | P15: 0 | Q15: 0 | R15: 21 | S15: 23 | T15: 24 | U15: 26 | V15: 22 | W15: 24 | X15: 26 | Y15: =LARGE((Table6234[[#This Row],[K1]:[Z4]]),1) -> 26 | Z15: =LARGE((Table6234[[#This Row],[K1]:[Z4]]),2) -> 26 | AA15: =LARGE((Table6234[[#This Row],[K1]:[Z4]]),3) -> 24 | AB15: =LARGE((Table6234[[#This Row],[K1]:[Z4]]),4) -> 24 | AC15: =LARGE((Table6234[[#This Row],[K1]:[Z4]]),5) -> 23 | AD15: =LARGE((Table6234[[#This Row],[K1]:[Z4]]),6) -> 22 | AE15: =LARGE((Table6234[[#This Row],[K1]:[Z4]]),7) -> 21 | AF15: =LARGE((Table6234[[#This Row],[K1]:[Z4]]),8) -> 0 | AG15: =LARGE((Table6234[[#This Row],[K1]:[Z4]]),9) -> 0 | AH15: =LARGE((Table6234[[#This Row],[K1]:[Z4]]),10) -> 0 | AI15: =SUM(Y15:AH15) -> 166 | AJ15: =K15+AI15 -> 175
A16: 13 | B16: 29 | C16: =_xlfn.XLOOKUP(Table6234[[#This Row],[No.]],Sheet2!B:B,Sheet2!C:C) -> Grayson Venter | D16: =_xlfn.XLOOKUP(Table6234[[#This Row],[No.]],Sheet2!B:B,Sheet2!G:G) -> 44105 | E16: =_xlfn.XLOOKUP(Table6234[[#This Row],[No.]],Sheet2!B:B,Sheet2!H:H) -> NR | F16: =_xlfn.XLOOKUP(Table6234[[#This Row],[No.]],Sheet2!B:B,Sheet2!D:D) -> TOP | G16: 3 | H16: 3 | I16: 3 | J16: 0 | K16: =SUM(Table6234[[#This Row],[SARMC 1]:[SARMC 4]]) -> 9 | L16: 0 | M16: 0 | N16: 0 | O16: 27 | P16: 30 | Q16: 29 | R16: 25 | S16: 28 | T16: 26 | U16: 0 | V16: 0 | W16: 0 | X16: 0 | Y16: =LARGE((Table6234[[#This Row],[K1]:[Z4]]),1) -> 30 | Z16: =LARGE((Table6234[[#This Row],[K1]:[Z4]]),2) -> 29 | AA16: =LARGE((Table6234[[#This Row],[K1]:[Z4]]),3) -> 28 | AB16: =LARGE((Table6234[[#This Row],[K1]:[Z4]]),4) -> 27 | AC16: =LARGE((Table6234[[#This Row],[K1]:[Z4]]),5) -> 26 | AD16: =LARGE((Table6234[[#This Row],[K1]:[Z4]]),6) -> 25 | AE16: =LARGE((Table6234[[#This Row],[K1]:[Z4]]),7) -> 0 | AF16: =LARGE((Table6234[[#This Row],[K1]:[Z4]]),8) -> 0 | AG16: =LARGE((Table6234[[#This Row],[K1]:[Z4]]),9) -> 0 | AH16: =LARGE((Table6234[[#This Row],[K1]:[Z4]]),10) -> 0 | AI16: =SUM(Y16:AH16) -> 165 | AJ16: =K16+AI16 -> 174
A17: 14 | B17: 83 | C17: =_xlfn.XLOOKUP(Table6234[[#This Row],[No.]],Sheet2!B:B,Sheet2!C:C) -> Miya Mabunda | D17: =_xlfn.XLOOKUP(Table6234[[#This Row],[No.]],Sheet2!B:B,Sheet2!G:G) -> 44449 | E17: =_xlfn.XLOOKUP(Table6234[[#This Row],[No.]],Sheet2!B:B,Sheet2!H:H) -> NR | F17: =_xlfn.XLOOKUP(Table6234[[#This Row],[No.]],Sheet2!B:B,Sheet2!D:D) -> TOP | G17: 0 | H17: 0 | I17: 3 | J17: 0 | K17: =SUM(Table6234[[#This Row],[SARMC 1]:[SARMC 4]]) -> 3 | L17: 26 | M17: 25 | N17: 24 | O17: 0 | P17: 0 | Q17: 0 | R17: 20 | S17: 19 | T17: 19 | U17: 0 | V17: 0 | W17: 0 | X17: 0 | Y17: =LARGE((Table6234[[#This Row],[K1]:[Z4]]),1) -> 26 | Z17: =LARGE((Table6234[[#This Row],[K1]:[Z4]]),2) -> 25 | AA17: =LARGE((Table6234[[#This Row],[K1]:[Z4]]),3) -> 24 | AB17: =LARGE((Table6234[[#This Row],[K1]:[Z4]]),4) -> 20 | AC17: =LARGE((Table6234[[#This Row],[K1]:[Z4]]),5) -> 19 | AD17: =LARGE((Table6234[[#This Row],[K1]:[Z4]]),6) -> 19 | AE17: =LARGE((Table6234[[#This Row],[K1]:[Z4]]),7) -> 0 | AF17: =LARGE((Table6234[[#This Row],[K1]:[Z4]]),8) -> 0 | AG17: =LARGE((Table6234[[#This Row],[K1]:[Z4]]),9) -> 0 | AH17: =LARGE((Table6234[[#This Row],[K1]:[Z4]]),10) -> 0 | AI17: =SUM(Y17:AH17) -> 133 | AJ17: =K17+AI17 -> 136
A18: 15 | B18: 82 | C18: =_xlfn.XLOOKUP(Table6234[[#This Row],[No.]],Sheet2!B:B,Sheet2!C:C) -> Tiane Resende | D18: =_xlfn.XLOOKUP(Table6234[[#This Row],[No.]],Sheet2!B:B,Sheet2!G:G) -> D037 | E18: =_xlfn.XLOOKUP(Table6234[[#This Row],[No.]],Sheet2!B:B,Sheet2!H:H) -> MOZ | F18: =_xlfn.XLOOKUP(Table6234[[#This Row],[No.]],Sheet2!B:B,Sheet2!D:D) -> TOP | G18: 3 | H18: 0 | I18: 0 | J18: 3 | K18: =SUM(Table6234[[#This Row],[SARMC 1]:[SARMC 4]]) -> 6 | L18: 0 | M18: 0 | N18: 0 | O18: 0 | P18: 0 | Q18: 0 | R18: 24 | S18: 22 | T18: 22 | U18: 0 | V18: 0 | W18: 0 | X18: 0 | Y18: =LARGE((Table6234[[#This Row],[K1]:[Z4]]),1) -> 24 | Z18: =LARGE((Table6234[[#This Row],[K1]:[Z4]]),2) -> 22 | AA18: =LARGE((Table6234[[#This Row],[K1]:[Z4]]),3) -> 22 | AB18: =LARGE((Table6234[[#This Row],[K1]:[Z4]]),4) -> 0 | AC18: =LARGE((Table6234[[#This Row],[K1]:[Z4]]),5) -> 0 | AD18: =LARGE((Table6234[[#This Row],[K1]:[Z4]]),6) -> 0 | AE18: =LARGE((Table6234[[#This Row],[K1]:[Z4]]),7) -> 0 | AF18: =LARGE((Table6234[[#This Row],[K1]:[Z4]]),8) -> 0 | AG18: =LARGE((Table6234[[#This Row],[K1]:[Z4]]),9) -> 0 | AH18: =LARGE((Table6234[[#This Row],[K1]:[Z4]]),10) -> 0 | AI18: =SUM(Y18:AH18) -> 68 | AJ18: =K18+AI18 -> 74
A19: 16 | B19: 90 | C19: Franco Steyn | D19: NMSF | E19: NAM | F19: TOP | G19: 0 | H19: 0 | I19: 0 | J19: 0 | K19: =SUM(Table6234[[#This Row],[SARMC 1]:[SARMC 4]]) -> 0 | L19: 0 | M19: 0 | N19: 0 | O19: 0 | P19: 0 | Q19: 0 | R19: 23 | S19: 21 | T19: 20 | U19: 0 | V19: 0 | W19: 0 | X19: 0 | Y19: =LARGE((Table6234[[#This Row],[K1]:[Z4]]),1) -> 23 | Z19: =LARGE((Table6234[[#This Row],[K1]:[Z4]]),2) -> 21 | AA19: =LARGE((Table6234[[#This Row],[K1]:[Z4]]),3) -> 20 | AB19: =LARGE((Table6234[[#This Row],[K1]:[Z4]]),4) -> 0 | AC19: =LARGE((Table6234[[#This Row],[K1]:[Z4]]),5) -> 0 | AD19: =LARGE((Table6234[[#This Row],[K1]:[Z4]]),6) -> 0 | AE19: =LARGE((Table6234[[#This Row],[K1]:[Z4]]),7) -> 0 | AF19: =LARGE((Table6234[[#This Row],[K1]:[Z4]]),8) -> 0 | AG19: =LARGE((Table6234[[#This Row],[K1]:[Z4]]),9) -> 0 | AH19: =LARGE((Table6234[[#This Row],[K1]:[Z4]]),10) -> 0 | AI19: =SUM(Y19:AH19) -> 64 | AJ19: =K19+AI19 -> 64
A20: 17 | B20: 67 | C20: =_xlfn.XLOOKUP(Table6234[[#This Row],[No.]],Sheet2!B:B,Sheet2!C:C) -> Blake Van Deventer | E20: =_xlfn.XLOOKUP(Table6234[[#This Row],[No.]],Sheet2!B:B,Sheet2!H:H) -> WP | F20: =_xlfn.XLOOKUP(Table6234[[#This Row],[No.]],Sheet2!B:B,Sheet2!D:D) -> TOP | G20: 3 | H20: 3 | I20: 3 | J20: 3 | K20: =SUM(Table6234[[#This Row],[SARMC 1]:[SARMC 4]]) -> 12 | L20: 0 | M20: 0 | N20: 0 | O20: 0 | P20: 0 | Q20: 0 | R20: 0 | S20: 0 | T20: 0 | U20: 0 | V20: 0 | W20: 0 | X20: 0 | Y20: =LARGE((Table6234[[#This Row],[K1]:[Z4]]),1) -> 0 | Z20: =LARGE((Table6234[[#This Row],[K1]:[Z4]]),2) -> 0 | AA20: =LARGE((Table6234[[#This Row],[K1]:[Z4]]),3) -> 0 | AB20: =LARGE((Table6234[[#This Row],[K1]:[Z4]]),4) -> 0 | AC20: =LARGE((Table6234[[#This Row],[K1]:[Z4]]),5) -> 0 | AD20: =LARGE((Table6234[[#This Row],[K1]:[Z4]]),6) -> 0 | AE20: =LARGE((Table6234[[#This Row],[K1]:[Z4]]),7) -> 0 | AF20: =LARGE((Table6234[[#This Row],[K1]:[Z4]]),8) -> 0 | AG20: =LARGE((Table6234[[#This Row],[K1]:[Z4]]),9) -> 0 | AH20: =LARGE((Table6234[[#This Row],[K1]:[Z4]]),10) -> 0 | AI20: =SUM(Y20:AH20) -> 0 | AJ20: =K20+AI20 -> 12
A21: 18 | B21: 93 | C21: =_xlfn.XLOOKUP(Table6234[[#This Row],[No.]],Sheet2!B:B,Sheet2!C:C) -> Sebastian Fletcher | D21: =_xlfn.XLOOKUP(Table6234[[#This Row],[No.]],Sheet2!B:B,Sheet2!G:G) -> 46383 | E21: =_xlfn.XLOOKUP(Table6234[[#This Row],[No.]],Sheet2!B:B,Sheet2!H:H) -> WP | F21: =_xlfn.XLOOKUP(Table6234[[#This Row],[No.]],Sheet2!B:B,Sheet2!D:D) -> TOP | G21: 3 | H21: 3 | I21: 3 | J21: 3 | K21: =SUM(Table6234[[#This Row],[SARMC 1]:[SARMC 4]]) -> 12 | L21: 0 | M21: 0 | N21: 0 | O21: 0 | P21: 0 | Q21: 0 | R21: 0 | S21: 0 | T21: 0 | U21: 0 | V21: 0 | W21: 0 | X21: 0 | Y21: =LARGE((Table6234[[#This Row],[K1]:[Z4]]),1) -> 0 | Z21: =LARGE((Table6234[[#This Row],[K1]:[Z4]]),2) -> 0 | AA21: =LARGE((Table6234[[#This Row],[K1]:[Z4]]),3) -> 0 | AB21: =LARGE((Table6234[[#This Row],[K1]:[Z4]]),4) -> 0 | AC21: =LARGE((Table6234[[#This Row],[K1]:[Z4]]),5) -> 0 | AD21: =LARGE((Table6234[[#This Row],[K1]:[Z4]]),6) -> 0 | AE21: =LARGE((Table6234[[#This Row],[K1]:[Z4]]),7) -> 0 | AF21: =LARGE((Table6234[[#This Row],[K1]:[Z4]]),8) -> 0 | AG21: =LARGE((Table6234[[#This Row],[K1]:[Z4]]),9) -> 0 | AH21: =LARGE((Table6234[[#This Row],[K1]:[Z4]]),10) -> 0 | AI21: =SUM(Y21:AH21) -> 0 | AJ21: =K21+AI21 -> 12
A22: 19 | B22: 76 | C22: Remi Coxon | E22: WP | F22: TOP | G22: 3 | H22: 3 | I22: 3 | J22: 3 | K22: =SUM(Table6234[[#This Row],[SARMC 1]:[SARMC 4]]) -> 12 | L22: 0 | M22: 0 | N22: 0 | O22: 0 | P22: 0 | Q22: 0 | R22: 0 | S22: 0 | T22: 0 | U22: 0 | V22: 0 | W22: 0 | X22: 0 | Y22: =LARGE((Table6234[[#This Row],[K1]:[Z4]]),1) -> 0 | Z22: =LARGE((Table6234[[#This Row],[K1]:[Z4]]),2) -> 0 | AA22: =LARGE((Table6234[[#This Row],[K1]:[Z4]]),3) -> 0 | AB22: =LARGE((Table6234[[#This Row],[K1]:[Z4]]),4) -> 0 | AC22: =LARGE((Table6234[[#This Row],[K1]:[Z4]]),5) -> 0 | AD22: =LARGE((Table6234[[#This Row],[K1]:[Z4]]),6) -> 0 | AE22: =LARGE((Table6234[[#This Row],[K1]:[Z4]]),7) -> 0 | AF22: =LARGE((Table6234[[#This Row],[K1]:[Z4]]),8) -> 0 | AG22: =LARGE((Table6234[[#This Row],[K1]:[Z4]]),9) -> 0 | AH22: =LARGE((Table6234[[#This Row],[K1]:[Z4]]),10) -> 0 | AI22: =SUM(Y22:AH22) -> 0 | AJ22: =K22+AI22 -> 12
A23: 20 | B23: 44 | C23: =_xlfn.XLOOKUP(Table6234[[#This Row],[No.]],Sheet2!B:B,Sheet2!C:C) -> Azlan Singh | D23: =_xlfn.XLOOKUP(Table6234[[#This Row],[No.]],Sheet2!B:B,Sheet2!G:G) -> 46203 | E23: =_xlfn.XLOOKUP(Table6234[[#This Row],[No.]],Sheet2!B:B,Sheet2!H:H) -> KZN | F23: =_xlfn.XLOOKUP(Table6234[[#This Row],[No.]],Sheet2!B:B,Sheet2!D:D) -> TOP | G23: 3 | H23: 3 | I23: 3 | J23: 3 | K23: =SUM(Table6234[[#This Row],[SARMC 1]:[SARMC 4]]) -> 12 | L23: 0 | M23: 0 | N23: 0 | O23: 0 | P23: 0 | Q23: 0 | R23: 0 | S23: 0 | T23: 0 | U23: 0 | V23: 0 | W23: 0 | X23: 0 | Y23: =LARGE((Table6234[[#This Row],[K1]:[Z4]]),1) -> 0 | Z23: =LARGE((Table6234[[#This Row],[K1]:[Z4]]),2) -> 0 | AA23: =LARGE((Table6234[[#This Row],[K1]:[Z4]]),3) -> 0 | AB23: =LARGE((Table6234[[#This Row],[K1]:[Z4]]),4) -> 0 | AC23: =LARGE((Table6234[[#This Row],[K1]:[Z4]]),5) -> 0 | AD23: =LARGE((Table6234[[#This Row],[K1]:[Z4]]),6) -> 0 | AE23: =LARGE((Table6234[[#This Row],[K1]:[Z4]]),7) -> 0 | AF23: =LARGE((Table6234[[#This Row],[K1]:[Z4]]),8) -> 0 | AG23: =LARGE((Table6234[[#This Row],[K1]:[Z4]]),9) -> 0 | AH23: =LARGE((Table6234[[#This Row],[K1]:[Z4]]),10) -> 0 | AI23: =SUM(Y23:AH23) -> 0 | AJ23: =K23+AI23 -> 12
A24: 21 | B24: 78 | C24: =_xlfn.XLOOKUP(Table6234[[#This Row],[No.]],Sheet2!B:B,Sheet2!C:C) -> Jayden Minnie | D24: =_xlfn.XLOOKUP(Table6234[[#This Row],[No.]],Sheet2!B:B,Sheet2!G:G) -> 46146 | E24: =_xlfn.XLOOKUP(Table6234[[#This Row],[No.]],Sheet2!B:B,Sheet2!H:H) -> NR | F24: =_xlfn.XLOOKUP(Table6234[[#This Row],[No.]],Sheet2!B:B,Sheet2!D:D) -> TOP | G24: 3 | H24: 3 | I24: 0 | J24: 3 | K24: =SUM(Table6234[[#This Row],[SARMC 1]:[SARMC 4]]) -> 9 | L24: 0 | M24: 0 | N24: 0 | O24: 0 | P24: 0 | Q24: 0 | R24: 0 | S24: 0 | T24: 0 | U24: 0 | V24: 0 | W24: 0 | X24: 0 | Y24: =LARGE((Table6234[[#This Row],[K1]:[Z4]]),1) -> 0 | Z24: =LARGE((Table6234[[#This Row],[K1]:[Z4]]),2) -> 0 | AA24: =LARGE((Table6234[[#This Row],[K1]:[Z4]]),3) -> 0 | AB24: =LARGE((Table6234[[#This Row],[K1]:[Z4]]),4) -> 0 | AC24: =LARGE((Table6234[[#This Row],[K1]:[Z4]]),5) -> 0 | AD24: =LARGE((Table6234[[#This Row],[K1]:[Z4]]),6) -> 0 | AE24: =LARGE((Table6234[[#This Row],[K1]:[Z4]]),7) -> 0 | AF24: =LARGE((Table6234[[#This Row],[K1]:[Z4]]),8) -> 0 | AG24: =LARGE((Table6234[[#This Row],[K1]:[Z4]]),9) -> 0 | AH24: =LARGE((Table6234[[#This Row],[K1]:[Z4]]),10) -> 0 | AI24: =SUM(Y24:AH24) -> 0 | AJ24: =K24+AI24 -> 9
A25: 22 | B25: 56 | C25: Zeeva Strydom | E25: WP | F25: TOP | G25: 3 | H25: 3 | I25: 3 | J25: 0 | K25: =SUM(Table6234[[#This Row],[SARMC 1]:[SARMC 4]]) -> 9 | L25: 0 | M25: 0 | N25: 0 | O25: 0 | P25: 0 | Q25: 0 | R25: 0 | S25: 0 | T25: 0 | U25: 0 | V25: 0 | W25: 0 | X25: 0 | Y25: =LARGE((Table6234[[#This Row],[K1]:[Z4]]),1) -> 0 | Z25: =LARGE((Table6234[[#This Row],[K1]:[Z4]]),2) -> 0 | AA25: =LARGE((Table6234[[#This Row],[K1]:[Z4]]),3) -> 0 | AB25: =LARGE((Table6234[[#This Row],[K1]:[Z4]]),4) -> 0 | AC25: =LARGE((Table6234[[#This Row],[K1]:[Z4]]),5) -> 0 | AD25: =LARGE((Table6234[[#This Row],[K1]:[Z4]]),6) -> 0 | AE25: =LARGE((Table6234[[#This Row],[K1]:[Z4]]),7) -> 0 | AF25: =LARGE((Table6234[[#This Row],[K1]:[Z4]]),8) -> 0 | AG25: =LARGE((Table6234[[#This Row],[K1]:[Z4]]),9) -> 0 | AH25: =LARGE((Table6234[[#This Row],[K1]:[Z4]]),10) -> 0 | AI25: =SUM(Y25:AH25) -> 0 | AJ25: =K25+AI25 -> 9
A26: 23 | B26: 98 | C26: =_xlfn.XLOOKUP(Table6234[[#This Row],[No.]],Sheet2!B:B,Sheet2!C:C) -> Elijah Fedderke | D26: =_xlfn.XLOOKUP(Table6234[[#This Row],[No.]],Sheet2!B:B,Sheet2!G:G) -> 46383 | E26: =_xlfn.XLOOKUP(Table6234[[#This Row],[No.]],Sheet2!B:B,Sheet2!H:H) -> KZN | F26: =_xlfn.XLOOKUP(Table6234[[#This Row],[No.]],Sheet2!B:B,Sheet2!D:D) -> TOP | G26: 3 | H26: 3 | I26: 3 | J26: 0 | K26: =SUM(Table6234[[#This Row],[SARMC 1]:[SARMC 4]]) -> 9 | L26: 0 | M26: 0 | N26: 0 | O26: 0 | P26: 0 | Q26: 0 | R26: 0 | S26: 0 | T26: 0 | U26: 0 | V26: 0 | W26: 0 | X26: 0 | Y26: =LARGE((Table6234[[#This Row],[K1]:[Z4]]),1) -> 0 | Z26: =LARGE((Table6234[[#This Row],[K1]:[Z4]]),2) -> 0 | AA26: =LARGE((Table6234[[#This Row],[K1]:[Z4]]),3) -> 0 | AB26: =LARGE((Table6234[[#This Row],[K1]:[Z4]]),4) -> 0 | AC26: =LARGE((Table6234[[#This Row],[K1]:[Z4]]),5) -> 0 | AD26: =LARGE((Table6234[[#This Row],[K1]:[Z4]]),6) -> 0 | AE26: =LARGE((Table6234[[#This Row],[K1]:[Z4]]),7) -> 0 | AF26: =LARGE((Table6234[[#This Row],[K1]:[Z4]]),8) -> 0 | AG26: =LARGE((Table6234[[#This Row],[K1]:[Z4]]),9) -> 0 | AH26: =LARGE((Table6234[[#This Row],[K1]:[Z4]]),10) -> 0 | AI26: =SUM(Y26:AH26) -> 0 | AJ26: =K26+AI26 -> 9
A27: 24 | B27: 37 | C27: =_xlfn.XLOOKUP(Table6234[[#This Row],[No.]],Sheet2!B:B,Sheet2!C:C) -> Kganya Mahlakoana | D27: =_xlfn.XLOOKUP(Table6234[[#This Row],[No.]],Sheet2!B:B,Sheet2!G:G) -> 46877 | E27: =_xlfn.XLOOKUP(Table6234[[#This Row],[No.]],Sheet2!B:B,Sheet2!H:H) -> NR | F27: =_xlfn.XLOOKUP(Table6234[[#This Row],[No.]],Sheet2!B:B,Sheet2!D:D) -> TOP | G27: 2 | H27: 0 | I27: 0 | J27: 3 | K27: =SUM(Table6234[[#This Row],[SARMC 1]:[SARMC 4]]) -> 5 | L27: 0 | M27: 0 | N27: 0 | O27: 0 | P27: 0 | Q27: 0 | R27: 0 | S27: 0 | T27: 0 | U27: 0 | V27: 0 | W27: 0 | X27: 0 | Y27: =LARGE((Table6234[[#This Row],[K1]:[Z4]]),1) -> 0 | Z27: =LARGE((Table6234[[#This Row],[K1]:[Z4]]),2) -> 0 | AA27: =LARGE((Table6234[[#This Row],[K1]:[Z4]]),3) -> 0 | AB27: =LARGE((Table6234[[#This Row],[K1]:[Z4]]),4) -> 0 | AC27: =LARGE((Table6234[[#This Row],[K1]:[Z4]]),5) -> 0 | AD27: =LARGE((Table6234[[#This Row],[K1]:[Z4]]),6) -> 0 | AE27: =LARGE((Table6234[[#This Row],[K1]:[Z4]]),7) -> 0 | AF27: =LARGE((Table6234[[#This Row],[K1]:[Z4]]),8) -> 0 | AG27: =LARGE((Table6234[[#This Row],[K1]:[Z4]]),9) -> 0 | AH27: =LARGE((Table6234[[#This Row],[K1]:[Z4]]),10) -> 0 | AI27: =SUM(Y27:AH27) -> 0 | AJ27: =K27+AI27 -> 5
A28: 25 | B28: 27 | C28: =_xlfn.XLOOKUP(Table6234[[#This Row],[No.]],Sheet2!B:B,Sheet2!C:C) -> Zayen Thesan | D28: =_xlfn.XLOOKUP(Table6234[[#This Row],[No.]],Sheet2!B:B,Sheet2!G:G) -> 46875 | E28: =_xlfn.XLOOKUP(Table6234[[#This Row],[No.]],Sheet2!B:B,Sheet2!H:H) -> KZN | F28: =_xlfn.XLOOKUP(Table6234[[#This Row],[No.]],Sheet2!B:B,Sheet2!D:D) -> TOP | G28: 3 | H28: 0 | I28: 0 | J28: 0 | K28: =SUM(Table6234[[#This Row],[SARMC 1]:[SARMC 4]]) -> 3 | L28: 0 | M28: 0 | N28: 0 | O28: 0 | P28: 0 | Q28: 0 | R28: 0 | S28: 0 | T28: 0 | U28: 0 | V28: 0 | W28: 0 | X28: 0 | Y28: =LARGE((Table6234[[#This Row],[K1]:[Z4]]),1) -> 0 | Z28: =LARGE((Table6234[[#This Row],[K1]:[Z4]]),2) -> 0 | AA28: =LARGE((Table6234[[#This Row],[K1]:[Z4]]),3) -> 0 | AB28: =LARGE((Table6234[[#This Row],[K1]:[Z4]]),4) -> 0 | AC28: =LARGE((Table6234[[#This Row],[K1]:[Z4]]),5) -> 0 | AD28: =LARGE((Table6234[[#This Row],[K1]:[Z4]]),6) -> 0 | AE28: =LARGE((Table6234[[#This Row],[K1]:[Z4]]),7) -> 0 | AF28: =LARGE((Table6234[[#This Row],[K1]:[Z4]]),8) -> 0 | AG28: =LARGE((Table6234[[#This Row],[K1]:[Z4]]),9) -> 0 | AH28: =LARGE((Table6234[[#This Row],[K1]:[Z4]]),10) -> 0 | AI28: =SUM(Y28:AH28) -> 0 | AJ28: =K28+AI28 -> 3
A29: 26 | B29: 52 | C29: =_xlfn.XLOOKUP(Table6234[[#This Row],[No.]],Sheet2!B:B,Sheet2!C:C) -> Hayden Allison | D29: 46456 | E29: =_xlfn.XLOOKUP(Table6234[[#This Row],[No.]],Sheet2!B:B,Sheet2!H:H) -> NR | F29: =_xlfn.XLOOKUP(Table6234[[#This Row],[No.]],Sheet2!B:B,Sheet2!D:D) -> TOP | G29: 0 | H29: 3 | I29: 0 | J29: 0 | K29: =SUM(Table6234[[#This Row],[SARMC 1]:[SARMC 4]]) -> 3 | L29: 0 | M29: 0 | N29: 0 | O29: 0 | P29: 0 | Q29: 0 | R29: 0 | S29: 0 | T29: 0 | U29: 0 | V29: 0 | W29: 0 | X29: 0 | Y29: =LARGE((Table6234[[#This Row],[K1]:[Z4]]),1) -> 0 | Z29: =LARGE((Table6234[[#This Row],[K1]:[Z4]]),2) -> 0 | AA29: =LARGE((Table6234[[#This Row],[K1]:[Z4]]),3) -> 0 | AB29: =LARGE((Table6234[[#This Row],[K1]:[Z4]]),4) -> 0 | AC29: =LARGE((Table6234[[#This Row],[K1]:[Z4]]),5) -> 0 | AD29: =LARGE((Table6234[[#This Row],[K1]:[Z4]]),6) -> 0 | AE29: =LARGE((Table6234[[#This Row],[K1]:[Z4]]),7) -> 0 | AF29: =LARGE((Table6234[[#This Row],[K1]:[Z4]]),8) -> 0 | AG29: =LARGE((Table6234[[#This Row],[K1]:[Z4]]),9) -> 0 | AH29: =LARGE((Table6234[[#This Row],[K1]:[Z4]]),10) -> 0 | AI29: =SUM(Y29:AH29) -> 0 | AJ29: =K29+AI29 -> 3
A30: 27 | B30: 17 | C30: Liam Ludwig | E30: WP | F30: TOP | G30: 0 | H30: 0 | I30: 0 | J30: 3 | K30: =SUM(Table6234[[#This Row],[SARMC 1]:[SARMC 4]]) -> 3 | L30: 0 | M30: 0 | N30: 0 | O30: 0 | P30: 0 | Q30: 0 | R30: 0 | S30: 0 | T30: 0 | U30: 0 | V30: 0 | W30: 0 | X30: 0 | Y30: =LARGE((Table6234[[#This Row],[K1]:[Z4]]),1) -> 0 | Z30: =LARGE((Table6234[[#This Row],[K1]:[Z4]]),2) -> 0 | AA30: =LARGE((Table6234[[#This Row],[K1]:[Z4]]),3) -> 0 | AB30: =LARGE((Table6234[[#This Row],[K1]:[Z4]]),4) -> 0 | AC30: =LARGE((Table6234[[#This Row],[K1]:[Z4]]),5) -> 0 | AD30: =LARGE((Table6234[[#This Row],[K1]:[Z4]]),6) -> 0 | AE30: =LARGE((Table6234[[#This Row],[K1]:[Z4]]),7) -> 0 | AF30: =LARGE((Table6234[[#This Row],[K1]:[Z4]]),8) -> 0 | AG30: =LARGE((Table6234[[#This Row],[K1]:[Z4]]),9) -> 0 | AH30: =LARGE((Table6234[[#This Row],[K1]:[Z4]]),10) -> 0 | AI30: =SUM(Y30:AH30) -> 0 | AJ30: =K30+AI30 -> 3
A31: 28 | B31: 30 | C31: Zaydaan Moosajee | D31: 44344 | E31: NR | F31: TOP | G31: 0 | H31: 0 | I31: 0 | J31: 3 | K31: 3 | L31: 0 | M31: 0 | N31: 0 | O31: 0 | P31: 0 | Q31: 0 | R31: 0 | S31: 0 | T31: 0 | U31: 0 | V31: 0 | W31: 0 | X31: 0 | Y31: =LARGE((Table6234[[#This Row],[K1]:[Z4]]),1) -> 0 | Z31: =LARGE((Table6234[[#This Row],[K1]:[Z4]]),2) -> 0 | AA31: =LARGE((Table6234[[#This Row],[K1]:[Z4]]),3) -> 0 | AB31: =LARGE((Table6234[[#This Row],[K1]:[Z4]]),4) -> 0 | AC31: =LARGE((Table6234[[#This Row],[K1]:[Z4]]),5) -> 0 | AD31: =LARGE((Table6234[[#This Row],[K1]:[Z4]]),6) -> 0 | AE31: =LARGE((Table6234[[#This Row],[K1]:[Z4]]),7) -> 0 | AF31: =LARGE((Table6234[[#This Row],[K1]:[Z4]]),8) -> 0 | AG31: =LARGE((Table6234[[#This Row],[K1]:[Z4]]),9) -> 0 | AH31: =LARGE((Table6234[[#This Row],[K1]:[Z4]]),10) -> 0 | AI31: =SUM(Y31:AH31) -> 0 | AJ31: =K31+AI31 -> 3
A32: 29 | B32: 13 | C32: Luke van Zyl | D32: 47890 | E32: NR | F32: TOP | G32: 0 | H32: 0 | I32: 0 | J32: 3 | K32: =SUM(Table6234[[#This Row],[SARMC 1]:[SARMC 4]]) -> 3 | L32: 0 | M32: 0 | N32: 0 | O32: 0 | P32: 0 | Q32: 0 | R32: 0 | S32: 0 | T32: 0 | U32: 0 | V32: 0 | W32: 0 | X32: 0 | Y32: =LARGE((Table6234[[#This Row],[K1]:[Z4]]),1) -> 0 | Z32: =LARGE((Table6234[[#This Row],[K1]:[Z4]]),2) -> 0 | AA32: =LARGE((Table6234[[#This Row],[K1]:[Z4]]),3) -> 0 | AB32: =LARGE((Table6234[[#This Row],[K1]:[Z4]]),4) -> 0 | AC32: =LARGE((Table6234[[#This Row],[K1]:[Z4]]),5) -> 0 | AD32: =LARGE((Table6234[[#This Row],[K1]:[Z4]]),6) -> 0 | AE32: =LARGE((Table6234[[#This Row],[K1]:[Z4]]),7) -> 0 | AF32: =LARGE((Table6234[[#This Row],[K1]:[Z4]]),8) -> 0 | AG32: =LARGE((Table6234[[#This Row],[K1]:[Z4]]),9) -> 0 | AH32: =LARGE((Table6234[[#This Row],[K1]:[Z4]]),10) -> 0 | AI32: =SUM(Y32:AH32) -> 0 | AJ32: =K32+AI32 -> 3
A33: 30 | C33: =_xlfn.XLOOKUP(Table6234[[#This Row],[No.]],Sheet2!B:B,Sheet2!C:C) -> 0 | D33: =_xlfn.XLOOKUP(Table6234[[#This Row],[No.]],Sheet2!B:B,Sheet2!G:G) -> 0 | E33: =_xlfn.XLOOKUP(Table6234[[#This Row],[No.]],Sheet2!B:B,Sheet2!H:H) -> 0 | F33: =_xlfn.XLOOKUP(Table6234[[#This Row],[No.]],Sheet2!B:B,Sheet2!D:D) -> 0 | G33: 0 | H33: 0 | I33: 0 | J33: 0 | K33: =SUM(Table6234[[#This Row],[SARMC 1]:[SARMC 4]]) -> 0 | L33: 0 | M33: 0 | N33: 0 | O33: 0 | P33: 0 | Q33: 0 | R33: 0 | S33: 0 | T33: 0 | U33: 0 | V33: 0 | W33: 0 | X33: 0 | Y33: =LARGE((Table6234[[#This Row],[K1]:[Z4]]),1) -> 0 | Z33: =LARGE((Table6234[[#This Row],[K1]:[Z4]]),2) -> 0 | AA33: =LARGE((Table6234[[#This Row],[K1]:[Z4]]),3) -> 0 | AB33: =LARGE((Table6234[[#This Row],[K1]:[Z4]]),4) -> 0 | AC33: =LARGE((Table6234[[#This Row],[K1]:[Z4]]),5) -> 0 | AD33: =LARGE((Table6234[[#This Row],[K1]:[Z4]]),6) -> 0 | AE33: =LARGE((Table6234[[#This Row],[K1]:[Z4]]),7) -> 0 | AF33: =LARGE((Table6234[[#This Row],[K1]:[Z4]]),8) -> 0 | AG33: =LARGE((Table6234[[#This Row],[K1]:[Z4]]),9) -> 0 | AH33: =LARGE((Table6234[[#This Row],[K1]:[Z4]]),10) -> 0 | AI33: =SUM(Y33:AH33) -> 0 | AJ33: =K33+AI33 -> 0
A34: 31 | C34: =_xlfn.XLOOKUP(Table6234[[#This Row],[No.]],Sheet2!B:B,Sheet2!C:C) -> 0 | D34: =_xlfn.XLOOKUP(Table6234[[#This Row],[No.]],Sheet2!B:B,Sheet2!G:G) -> 0 | E34: =_xlfn.XLOOKUP(Table6234[[#This Row],[No.]],Sheet2!B:B,Sheet2!H:H) -> 0 | F34: =_xlfn.XLOOKUP(Table6234[[#This Row],[No.]],Sheet2!B:B,Sheet2!D:D) -> 0 | G34: 0 | H34: 0 | I34: 0 | J34: 0 | K34: =SUM(Table6234[[#This Row],[SARMC 1]:[SARMC 4]]) -> 0 | L34: 0 | M34: 0 | N34: 0 | O34: 0 | P34: 0 | Q34: 0 | R34: 0 | S34: 0 | T34: 0 | U34: 0 | V34: 0 | W34: 0 | X34: 0 | Y34: =LARGE((Table6234[[#This Row],[K1]:[Z4]]),1) -> 0 | Z34: =LARGE((Table6234[[#This Row],[K1]:[Z4]]),2) -> 0 | AA34: =LARGE((Table6234[[#This Row],[K1]:[Z4]]),3) -> 0 | AB34: =LARGE((Table6234[[#This Row],[K1]:[Z4]]),4) -> 0 | AC34: =LARGE((Table6234[[#This Row],[K1]:[Z4]]),5) -> 0 | AD34: =LARGE((Table6234[[#This Row],[K1]:[Z4]]),6) -> 0 | AE34: =LARGE((Table6234[[#This Row],[K1]:[Z4]]),7) -> 0 | AF34: =LARGE((Table6234[[#This Row],[K1]:[Z4]]),8) -> 0 | AG34: =LARGE((Table6234[[#This Row],[K1]:[Z4]]),9) -> 0 | AH34: =LARGE((Table6234[[#This Row],[K1]:[Z4]]),10) -> 0 | AI34: =SUM(Y34:AH34) -> 0 | AJ34: =K34+AI34 -> 0
A35: 32 | C35: =_xlfn.XLOOKUP(Table6234[[#This Row],[No.]],Sheet2!B:B,Sheet2!C:C) -> 0 | D35: =_xlfn.XLOOKUP(Table6234[[#This Row],[No.]],Sheet2!B:B,Sheet2!G:G) -> 0 | E35: =_xlfn.XLOOKUP(Table6234[[#This Row],[No.]],Sheet2!B:B,Sheet2!H:H) -> 0 | F35: =_xlfn.XLOOKUP(Table6234[[#This Row],[No.]],Sheet2!B:B,Sheet2!D:D) -> 0 | G35: 0 | H35: 0 | I35: 0 | J35: 0 | K35: =SUM(Table6234[[#This Row],[SARMC 1]:[SARMC 4]]) -> 0 | L35: 0 | M35: 0 | N35: 0 | O35: 0 | P35: 0 | Q35: 0 | R35: 0 | S35: 0 | T35: 0 | U35: 0 | V35: 0 | W35: 0 | X35: 0 | Y35: =LARGE((Table6234[[#This Row],[K1]:[Z4]]),1) -> 0 | Z35: =LARGE((Table6234[[#This Row],[K1]:[Z4]]),2) -> 0 | AA35: =LARGE((Table6234[[#This Row],[K1]:[Z4]]),3) -> 0 | AB35: =LARGE((Table6234[[#This Row],[K1]:[Z4]]),4) -> 0 | AC35: =LARGE((Table6234[[#This Row],[K1]:[Z4]]),5) -> 0 | AD35: =LARGE((Table6234[[#This Row],[K1]:[Z4]]),6) -> 0 | AE35: =LARGE((Table6234[[#This Row],[K1]:[Z4]]),7) -> 0 | AF35: =LARGE((Table6234[[#This Row],[K1]:[Z4]]),8) -> 0 | AG35: =LARGE((Table6234[[#This Row],[K1]:[Z4]]),9) -> 0 | AH35: =LARGE((Table6234[[#This Row],[K1]:[Z4]]),10) -> 0 | AI35: =SUM(Y35:AH35) -> 0 | AJ35: =K35+AI35 -> 0
A36: 33 | C36: =_xlfn.XLOOKUP(Table6234[[#This Row],[No.]],Sheet2!B:B,Sheet2!C:C) -> 0 | D36: =_xlfn.XLOOKUP(Table6234[[#This Row],[No.]],Sheet2!B:B,Sheet2!G:G) -> 0 | E36: =_xlfn.XLOOKUP(Table6234[[#This Row],[No.]],Sheet2!B:B,Sheet2!H:H) -> 0 | F36: =_xlfn.XLOOKUP(Table6234[[#This Row],[No.]],Sheet2!B:B,Sheet2!D:D) -> 0 | G36: 0 | H36: 0 | I36: 0 | J36: 0 | K36: =SUM(Table6234[[#This Row],[SARMC 1]:[SARMC 4]]) -> 0 | L36: 0 | M36: 0 | N36: 0 | O36: 0 | P36: 0 | Q36: 0 | R36: 0 | S36: 0 | T36: 0 | U36: 0 | V36: 0 | W36: 0 | X36: 0 | Y36: =LARGE((Table6234[[#This Row],[K1]:[Z4]]),1) -> 0 | Z36: =LARGE((Table6234[[#This Row],[K1]:[Z4]]),2) -> 0 | AA36: =LARGE((Table6234[[#This Row],[K1]:[Z4]]),3) -> 0 | AB36: =LARGE((Table6234[[#This Row],[K1]:[Z4]]),4) -> 0 | AC36: =LARGE((Table6234[[#This Row],[K1]:[Z4]]),5) -> 0 | AD36: =LARGE((Table6234[[#This Row],[K1]:[Z4]]),6) -> 0 | AE36: =LARGE((Table6234[[#This Row],[K1]:[Z4]]),7) -> 0 | AF36: =LARGE((Table6234[[#This Row],[K1]:[Z4]]),8) -> 0 | AG36: =LARGE((Table6234[[#This Row],[K1]:[Z4]]),9) -> 0 | AH36: =LARGE((Table6234[[#This Row],[K1]:[Z4]]),10) -> 0 | AI36: =SUM(Y36:AH36) -> 0 | AJ36: =K36+AI36 -> 0
A37: 34 | C37: =_xlfn.XLOOKUP(Table6234[[#This Row],[No.]],Sheet2!B:B,Sheet2!C:C) -> 0 | D37: =_xlfn.XLOOKUP(Table6234[[#This Row],[No.]],Sheet2!B:B,Sheet2!G:G) -> 0 | E37: =_xlfn.XLOOKUP(Table6234[[#This Row],[No.]],Sheet2!B:B,Sheet2!H:H) -> 0 | F37: =_xlfn.XLOOKUP(Table6234[[#This Row],[No.]],Sheet2!B:B,Sheet2!D:D) -> 0 | G37: 0 | H37: 0 | I37: 0 | J37: 0 | K37: =SUM(Table6234[[#This Row],[SARMC 1]:[SARMC 4]]) -> 0 | L37: 0 | M37: 0 | N37: 0 | O37: 0 | P37: 0 | Q37: 0 | R37: 0 | S37: 0 | T37: 0 | U37: 0 | V37: 0 | W37: 0 | X37: 0 | Y37: =LARGE((Table6234[[#This Row],[K1]:[Z4]]),1) -> 0 | Z37: =LARGE((Table6234[[#This Row],[K1]:[Z4]]),2) -> 0 | AA37: =LARGE((Table6234[[#This Row],[K1]:[Z4]]),3) -> 0 | AB37: =LARGE((Table6234[[#This Row],[K1]:[Z4]]),4) -> 0 | AC37: =LARGE((Table6234[[#This Row],[K1]:[Z4]]),5) -> 0 | AD37: =LARGE((Table6234[[#This Row],[K1]:[Z4]]),6) -> 0 | AE37: =LARGE((Table6234[[#This Row],[K1]:[Z4]]),7) -> 0 | AF37: =LARGE((Table6234[[#This Row],[K1]:[Z4]]),8) -> 0 | AG37: =LARGE((Table6234[[#This Row],[K1]:[Z4]]),9) -> 0 | AH37: =LARGE((Table6234[[#This Row],[K1]:[Z4]]),10) -> 0 | AI37: =SUM(Y37:AH37) -> 0 | AJ37: =K37+AI37 -> 0
A38: 35 | C38: =_xlfn.XLOOKUP(Table6234[[#This Row],[No.]],Sheet2!B:B,Sheet2!C:C) -> 0 | D38: =_xlfn.XLOOKUP(Table6234[[#This Row],[No.]],Sheet2!B:B,Sheet2!G:G) -> 0 | E38: =_xlfn.XLOOKUP(Table6234[[#This Row],[No.]],Sheet2!B:B,Sheet2!H:H) -> 0 | F38: =_xlfn.XLOOKUP(Table6234[[#This Row],[No.]],Sheet2!B:B,Sheet2!D:D) -> 0 | G38: 0 | H38: 0 | I38: 0 | J38: 0 | K38: =SUM(Table6234[[#This Row],[SARMC 1]:[SARMC 4]]) -> 0 | L38: 0 | M38: 0 | N38: 0 | O38: 0 | P38: 0 | Q38: 0 | R38: 0 | S38: 0 | T38: 0 | U38: 0 | V38: 0 | W38: 0 | X38: 0 | Y38: =LARGE((Table6234[[#This Row],[K1]:[Z4]]),1) -> 0 | Z38: =LARGE((Table6234[[#This Row],[K1]:[Z4]]),2) -> 0 | AA38: =LARGE((Table6234[[#This Row],[K1]:[Z4]]),3) -> 0 | AB38: =LARGE((Table6234[[#This Row],[K1]:[Z4]]),4) -> 0 | AC38: =LARGE((Table6234[[#This Row],[K1]:[Z4]]),5) -> 0 | AD38: =LARGE((Table6234[[#This Row],[K1]:[Z4]]),6) -> 0 | AE38: =LARGE((Table6234[[#This Row],[K1]:[Z4]]),7) -> 0 | AF38: =LARGE((Table6234[[#This Row],[K1]:[Z4]]),8) -> 0 | AG38: =LARGE((Table6234[[#This Row],[K1]:[Z4]]),9) -> 0 | AH38: =LARGE((Table6234[[#This Row],[K1]:[Z4]]),10) -> 0 | AI38: =SUM(Y38:AH38) -> 0 | AJ38: =K38+AI38 -> 0
C39: Provisional subject to MSA | M39: =(COUNTIF(L4:L38,">0")) -> 9 | P39: =(COUNTIF(O4:O38,">0")) -> 11 | S39: =(COUNTIF(R4:R38,">0")) -> 15 | V39: =(COUNTIF(U4:U38,">0")) -> 11

Sheet MICRO MAX
A1: #VALUE!
A2: #VALUE! | G2: REGIONAL | L2: KILLARNEY | O2: FK | R2: ZIKR | U2: ZWARTKOPS | Y2: BEST NATIONAL POINTS | AI2: TOTAL | AJ2: FINAL
A3: Rnk | B3: No. | C3: Name | D3: License # | E3: Region | F3: Chassis | G3: SARMC 1 | H3: SARMC 2 | I3: SARMC 3 | J3: SARMC 4 | K3: Total Bonus | L3: K1 | M3: K2 | N3: K3 | O3: FK1 | P3: FK2 | Q3: FK3 | R3: Z1 | S3: Z2 | T3: Z3 | U3: Z1' | V3: Z2' | W3: Z3' | X3: Z4 | Y3: 1 | Z3: 2 | AA3: 3 | AB3: 4 | AC3: 5 | AD3: 6 | AE3: 7 | AF3: 8 | AG3: 9 | AH3: 10 | AI3: National | AJ3: TOTAL
A4: 1 | B4: 623 | C4: Radhi Harris | D4: 37271 | E4: NR | F4: CRG | G4: 3 | H4: 3 | I4: 3 | J4: 3 | K4: =SUM(Table623[[#This Row],[SARMC 1]:[SARMC 4]]) -> 12 | L4: 32 | M4: 35 | N4: 32 | O4: 35 | P4: 35 | Q4: 35 | R4: 35 | S4: 35 | T4: 35 | U4: 35 | V4: 35 | W4: 32 | X4: excl | Y4: =LARGE((Table623[[#This Row],[K1]:[Z4]]),1) -> 35 | Z4: =LARGE((Table623[[#This Row],[K1]:[Z4]]),2) -> 35 | AA4: =LARGE((Table623[[#This Row],[K1]:[Z4]]),3) -> 35 | AB4: =LARGE((Table623[[#This Row],[K1]:[Z4]]),4) -> 35 | AC4: =LARGE((Table623[[#This Row],[K1]:[Z4]]),5) -> 35 | AD4: =LARGE((Table623[[#This Row],[K1]:[Z4]]),6) -> 35 | AE4: =LARGE((Table623[[#This Row],[K1]:[Z4]]),7) -> 35 | AF4: =LARGE((Table623[[#This Row],[K1]:[Z4]]),8) -> 35 | AG4: =LARGE((Table623[[#This Row],[K1]:[Z4]]),9) -> 35 | AH4: =LARGE((Table623[[#This Row],[K1]:[Z4]]),10) -> 32 | AI4: =SUM(Y4:AH4) -> 347 | AJ4: =K4+AI4 -> 359
A5: 2 | B5: 699 | C5: Slater Smith | D5: 33804 | E5: WP | F5: CRG | G5: 3 | H5: 3 | I5: 3 | J5: 3 | K5: =SUM(Table623[[#This Row],[SARMC 1]:[SARMC 4]]) -> 12 | L5: 35 | M5: 30 | N5: 35 | O5: 27 | P5: 28 | Q5: 30 | R5: 25 | S5: 29 | T5: 32 | U5: 32 | V5: 29 | W5: 30 | X5: 35 | Y5: =LARGE((Table623[[#This Row],[K1]:[Z4]]),1) -> 35 | Z5: =LARGE((Table623[[#This Row],[K1]:[Z4]]),2) -> 35 | AA5: =LARGE((Table623[[#This Row],[K1]:[Z4]]),3) -> 35 | AB5: =LARGE((Table623[[#This Row],[K1]:[Z4]]),4) -> 32 | AC5: =LARGE((Table623[[#This Row],[K1]:[Z4]]),5) -> 32 | AD5: =LARGE((Table623[[#This Row],[K1]:[Z4]]),6) -> 30 | AE5: =LARGE((Table623[[#This Row],[K1]:[Z4]]),7) -> 30 | AF5: =LARGE((Table623[[#This Row],[K1]:[Z4]]),8) -> 30 | AG5: =LARGE((Table623[[#This Row],[K1]:[Z4]]),9) -> 29 | AH5: =LARGE((Table623[[#This Row],[K1]:[Z4]]),10) -> 29 | AI5: =SUM(Y5:AH5) -> 317 | AJ5: =K5+AI5 -> 329
A6: 3 | B6: 646 | C6: Alonzo De Oliveira | D6: 37426 | E6: NR | F6: PAROLIN | G6: 3 | H6: 3 | I6: 3 | J6: 3 | K6: =SUM(Table623[[#This Row],[SARMC 1]:[SARMC 4]]) -> 12 | L6: 28 | M6: 26 | N6: 28 | O6: 32 | P6: 32 | Q6: 32 | R6: 32 | S6: 30 | T6: 30 | U6: 26 | V6: 25 | W6: 27 | X6: 29 | Y6: =LARGE((Table623[[#This Row],[K1]:[Z4]]),1) -> 32 | Z6: =LARGE((Table623[[#This Row],[K1]:[Z4]]),2) -> 32 | AA6: =LARGE((Table623[[#This Row],[K1]:[Z4]]),3) -> 32 | AB6: =LARGE((Table623[[#This Row],[K1]:[Z4]]),4) -> 32 | AC6: =LARGE((Table623[[#This Row],[K1]:[Z4]]),5) -> 30 | AD6: =LARGE((Table623[[#This Row],[K1]:[Z4]]),6) -> 30 | AE6: =LARGE((Table623[[#This Row],[K1]:[Z4]]),7) -> 29 | AF6: =LARGE((Table623[[#This Row],[K1]:[Z4]]),8) -> 28 | AG6: =LARGE((Table623[[#This Row],[K1]:[Z4]]),9) -> 28 | AH6: =LARGE((Table623[[#This Row],[K1]:[Z4]]),10) -> 27 | AI6: =SUM(Y6:AH6) -> 300 | AJ6: =K6+AI6 -> 312
A7: 4 | B7: 664 | C7: Jordan Jurgens | D7: 34339 | E7: NR | F7: PAROLIN | G7: 3 | H7: 3 | I7: 3 | J7: 3 | K7: =SUM(Table623[[#This Row],[SARMC 1]:[SARMC 4]]) -> 12 | L7: 25 | M7: 25 | N7: 26 | O7: 30 | P7: 29 | Q7: 28 | R7: 28 | S7: 32 | T7: 29 | U7: 28 | V7: 28 | W7: 25 | X7: 30 | Y7: =LARGE((Table623[[#This Row],[K1]:[Z4]]),1) -> 32 | Z7: =LARGE((Table623[[#This Row],[K1]:[Z4]]),2) -> 30 | AA7: =LARGE((Table623[[#This Row],[K1]:[Z4]]),3) -> 30 | AB7: =LARGE((Table623[[#This Row],[K1]:[Z4]]),4) -> 29 | AC7: =LARGE((Table623[[#This Row],[K1]:[Z4]]),5) -> 29 | AD7: =LARGE((Table623[[#This Row],[K1]:[Z4]]),6) -> 28 | AE7: =LARGE((Table623[[#This Row],[K1]:[Z4]]),7) -> 28 | AF7: =LARGE((Table623[[#This Row],[K1]:[Z4]]),8) -> 28 | AG7: =LARGE((Table623[[#This Row],[K1]:[Z4]]),9) -> 28 | AH7: =LARGE((Table623[[#This Row],[K1]:[Z4]]),10) -> 26 | AI7: =SUM(Y7:AH7) -> 288 | AJ7: =K7+AI7 -> 300
A8: 5 | B8: 621 | C8: Teresa Bettencourt | D8: ATCM1026 | E8: MOZ | F8: CRG | G8: 3 | H8: 3 | I8: 3 | J8: 3 | K8: =SUM(Table623[[#This Row],[SARMC 1]:[SARMC 4]]) -> 12 | L8: 19 | M8: 21 | N8: 23 | O8: 28 | P8: 30 | Q8: 29 | R8: 24 | S8: 27 | T8: 26 | U8: 30 | V8: 30 | W8: 35 | X8: 21 | Y8: =LARGE((Table623[[#This Row],[K1]:[Z4]]),1) -> 35 | Z8: =LARGE((Table623[[#This Row],[K1]:[Z4]]),2) -> 30 | AA8: =LARGE((Table623[[#This Row],[K1]:[Z4]]),3) -> 30 | AB8: =LARGE((Table623[[#This Row],[K1]:[Z4]]),4) -> 30 | AC8: =LARGE((Table623[[#This Row],[K1]:[Z4]]),5) -> 29 | AD8: =LARGE((Table623[[#This Row],[K1]:[Z4]]),6) -> 28 | AE8: =LARGE((Table623[[#This Row],[K1]:[Z4]]),7) -> 27 | AF8: =LARGE((Table623[[#This Row],[K1]:[Z4]]),8) -> 26 | AG8: =LARGE((Table623[[#This Row],[K1]:[Z4]]),9) -> 24 | AH8: =LARGE((Table623[[#This Row],[K1]:[Z4]]),10) -> 23 | AI8: =SUM(Y8:AH8) -> 282 | AJ8: =K8+AI8 -> 294
A9: 6 | B9: 617 | C9: Rofhiwa Ndwambi | D9: 42864 | E9: NR | F9: KR | G9: 3 | H9: 3 | I9: 3 | J9: 3 | K9: =SUM(Table623[[#This Row],[SARMC 1]:[SARMC 4]]) -> 12 | L9: 26 | M9: 28 | N9: 27 | O9: 29 | P9: 27 | Q9: 25 | R9: 29 | S9: 23 | T9: 28 | U9: 22 | V9: 21 | W9: 20 | X9: 26 | Y9: =LARGE((Table623[[#This Row],[K1]:[Z4]]),1) -> 29 | Z9: =LARGE((Table623[[#This Row],[K1]:[Z4]]),2) -> 29 | AA9: =LARGE((Table623[[#This Row],[K1]:[Z4]]),3) -> 28 | AB9: =LARGE((Table623[[#This Row],[K1]:[Z4]]),4) -> 28 | AC9: =LARGE((Table623[[#This Row],[K1]:[Z4]]),5) -> 27 | AD9: =LARGE((Table623[[#This Row],[K1]:[Z4]]),6) -> 27 | AE9: =LARGE((Table623[[#This Row],[K1]:[Z4]]),7) -> 26 | AF9: =LARGE((Table623[[#This Row],[K1]:[Z4]]),8) -> 26 | AG9: =LARGE((Table623[[#This Row],[K1]:[Z4]]),9) -> 25 | AH9: =LARGE((Table623[[#This Row],[K1]:[Z4]]),10) -> 23 | AI9: =SUM(Y9:AH9) -> 268 | AJ9: =K9+AI9 -> 280
A10: 7 | B10: 641 | C10: Aston Verheul | D10: 37524 | E10: NR | F10: CRG | G10: 3 | H10: 3 | I10: 3 | J10: 3 | K10: =SUM(Table623[[#This Row],[SARMC 1]:[SARMC 4]]) -> 12 | L10: 23 | M10: 23 | N10: 21 | O10: 24 | P10: 25 | Q10: 24 | R10: 27 | S10: 28 | T10: 15 | U10: 27 | V10: 27 | W10: 28 | X10: 32 | Y10: =LARGE((Table623[[#This Row],[K1]:[Z4]]),1) -> 32 | Z10: =LARGE((Table623[[#This Row],[K1]:[Z4]]),2) -> 28 | AA10: =LARGE((Table623[[#This Row],[K1]:[Z4]]),3) -> 28 | AB10: =LARGE((Table623[[#This Row],[K1]:[Z4]]),4) -> 27 | AC10: =LARGE((Table623[[#This Row],[K1]:[Z4]]),5) -> 27 | AD10: =LARGE((Table623[[#This Row],[K1]:[Z4]]),6) -> 27 | AE10: =LARGE((Table623[[#This Row],[K1]:[Z4]]),7) -> 25 | AF10: =LARGE((Table623[[#This Row],[K1]:[Z4]]),8) -> 24 | AG10: =LARGE((Table623[[#This Row],[K1]:[Z4]]),9) -> 24 | AH10: =LARGE((Table623[[#This Row],[K1]:[Z4]]),10) -> 23 | AI10: =SUM(Y10:AH10) -> 265 | AJ10: =K10+AI10 -> 277
A11: 8 | B11: 619 | C11: Zwothe Magoda | D11: 45247 | E11: NR | F11: CRG | G11: 3 | H11: 3 | I11: 3 | J11: 3 | K11: =SUM(Table623[[#This Row],[SARMC 1]:[SARMC 4]]) -> 12 | L11: 24 | M11: 20 | N11: 22 | O11: 23 | P11: 23 | Q11: 26 | R11: 23 | S11: 24 | T11: 27 | U11: 29 | V11: 32 | W11: 29 | X11: 23 | Y11: =LARGE((Table623[[#This Row],[K1]:[Z4]]),1) -> 32 | Z11: =LARGE((Table623[[#This Row],[K1]:[Z4]]),2) -> 29 | AA11: =LARGE((Table623[[#This Row],[K1]:[Z4]]),3) -> 29 | AB11: =LARGE((Table623[[#This Row],[K1]:[Z4]]),4) -> 27 | AC11: =LARGE((Table623[[#This Row],[K1]:[Z4]]),5) -> 26 | AD11: =LARGE((Table623[[#This Row],[K1]:[Z4]]),6) -> 24 | AE11: =LARGE((Table623[[#This Row],[K1]:[Z4]]),7) -> 24 | AF11: =LARGE((Table623[[#This Row],[K1]:[Z4]]),8) -> 23 | AG11: =LARGE((Table623[[#This Row],[K1]:[Z4]]),9) -> 23 | AH11: =LARGE((Table623[[#This Row],[K1]:[Z4]]),10) -> 23 | AI11: =SUM(Y11:AH11) -> 260 | AJ11: =K11+AI11 -> 272
A12: 9 | B12: 672 | C12: Thendo Mulaudzi | D12: 46064 | E12: NR | F12: CRG | G12: 3 | H12: 3 | I12: 3 | J12: 3 | K12: =SUM(Table623[[#This Row],[SARMC 1]:[SARMC 4]]) -> 12 | L12: 20 | M12: 24 | N12: 20 | O12: 25 | P12: 24 | Q12: 22 | R12: 30 | S12: 17 | T12: 24 | U12: 25 | V12: 26 | W12: 26 | X12: 28 | Y12: =LARGE((Table623[[#This Row],[K1]:[Z4]]),1) -> 30 | Z12: =LARGE((Table623[[#This Row],[K1]:[Z4]]),2) -> 28 | AA12: =LARGE((Table623[[#This Row],[K1]:[Z4]]),3) -> 26 | AB12: =LARGE((Table623[[#This Row],[K1]:[Z4]]),4) -> 26 | AC12: =LARGE((Table623[[#This Row],[K1]:[Z4]]),5) -> 25 | AD12: =LARGE((Table623[[#This Row],[K1]:[Z4]]),6) -> 25 | AE12: =LARGE((Table623[[#This Row],[K1]:[Z4]]),7) -> 24 | AF12: =LARGE((Table623[[#This Row],[K1]:[Z4]]),8) -> 24 | AG12: =LARGE((Table623[[#This Row],[K1]:[Z4]]),9) -> 24 | AH12: =LARGE((Table623[[#This Row],[K1]:[Z4]]),10) -> 22 | AI12: =SUM(Y12:AH12) -> 254 | AJ12: =K12+AI12 -> 266
A13: 10 | B13: 620 | C13: Nicholas Fleming | D13: 45645 | E13: NR | F13: LN | G13: 3 | H13: 3 | I13: 3 | J13: 0 | K13: =SUM(Table623[[#This Row],[SARMC 1]:[SARMC 4]]) -> 9 | L13: 0 | M13: 0 | N13: 0 | O13: 26 | P13: 26 | Q13: 27 | R13: 26 | S13: 25 | T13: 25 | U13: 23 | V13: 24 | W13: 23 | X13: 24 | Y13: =LARGE((Table623[[#This Row],[K1]:[Z4]]),1) -> 27 | Z13: =LARGE((Table623[[#This Row],[K1]:[Z4]]),2) -> 26 | AA13: =LARGE((Table623[[#This Row],[K1]:[Z4]]),3) -> 26 | AB13: =LARGE((Table623[[#This Row],[K1]:[Z4]]),4) -> 26 | AC13: =LARGE((Table623[[#This Row],[K1]:[Z4]]),5) -> 25 | AD13: =LARGE((Table623[[#This Row],[K1]:[Z4]]),6) -> 25 | AE13: =LARGE((Table623[[#This Row],[K1]:[Z4]]),7) -> 24 | AF13: =LARGE((Table623[[#This Row],[K1]:[Z4]]),8) -> 24 | AG13: =LARGE((Table623[[#This Row],[K1]:[Z4]]),9) -> 23 | AH13: =LARGE((Table623[[#This Row],[K1]:[Z4]]),10) -> 23 | AI13: =SUM(Y13:AH13) -> 249 | AJ13: =K13+AI13 -> 258
A14: 11 | B14: 662 | C14: Yaseen Panday | D14: 44567 | E14: WP | F14: CRG | G14: 2 | H14: 3 | I14: 3 | J14: 3 | K14: =SUM(Table623[[#This Row],[SARMC 1]:[SARMC 4]]) -> 11 | L14: 27 | M14: 22 | N14: 25 | O14: 22 | P14: 22 | Q14: 0 | R14: 21 | S14: 17 | T14: 22 | U14: 24 | V14: 23 | W14: 24 | X14: 25 | Y14: =LARGE((Table623[[#This Row],[K1]:[Z4]]),1) -> 27 | Z14: =LARGE((Table623[[#This Row],[K1]:[Z4]]),2) -> 25 | AA14: =LARGE((Table623[[#This Row],[K1]:[Z4]]),3) -> 25 | AB14: =LARGE((Table623[[#This Row],[K1]:[Z4]]),4) -> 24 | AC14: =LARGE((Table623[[#This Row],[K1]:[Z4]]),5) -> 24 | AD14: =LARGE((Table623[[#This Row],[K1]:[Z4]]),6) -> 23 | AE14: =LARGE((Table623[[#This Row],[K1]:[Z4]]),7) -> 22 | AF14: =LARGE((Table623[[#This Row],[K1]:[Z4]]),8) -> 22 | AG14: =LARGE((Table623[[#This Row],[K1]:[Z4]]),9) -> 22 | AH14: =LARGE((Table623[[#This Row],[K1]:[Z4]]),10) -> 22 | AI14: =SUM(Y14:AH14) -> 236 | AJ14: =K14+AI14 -> 247
A15: 12 | B15: 624 | C15: Muhluri Ngobeni | D15: 6224 | E15: NR | F15: CRG | G15: 3 | H15: 3 | I15: 3 | J15: 3 | K15: =SUM(Table623[[#This Row],[SARMC 1]:[SARMC 4]]) -> 12 | L15: 0 | M15: 0 | N15: 0 | O15: 21 | P15: 21 | Q15: 23 | R15: 22 | S15: 26 | T15: 23 | U15: 21 | V15: 22 | W15: 22 | X15: 27 | Y15: =LARGE((Table623[[#This Row],[K1]:[Z4]]),1) -> 27 | Z15: =LARGE((Table623[[#This Row],[K1]:[Z4]]),2) -> 26 | AA15: =LARGE((Table623[[#This Row],[K1]:[Z4]]),3) -> 23 | AB15: =LARGE((Table623[[#This Row],[K1]:[Z4]]),4) -> 23 | AC15: =LARGE((Table623[[#This Row],[K1]:[Z4]]),5) -> 22 | AD15: =LARGE((Table623[[#This Row],[K1]:[Z4]]),6) -> 22 | AE15: =LARGE((Table623[[#This Row],[K1]:[Z4]]),7) -> 22 | AF15: =LARGE((Table623[[#This Row],[K1]:[Z4]]),8) -> 21 | AG15: =LARGE((Table623[[#This Row],[K1]:[Z4]]),9) -> 21 | AH15: =LARGE((Table623[[#This Row],[K1]:[Z4]]),10) -> 21 | AI15: =SUM(Y15:AH15) -> 228 | AJ15: =K15+AI15 -> 240
A16: 13 | B16: 636 | C16: Lehan Fourie | D16: 0000 | E16: WP | F16: TONY | G16: 3 | H16: 3 | I16: 3 | J16: 3 | K16: =SUM(Table623[[#This Row],[SARMC 1]:[SARMC 4]]) -> 12 | L16: 30 | M16: 32 | N16: 30 | O16: 0 | P16: 0 | Q16: 0 | R16: 0 | S16: 0 | T16: 0 | U16: 0 | V16: 0 | W16: 0 | X16: 0 | Y16: =LARGE((Table623[[#This Row],[K1]:[Z4]]),1) -> 32 | Z16: =LARGE((Table623[[#This Row],[K1]:[Z4]]),2) -> 30 | AA16: =LARGE((Table623[[#This Row],[K1]:[Z4]]),3) -> 30 | AB16: =LARGE((Table623[[#This Row],[K1]:[Z4]]),4) -> 0 | AC16: =LARGE((Table623[[#This Row],[K1]:[Z4]]),5) -> 0 | AD16: =LARGE((Table623[[#This Row],[K1]:[Z4]]),6) -> 0 | AE16: =LARGE((Table623[[#This Row],[K1]:[Z4]]),7) -> 0 | AF16: =LARGE((Table623[[#This Row],[K1]:[Z4]]),8) -> 0 | AG16: =LARGE((Table623[[#This Row],[K1]:[Z4]]),9) -> 0 | AH16: =LARGE((Table623[[#This Row],[K1]:[Z4]]),10) -> 0 | AI16: =SUM(Y16:AH16) -> 92 | AJ16: =K16+AI16 -> 104
A17: 14 | B17: 633 | C17: Caleb Lingeveldt | D17: 202500003186 | E17: WP | F17: CRG | G17: 3 | H17: 3 | I17: 3 | J17: 3 | K17: =SUM(Table623[[#This Row],[SARMC 1]:[SARMC 4]]) -> 12 | L17: 29 | M17: 29 | N17: 29 | O17: 0 | P17: 0 | Q17: 0 | R17: 0 | S17: 0 | T17: 0 | U17: 0 | V17: 0 | W17: 0 | X17: 0 | Y17: =LARGE((Table623[[#This Row],[K1]:[Z4]]),1) -> 29 | Z17: =LARGE((Table623[[#This Row],[K1]:[Z4]]),2) -> 29 | AA17: =LARGE((Table623[[#This Row],[K1]:[Z4]]),3) -> 29 | AB17: =LARGE((Table623[[#This Row],[K1]:[Z4]]),4) -> 0 | AC17: =LARGE((Table623[[#This Row],[K1]:[Z4]]),5) -> 0 | AD17: =LARGE((Table623[[#This Row],[K1]:[Z4]]),6) -> 0 | AE17: =LARGE((Table623[[#This Row],[K1]:[Z4]]),7) -> 0 | AF17: =LARGE((Table623[[#This Row],[K1]:[Z4]]),8) -> 0 | AG17: =LARGE((Table623[[#This Row],[K1]:[Z4]]),9) -> 0 | AH17: =LARGE((Table623[[#This Row],[K1]:[Z4]]),10) -> 0 | AI17: =SUM(Y17:AH17) -> 87 | AJ17: =K17+AI17 -> 99
A18: 15 | B18: 651 | C18: Ethan Zitha | E18: NR | F18: FK | G18: 0 | H18: 0 | I18: 0 | J18: 0 | K18: =SUM(Table623[[#This Row],[SARMC 1]:[SARMC 4]]) -> 0 | L18: 0 | M18: 0 | N18: 0 | O18: 0 | P18: 0 | Q18: 0 | R18: 0 | S18: 0 | T18: 0 | U18: 20 | V18: 20 | W18: 21 | X18: 22 | Y18: =LARGE((Table623[[#This Row],[K1]:[Z4]]),1) -> 22 | Z18: =LARGE((Table623[[#This Row],[K1]:[Z4]]),2) -> 21 | AA18: =LARGE((Table623[[#This Row],[K1]:[Z4]]),3) -> 20 | AB18: =LARGE((Table623[[#This Row],[K1]:[Z4]]),4) -> 20 | AC18: =LARGE((Table623[[#This Row],[K1]:[Z4]]),5) -> 0 | AD18: =LARGE((Table623[[#This Row],[K1]:[Z4]]),6) -> 0 | AE18: =LARGE((Table623[[#This Row],[K1]:[Z4]]),7) -> 0 | AF18: =LARGE((Table623[[#This Row],[K1]:[Z4]]),8) -> 0 | AG18: =LARGE((Table623[[#This Row],[K1]:[Z4]]),9) -> 0 | AH18: =LARGE((Table623[[#This Row],[K1]:[Z4]]),10) -> 0 | AI18: =SUM(Y18:AH18) -> 83 | AJ18: =K18+AI18 -> 83
A19: 16 | B19: 654 | C19: Juan Stander | D19: 45996 | E19: WP | F19: PRAGA | G19: 3 | H19: 0 | I19: 0 | J19: 0 | K19: =SUM(Table623[[#This Row],[SARMC 1]:[SARMC 4]]) -> 3 | L19: 21 | M19: 27 | N19: 24 | O19: 0 | P19: 0 | Q19: 0 | R19: 0 | S19: 0 | T19: 0 | U19: 0 | V19: 0 | W19: 0 | X19: 0 | Y19: =LARGE((Table623[[#This Row],[K1]:[Z4]]),1) -> 27 | Z19: =LARGE((Table623[[#This Row],[K1]:[Z4]]),2) -> 24 | AA19: =LARGE((Table623[[#This Row],[K1]:[Z4]]),3) -> 21 | AB19: =LARGE((Table623[[#This Row],[K1]:[Z4]]),4) -> 0 | AC19: =LARGE((Table623[[#This Row],[K1]:[Z4]]),5) -> 0 | AD19: =LARGE((Table623[[#This Row],[K1]:[Z4]]),6) -> 0 | AE19: =LARGE((Table623[[#This Row],[K1]:[Z4]]),7) -> 0 | AF19: =LARGE((Table623[[#This Row],[K1]:[Z4]]),8) -> 0 | AG19: =LARGE((Table623[[#This Row],[K1]:[Z4]]),9) -> 0 | AH19: =LARGE((Table623[[#This Row],[K1]:[Z4]]),10) -> 0 | AI19: =SUM(Y19:AH19) -> 72 | AJ19: =K19+AI19 -> 75
A20: 17 | B20: 694 | C20: Abdulnassir Ahm Elmi | D20: KART042 | E20: KEN | F20: BIRELART | G20: 0 | H20: 0 | I20: 0 | J20: 0 | K20: =SUM(Table623[[#This Row],[SARMC 1]:[SARMC 4]]) -> 0 | L20: 0 | M20: 0 | N20: 0 | O20: 0 | P20: 0 | Q20: 0 | R20: 20 | S20: 22 | T20: 20 | U20: 0 | V20: 0 | W20: 0 | X20: 0 | Y20: =LARGE((Table623[[#This Row],[K1]:[Z4]]),1) -> 22 | Z20: =LARGE((Table623[[#This Row],[K1]:[Z4]]),2) -> 20 | AA20: =LARGE((Table623[[#This Row],[K1]:[Z4]]),3) -> 20 | AB20: =LARGE((Table623[[#This Row],[K1]:[Z4]]),4) -> 0 | AC20: =LARGE((Table623[[#This Row],[K1]:[Z4]]),5) -> 0 | AD20: =LARGE((Table623[[#This Row],[K1]:[Z4]]),6) -> 0 | AE20: =LARGE((Table623[[#This Row],[K1]:[Z4]]),7) -> 0 | AF20: =LARGE((Table623[[#This Row],[K1]:[Z4]]),8) -> 0 | AG20: =LARGE((Table623[[#This Row],[K1]:[Z4]]),9) -> 0 | AH20: =LARGE((Table623[[#This Row],[K1]:[Z4]]),10) -> 0 | AI20: =SUM(Y20:AH20) -> 62 | AJ20: =K20+AI20 -> 62
A21: 18 | B21: 644 | C21: Rocco van Eeden | D21: NMSF588 | E21: NAM | F21: TONY | G21: 0 | H21: 0 | I21: 0 | J21: 0 | K21: =SUM(Table623[[#This Row],[SARMC 1]:[SARMC 4]]) -> 0 | L21: 0 | M21: 0 | N21: 0 | O21: 0 | P21: 0 | Q21: 0 | R21: 15 | S21: 17 | T21: 21 | U21: 0 | V21: 0 | W21: 0 | X21: 0 | Y21: =LARGE((Table623[[#This Row],[K1]:[Z4]]),1) -> 21 | Z21: =LARGE((Table623[[#This Row],[K1]:[Z4]]),2) -> 17 | AA21: =LARGE((Table623[[#This Row],[K1]:[Z4]]),3) -> 15 | AB21: =LARGE((Table623[[#This Row],[K1]:[Z4]]),4) -> 0 | AC21: =LARGE((Table623[[#This Row],[K1]:[Z4]]),5) -> 0 | AD21: =LARGE((Table623[[#This Row],[K1]:[Z4]]),6) -> 0 | AE21: =LARGE((Table623[[#This Row],[K1]:[Z4]]),7) -> 0 | AF21: =LARGE((Table623[[#This Row],[K1]:[Z4]]),8) -> 0 | AG21: =LARGE((Table623[[#This Row],[K1]:[Z4]]),9) -> 0 | AH21: =LARGE((Table623[[#This Row],[K1]:[Z4]]),10) -> 0 | AI21: =SUM(Y21:AH21) -> 53 | AJ21: =K21+AI21 -> 53
A22: 19 | B22: 631 | C22: Yinhla Makhubele | D22: 44874 | E22: NR | F22: CRG | G22: 1 | H22: 0 | I22: 0 | J22: 3 | K22: =SUM(Table623[[#This Row],[SARMC 1]:[SARMC 4]]) -> 4 | L22: 22 | M22: 0 | N22: 0 | O22: 0 | P22: 0 | Q22: 0 | R22: 0 | S22: 0 | T22: 0 | U22: 0 | V22: 0 | W22: 0 | X22: 0 | Y22: =LARGE((Table623[[#This Row],[K1]:[Z4]]),1) -> 22 | Z22: =LARGE((Table623[[#This Row],[K1]:[Z4]]),2) -> 0 | AA22: =LARGE((Table623[[#This Row],[K1]:[Z4]]),3) -> 0 | AB22: =LARGE((Table623[[#This Row],[K1]:[Z4]]),4) -> 0 | AC22: =LARGE((Table623[[#This Row],[K1]:[Z4]]),5) -> 0 | AD22: =LARGE((Table623[[#This Row],[K1]:[Z4]]),6) -> 0 | AE22: =LARGE((Table623[[#This Row],[K1]:[Z4]]),7) -> 0 | AF22: =LARGE((Table623[[#This Row],[K1]:[Z4]]),8) -> 0 | AG22: =LARGE((Table623[[#This Row],[K1]:[Z4]]),9) -> 0 | AH22: =LARGE((Table623[[#This Row],[K1]:[Z4]]),10) -> 0 | AI22: =SUM(Y22:AH22) -> 22 | AJ22: =K22+AI22 -> 26
A23: 20 | B23: 684 | C23: Kgosi Mkhawana | D23: 45254 | E23: NR | F23: CRG | G23: 3 | H23: 0 | I23: 0 | J23: 0 | K23: =SUM(Table623[[#This Row],[SARMC 1]:[SARMC 4]]) -> 3 | L23: 18 | M23: 0 | N23: 0 | O23: 0 | P23: 0 | Q23: 0 | R23: 0 | S23: 0 | T23: 0 | U23: 0 | V23: 0 | W23: 0 | X23: 0 | Y23: =LARGE((Table623[[#This Row],[K1]:[Z4]]),1) -> 18 | Z23: =LARGE((Table623[[#This Row],[K1]:[Z4]]),2) -> 0 | AA23: =LARGE((Table623[[#This Row],[K1]:[Z4]]),3) -> 0 | AB23: =LARGE((Table623[[#This Row],[K1]:[Z4]]),4) -> 0 | AC23: =LARGE((Table623[[#This Row],[K1]:[Z4]]),5) -> 0 | AD23: =LARGE((Table623[[#This Row],[K1]:[Z4]]),6) -> 0 | AE23: =LARGE((Table623[[#This Row],[K1]:[Z4]]),7) -> 0 | AF23: =LARGE((Table623[[#This Row],[K1]:[Z4]]),8) -> 0 | AG23: =LARGE((Table623[[#This Row],[K1]:[Z4]]),9) -> 0 | AH23: =LARGE((Table623[[#This Row],[K1]:[Z4]]),10) -> 0 | AI23: =SUM(Y23:AH23) -> 18 | AJ23: =K23+AI23 -> 21
A24: 21 | B24: 632 | C24: Che Makhubele | D24: 44872 | E24: NR | F24: CRG | G24: 3 | H24: 0 | I24: 0 | J24: 3 | K24: =SUM(Table623[[#This Row],[SARMC 1]:[SARMC 4]]) -> 6 | L24: 13 | M24: 0 | N24: 0 | O24: 0 | P24: 0 | Q24: 0 | R24: 0 | S24: 0 | T24: 0 | U24: 0 | V24: 0 | W24: 0 | X24: 0 | Y24: =LARGE((Table623[[#This Row],[K1]:[Z4]]),1) -> 13 | Z24: =LARGE((Table623[[#This Row],[K1]:[Z4]]),2) -> 0 | AA24: =LARGE((Table623[[#This Row],[K1]:[Z4]]),3) -> 0 | AB24: =LARGE((Table623[[#This Row],[K1]:[Z4]]),4) -> 0 | AC24: =LARGE((Table623[[#This Row],[K1]:[Z4]]),5) -> 0 | AD24: =LARGE((Table623[[#This Row],[K1]:[Z4]]),6) -> 0 | AE24: =LARGE((Table623[[#This Row],[K1]:[Z4]]),7) -> 0 | AF24: =LARGE((Table623[[#This Row],[K1]:[Z4]]),8) -> 0 | AG24: =LARGE((Table623[[#This Row],[K1]:[Z4]]),9) -> 0 | AH24: =LARGE((Table623[[#This Row],[K1]:[Z4]]),10) -> 0 | AI24: =SUM(Y24:AH24) -> 13 | AJ24: =K24+AI24 -> 19
A25: 22 | B25: 678 | C25: Aleena Doutie | D25: OE99997850 | E25: WP | F25: TOP | G25: 3 | H25: 3 | I25: 3 | J25: 3 | K25: =SUM(Table623[[#This Row],[SARMC 1]:[SARMC 4]]) -> 12 | L25: 0 | M25: 0 | N25: 0 | O25: 0 | P25: 0 | Q25: 0 | R25: 0 | S25: 0 | T25: 0 | U25: 0 | V25: 0 | W25: 0 | X25: 0 | Y25: =LARGE((Table623[[#This Row],[K1]:[Z4]]),1) -> 0 | Z25: =LARGE((Table623[[#This Row],[K1]:[Z4]]),2) -> 0 | AA25: =LARGE((Table623[[#This Row],[K1]:[Z4]]),3) -> 0 | AB25: =LARGE((Table623[[#This Row],[K1]:[Z4]]),4) -> 0 | AC25: =LARGE((Table623[[#This Row],[K1]:[Z4]]),5) -> 0 | AD25: =LARGE((Table623[[#This Row],[K1]:[Z4]]),6) -> 0 | AE25: =LARGE((Table623[[#This Row],[K1]:[Z4]]),7) -> 0 | AF25: =LARGE((Table623[[#This Row],[K1]:[Z4]]),8) -> 0 | AG25: =LARGE((Table623[[#This Row],[K1]:[Z4]]),9) -> 0 | AH25: =LARGE((Table623[[#This Row],[K1]:[Z4]]),10) -> 0 | AI25: =SUM(Y25:AH25) -> 0 | AJ25: =K25+AI25 -> 12
A26: 23 | B26: 681 | C26: Jamie Geldenhuys | D26: 0 | E26: WP | F26: CRG | G26: 3 | H26: 3 | I26: 3 | J26: 3 | K26: =SUM(Table623[[#This Row],[SARMC 1]:[SARMC 4]]) -> 12 | L26: 0 | M26: 0 | N26: 0 | O26: 0 | P26: 0 | Q26: 0 | R26: 0 | S26: 0 | T26: 0 | U26: 0 | V26: 0 | W26: 0 | X26: 0 | Y26: =LARGE((Table623[[#This Row],[K1]:[Z4]]),1) -> 0 | Z26: =LARGE((Table623[[#This Row],[K1]:[Z4]]),2) -> 0 | AA26: =LARGE((Table623[[#This Row],[K1]:[Z4]]),3) -> 0 | AB26: =LARGE((Table623[[#This Row],[K1]:[Z4]]),4) -> 0 | AC26: =LARGE((Table623[[#This Row],[K1]:[Z4]]),5) -> 0 | AD26: =LARGE((Table623[[#This Row],[K1]:[Z4]]),6) -> 0 | AE26: =LARGE((Table623[[#This Row],[K1]:[Z4]]),7) -> 0 | AF26: =LARGE((Table623[[#This Row],[K1]:[Z4]]),8) -> 0 | AG26: =LARGE((Table623[[#This Row],[K1]:[Z4]]),9) -> 0 | AH26: =LARGE((Table623[[#This Row],[K1]:[Z4]]),10) -> 0 | AI26: =SUM(Y26:AH26) -> 0 | AJ26: =K26+AI26 -> 12
A27: 24 | B27: 674 | C27: Ashlyn Beaumont | D27: 40843 | E27: WP | F27: TOP | G27: 3 | H27: 3 | I27: 3 | J27: 3 | K27: =SUM(Table623[[#This Row],[SARMC 1]:[SARMC 4]]) -> 12 | L27: 0 | M27: 0 | N27: 0 | O27: 0 | P27: 0 | Q27: 0 | R27: 0 | S27: 0 | T27: 0 | U27: 0 | V27: 0 | W27: 0 | X27: 0 | Y27: =LARGE((Table623[[#This Row],[K1]:[Z4]]),1) -> 0 | Z27: =LARGE((Table623[[#This Row],[K1]:[Z4]]),2) -> 0 | AA27: =LARGE((Table623[[#This Row],[K1]:[Z4]]),3) -> 0 | AB27: =LARGE((Table623[[#This Row],[K1]:[Z4]]),4) -> 0 | AC27: =LARGE((Table623[[#This Row],[K1]:[Z4]]),5) -> 0 | AD27: =LARGE((Table623[[#This Row],[K1]:[Z4]]),6) -> 0 | AE27: =LARGE((Table623[[#This Row],[K1]:[Z4]]),7) -> 0 | AF27: =LARGE((Table623[[#This Row],[K1]:[Z4]]),8) -> 0 | AG27: =LARGE((Table623[[#This Row],[K1]:[Z4]]),9) -> 0 | AH27: =LARGE((Table623[[#This Row],[K1]:[Z4]]),10) -> 0 | AI27: =SUM(Y27:AH27) -> 0 | AJ27: =K27+AI27 -> 12
A28: 25 | B28: 647 | C28: Emelee Adriaans | D28: 42783 | E28: WP | F28: BIRELART | G28: 2 | H28: 3 | I28: 3 | J28: 3 | K28: =SUM(Table623[[#This Row],[SARMC 1]:[SARMC 4]]) -> 11 | L28: 0 | M28: 0 | N28: 0 | O28: 0 | P28: 0 | Q28: 0 | R28: 0 | S28: 0 | T28: 0 | U28: 0 | V28: 0 | W28: 0 | X28: 0 | Y28: =LARGE((Table623[[#This Row],[K1]:[Z4]]),1) -> 0 | Z28: =LARGE((Table623[[#This Row],[K1]:[Z4]]),2) -> 0 | AA28: =LARGE((Table623[[#This Row],[K1]:[Z4]]),3) -> 0 | AB28: =LARGE((Table623[[#This Row],[K1]:[Z4]]),4) -> 0 | AC28: =LARGE((Table623[[#This Row],[K1]:[Z4]]),5) -> 0 | AD28: =LARGE((Table623[[#This Row],[K1]:[Z4]]),6) -> 0 | AE28: =LARGE((Table623[[#This Row],[K1]:[Z4]]),7) -> 0 | AF28: =LARGE((Table623[[#This Row],[K1]:[Z4]]),8) -> 0 | AG28: =LARGE((Table623[[#This Row],[K1]:[Z4]]),9) -> 0 | AH28: =LARGE((Table623[[#This Row],[K1]:[Z4]]),10) -> 0 | AI28: =SUM(Y28:AH28) -> 0 | AJ28: =K28+AI28 -> 11
A29: 26 | B29: 655 | C29: Melokuhle Ndlovu | D29: 44293 | E29: KZN | F29: TOP | G29: 3 | H29: 0 | I29: 3 | J29: 0 | K29: =SUM(Table623[[#This Row],[SARMC 1]:[SARMC 4]]) -> 6 | L29: 0 | M29: 0 | N29: 0 | O29: 0 | P29: 0 | Q29: 0 | R29: 0 | S29: 0 | T29: 0 | U29: 0 | V29: 0 | W29: 0 | X29: 0 | Y29: =LARGE((Table623[[#This Row],[K1]:[Z4]]),1) -> 0 | Z29: =LARGE((Table623[[#This Row],[K1]:[Z4]]),2) -> 0 | AA29: =LARGE((Table623[[#This Row],[K1]:[Z4]]),3) -> 0 | AB29: =LARGE((Table623[[#This Row],[K1]:[Z4]]),4) -> 0 | AC29: =LARGE((Table623[[#This Row],[K1]:[Z4]]),5) -> 0 | AD29: =LARGE((Table623[[#This Row],[K1]:[Z4]]),6) -> 0 | AE29: =LARGE((Table623[[#This Row],[K1]:[Z4]]),7) -> 0 | AF29: =LARGE((Table623[[#This Row],[K1]:[Z4]]),8) -> 0 | AG29: =LARGE((Table623[[#This Row],[K1]:[Z4]]),9) -> 0 | AH29: =LARGE((Table623[[#This Row],[K1]:[Z4]]),10) -> 0 | AI29: =SUM(Y29:AH29) -> 0 | AJ29: =K29+AI29 -> 6
A30: 27 | B30: 626 | C30: Giuliana Saladino | D30: 42194 | E30: NR | F30: BIRELART | G30: 2 | H30: 3 | I30: 0 | J30: 0 | K30: =SUM(Table623[[#This Row],[SARMC 1]:[SARMC 4]]) -> 5 | L30: 0 | M30: 0 | N30: 0 | O30: 0 | P30: 0 | Q30: 0 | R30: 0 | S30: 0 | T30: 0 | U30: 0 | V30: 0 | W30: 0 | X30: 0 | Y30: =LARGE((Table623[[#This Row],[K1]:[Z4]]),1) -> 0 | Z30: =LARGE((Table623[[#This Row],[K1]:[Z4]]),2) -> 0 | AA30: =LARGE((Table623[[#This Row],[K1]:[Z4]]),3) -> 0 | AB30: =LARGE((Table623[[#This Row],[K1]:[Z4]]),4) -> 0 | AC30: =LARGE((Table623[[#This Row],[K1]:[Z4]]),5) -> 0 | AD30: =LARGE((Table623[[#This Row],[K1]:[Z4]]),6) -> 0 | AE30: =LARGE((Table623[[#This Row],[K1]:[Z4]]),7) -> 0 | AF30: =LARGE((Table623[[#This Row],[K1]:[Z4]]),8) -> 0 | AG30: =LARGE((Table623[[#This Row],[K1]:[Z4]]),9) -> 0 | AH30: =LARGE((Table623[[#This Row],[K1]:[Z4]]),10) -> 0 | AI30: =SUM(Y30:AH30) -> 0 | AJ30: =K30+AI30 -> 5
A31: 28 | B31: 658 | C31: Sebastien Shuttleworth | D31: 37573 | E31: NR | F31: CRG | G31: 3 | H31: 0 | I31: 0 | J31: 0 | K31: =SUM(Table623[[#This Row],[SARMC 1]:[SARMC 4]]) -> 3 | L31: 0 | M31: 0 | N31: 0 | O31: 0 | P31: 0 | Q31: 0 | R31: 0 | S31: 0 | T31: 0 | U31: 0 | V31: 0 | W31: 0 | X31: 0 | Y31: =LARGE((Table623[[#This Row],[K1]:[Z4]]),1) -> 0 | Z31: =LARGE((Table623[[#This Row],[K1]:[Z4]]),2) -> 0 | AA31: =LARGE((Table623[[#This Row],[K1]:[Z4]]),3) -> 0 | AB31: =LARGE((Table623[[#This Row],[K1]:[Z4]]),4) -> 0 | AC31: =LARGE((Table623[[#This Row],[K1]:[Z4]]),5) -> 0 | AD31: =LARGE((Table623[[#This Row],[K1]:[Z4]]),6) -> 0 | AE31: =LARGE((Table623[[#This Row],[K1]:[Z4]]),7) -> 0 | AF31: =LARGE((Table623[[#This Row],[K1]:[Z4]]),8) -> 0 | AG31: =LARGE((Table623[[#This Row],[K1]:[Z4]]),9) -> 0 | AH31: =LARGE((Table623[[#This Row],[K1]:[Z4]]),10) -> 0 | AI31: =SUM(Y31:AH31) -> 0 | AJ31: =K31+AI31 -> 3
A32: 29 | B32: 627 | C32: Ryan Wooldridge | D32: 42716 | E32: KZN | F32: TONY | G32: 3 | H32: 0 | I32: 0 | J32: 0 | K32: =SUM(Table623[[#This Row],[SARMC 1]:[SARMC 4]]) -> 3 | L32: 0 | M32: 0 | N32: 0 | O32: 0 | P32: 0 | Q32: 0 | R32: 0 | S32: 0 | T32: 0 | U32: 0 | V32: 0 | W32: 0 | X32: 0 | Y32: =LARGE((Table623[[#This Row],[K1]:[Z4]]),1) -> 0 | Z32: =LARGE((Table623[[#This Row],[K1]:[Z4]]),2) -> 0 | AA32: =LARGE((Table623[[#This Row],[K1]:[Z4]]),3) -> 0 | AB32: =LARGE((Table623[[#This Row],[K1]:[Z4]]),4) -> 0 | AC32: =LARGE((Table623[[#This Row],[K1]:[Z4]]),5) -> 0 | AD32: =LARGE((Table623[[#This Row],[K1]:[Z4]]),6) -> 0 | AE32: =LARGE((Table623[[#This Row],[K1]:[Z4]]),7) -> 0 | AF32: =LARGE((Table623[[#This Row],[K1]:[Z4]]),8) -> 0 | AG32: =LARGE((Table623[[#This Row],[K1]:[Z4]]),9) -> 0 | AH32: =LARGE((Table623[[#This Row],[K1]:[Z4]]),10) -> 0 | AI32: =SUM(Y32:AH32) -> 0 | AJ32: =K32+AI32 -> 3
A33: 30 | B33: 611 | C33: Ithan Guerras | E33: NR | G33: 0 | H33: 0 | I33: 0 | J33: 3 | K33: =SUM(Table623[[#This Row],[SARMC 1]:[SARMC 4]]) -> 3 | L33: 0 | M33: 0 | N33: 0 | O33: 0 | P33: 0 | Q33: 0 | R33: 0 | S33: 0 | T33: 0 | U33: 0 | V33: 0 | W33: 0 | X33: 0 | Y33: =LARGE((Table623[[#This Row],[K1]:[Z4]]),1) -> 0 | Z33: =LARGE((Table623[[#This Row],[K1]:[Z4]]),2) -> 0 | AA33: =LARGE((Table623[[#This Row],[K1]:[Z4]]),3) -> 0 | AB33: =LARGE((Table623[[#This Row],[K1]:[Z4]]),4) -> 0 | AC33: =LARGE((Table623[[#This Row],[K1]:[Z4]]),5) -> 0 | AD33: =LARGE((Table623[[#This Row],[K1]:[Z4]]),6) -> 0 | AE33: =LARGE((Table623[[#This Row],[K1]:[Z4]]),7) -> 0 | AF33: =LARGE((Table623[[#This Row],[K1]:[Z4]]),8) -> 0 | AG33: =LARGE((Table623[[#This Row],[K1]:[Z4]]),9) -> 0 | AH33: =LARGE((Table623[[#This Row],[K1]:[Z4]]),10) -> 0 | AI33: =SUM(Y33:AH33) -> 0 | AJ33: =K33+AI33 -> 3
A34: 31 | B34: 642 | C34: Ronan Brits | D34: 46214 | E34: NR | F34: CRG | G34: 2 | H34: 0 | I34: 0 | J34: 0 | K34: =SUM(Table623[[#This Row],[SARMC 1]:[SARMC 4]]) -> 2 | L34: 0 | M34: 0 | N34: 0 | O34: 0 | P34: 0 | Q34: 0 | R34: 0 | S34: 0 | T34: 0 | U34: 0 | V34: 0 | W34: 0 | X34: 0 | Y34: =LARGE((Table623[[#This Row],[K1]:[Z4]]),1) -> 0 | Z34: =LARGE((Table623[[#This Row],[K1]:[Z4]]),2) -> 0 | AA34: =LARGE((Table623[[#This Row],[K1]:[Z4]]),3) -> 0 | AB34: =LARGE((Table623[[#This Row],[K1]:[Z4]]),4) -> 0 | AC34: =LARGE((Table623[[#This Row],[K1]:[Z4]]),5) -> 0 | AD34: =LARGE((Table623[[#This Row],[K1]:[Z4]]),6) -> 0 | AE34: =LARGE((Table623[[#This Row],[K1]:[Z4]]),7) -> 0 | AF34: =LARGE((Table623[[#This Row],[K1]:[Z4]]),8) -> 0 | AG34: =LARGE((Table623[[#This Row],[K1]:[Z4]]),9) -> 0 | AH34: =LARGE((Table623[[#This Row],[K1]:[Z4]]),10) -> 0 | AI34: =SUM(Y34:AH34) -> 0 | AJ34: =K34+AI34 -> 2
A35: 32 | C35: =_xlfn.XLOOKUP(Table623[[#This Row],[No.]],Sheet2!B:B,Sheet2!C:C) -> 0 | D35: =_xlfn.XLOOKUP(B35,Sheet2!B:B,Sheet2!G:G) -> 0 | E35: =_xlfn.XLOOKUP(B35,Sheet2!B:B,Sheet2!H:H) -> 0 | F35: =_xlfn.XLOOKUP(B35,Sheet2!B:B,Sheet2!D:D) -> 0 | G35: 0 | H35: 0 | I35: 0 | J35: 0 | K35: =SUM(Table623[[#This Row],[SARMC 1]:[SARMC 4]]) -> 0 | L35: 0 | M35: 0 | N35: 0 | O35: 0 | P35: 0 | Q35: 0 | R35: 0 | S35: 0 | T35: 0 | U35: 0 | V35: 0 | W35: 0 | X35: 0 | Y35: =LARGE((Table623[[#This Row],[K1]:[Z4]]),1) -> 0 | Z35: =LARGE((Table623[[#This Row],[K1]:[Z4]]),2) -> 0 | AA35: =LARGE((Table623[[#This Row],[K1]:[Z4]]),3) -> 0 | AB35: =LARGE((Table623[[#This Row],[K1]:[Z4]]),4) -> 0 | AC35: =LARGE((Table623[[#This Row],[K1]:[Z4]]),5) -> 0 | AD35: =LARGE((Table623[[#This Row],[K1]:[Z4]]),6) -> 0 | AE35: =LARGE((Table623[[#This Row],[K1]:[Z4]]),7) -> 0 | AF35: =LARGE((Table623[[#This Row],[K1]:[Z4]]),8) -> 0 | AG35: =LARGE((Table623[[#This Row],[K1]:[Z4]]),9) -> 0 | AH35: =LARGE((Table623[[#This Row],[K1]:[Z4]]),10) -> 0 | AI35: =SUM(Y35:AH35) -> 0 | AJ35: =K35+AI35 -> 0
A36: 33 | C36: =_xlfn.XLOOKUP(Table623[[#This Row],[No.]],Sheet2!B:B,Sheet2!C:C) -> 0 | D36: =_xlfn.XLOOKUP(B36,Sheet2!B:B,Sheet2!G:G) -> 0 | E36: =_xlfn.XLOOKUP(B36,Sheet2!B:B,Sheet2!H:H) -> 0 | F36: =_xlfn.XLOOKUP(B36,Sheet2!B:B,Sheet2!D:D) -> 0 | G36: 0 | H36: 0 | I36: 0 | J36: 0 | K36: =SUM(Table623[[#This Row],[SARMC 1]:[SARMC 4]]) -> 0 | L36: 0 | M36: 0 | N36: 0 | O36: 0 | P36: 0 | Q36: 0 | R36: 0 | S36: 0 | T36: 0 | U36: 0 | V36: 0 | W36: 0 | X36: 0 | Y36: =LARGE((Table623[[#This Row],[K1]:[Z4]]),1) -> 0 | Z36: =LARGE((Table623[[#This Row],[K1]:[Z4]]),2) -> 0 | AA36: =LARGE((Table623[[#This Row],[K1]:[Z4]]),3) -> 0 | AB36: =LARGE((Table623[[#This Row],[K1]:[Z4]]),4) -> 0 | AC36: =LARGE((Table623[[#This Row],[K1]:[Z4]]),5) -> 0 | AD36: =LARGE((Table623[[#This Row],[K1]:[Z4]]),6) -> 0 | AE36: =LARGE((Table623[[#This Row],[K1]:[Z4]]),7) -> 0 | AF36: =LARGE((Table623[[#This Row],[K1]:[Z4]]),8) -> 0 | AG36: =LARGE((Table623[[#This Row],[K1]:[Z4]]),9) -> 0 | AH36: =LARGE((Table623[[#This Row],[K1]:[Z4]]),10) -> 0 | AI36: =SUM(Y36:AH36) -> 0 | AJ36: =K36+AI36 -> 0
A37: 34 | C37: =_xlfn.XLOOKUP(Table623[[#This Row],[No.]],Sheet2!B:B,Sheet2!C:C) -> 0 | D37: =_xlfn.XLOOKUP(B37,Sheet2!B:B,Sheet2!G:G) -> 0 | E37: =_xlfn.XLOOKUP(B37,Sheet2!B:B,Sheet2!H:H) -> 0 | F37: =_xlfn.XLOOKUP(B37,Sheet2!B:B,Sheet2!D:D) -> 0 | G37: 0 | H37: 0 | I37: 0 | J37: 0 | K37: =SUM(Table623[[#This Row],[SARMC 1]:[SARMC 4]]) -> 0 | L37: 0 | M37: 0 | N37: 0 | O37: 0 | P37: 0 | Q37: 0 | R37: 0 | S37: 0 | T37: 0 | U37: 0 | V37: 0 | W37: 0 | X37: 0 | Y37: =LARGE((Table623[[#This Row],[K1]:[Z4]]),1) -> 0 | Z37: =LARGE((Table623[[#This Row],[K1]:[Z4]]),2) -> 0 | AA37: =LARGE((Table623[[#This Row],[K1]:[Z4]]),3) -> 0 | AB37: =LARGE((Table623[[#This Row],[K1]:[Z4]]),4) -> 0 | AC37: =LARGE((Table623[[#This Row],[K1]:[Z4]]),5) -> 0 | AD37: =LARGE((Table623[[#This Row],[K1]:[Z4]]),6) -> 0 | AE37: =LARGE((Table623[[#This Row],[K1]:[Z4]]),7) -> 0 | AF37: =LARGE((Table623[[#This Row],[K1]:[Z4]]),8) -> 0 | AG37: =LARGE((Table623[[#This Row],[K1]:[Z4]]),9) -> 0 | AH37: =LARGE((Table623[[#This Row],[K1]:[Z4]]),10) -> 0 | AI37: =SUM(Y37:AH37) -> 0 | AJ37: =K37+AI37 -> 0
A38: 35 | C38: =_xlfn.XLOOKUP(Table623[[#This Row],[No.]],Sheet2!B:B,Sheet2!C:C) -> 0 | D38: =_xlfn.XLOOKUP(B38,Sheet2!B:B,Sheet2!G:G) -> 0 | E38: =_xlfn.XLOOKUP(B38,Sheet2!B:B,Sheet2!H:H) -> 0 | F38: =_xlfn.XLOOKUP(B38,Sheet2!B:B,Sheet2!D:D) -> 0 | G38: 0 | H38: 0 | I38: 0 | J38: 0 | K38: =SUM(Table623[[#This Row],[SARMC 1]:[SARMC 4]]) -> 0 | L38: 0 | M38: 0 | N38: 0 | O38: 0 | P38: 0 | Q38: 0 | R38: 0 | S38: 0 | T38: 0 | U38: 0 | V38: 0 | W38: 0 | X38: 0 | Y38: =LARGE((Table623[[#This Row],[K1]:[Z4]]),1) -> 0 | Z38: =LARGE((Table623[[#This Row],[K1]:[Z4]]),2) -> 0 | AA38: =LARGE((Table623[[#This Row],[K1]:[Z4]]),3) -> 0 | AB38: =LARGE((Table623[[#This Row],[K1]:[Z4]]),4) -> 0 | AC38: =LARGE((Table623[[#This Row],[K1]:[Z4]]),5) -> 0 | AD38: =LARGE((Table623[[#This Row],[K1]:[Z4]]),6) -> 0 | AE38: =LARGE((Table623[[#This Row],[K1]:[Z4]]),7) -> 0 | AF38: =LARGE((Table623[[#This Row],[K1]:[Z4]]),8) -> 0 | AG38: =LARGE((Table623[[#This Row],[K1]:[Z4]]),9) -> 0 | AH38: =LARGE((Table623[[#This Row],[K1]:[Z4]]),10) -> 0 | AI38: =SUM(Y38:AH38) -> 0 | AJ38: =K38+AI38 -> 0
A39: 36 | C39: =_xlfn.XLOOKUP(Table623[[#This Row],[No.]],Sheet2!B:B,Sheet2!C:C) -> 0 | D39: =_xlfn.XLOOKUP(B39,Sheet2!B:B,Sheet2!G:G) -> 0 | E39: =_xlfn.XLOOKUP(B39,Sheet2!B:B,Sheet2!H:H) -> 0 | F39: =_xlfn.XLOOKUP(B39,Sheet2!B:B,Sheet2!D:D) -> 0 | G39: 0 | H39: 0 | I39: 0 | J39: 0 | K39: =SUM(Table623[[#This Row],[SARMC 1]:[SARMC 4]]) -> 0 | L39: 0 | M39: 0 | N39: 0 | O39: 0 | P39: 0 | Q39: 0 | R39: 0 | S39: 0 | T39: 0 | U39: 0 | V39: 0 | W39: 0 | X39: 0 | Y39: =LARGE((Table623[[#This Row],[K1]:[Z4]]),1) -> 0 | Z39: =LARGE((Table623[[#This Row],[K1]:[Z4]]),2) -> 0 | AA39: =LARGE((Table623[[#This Row],[K1]:[Z4]]),3) -> 0 | AB39: =LARGE((Table623[[#This Row],[K1]:[Z4]]),4) -> 0 | AC39: =LARGE((Table623[[#This Row],[K1]:[Z4]]),5) -> 0 | AD39: =LARGE((Table623[[#This Row],[K1]:[Z4]]),6) -> 0 | AE39: =LARGE((Table623[[#This Row],[K1]:[Z4]]),7) -> 0 | AF39: =LARGE((Table623[[#This Row],[K1]:[Z4]]),8) -> 0 | AG39: =LARGE((Table623[[#This Row],[K1]:[Z4]]),9) -> 0 | AH39: =LARGE((Table623[[#This Row],[K1]:[Z4]]),10) -> 0 | AI39: =SUM(Y39:AH39) -> 0 | AJ39: =K39+AI39 -> 0
A40: 37 | C40: =_xlfn.XLOOKUP(Table623[[#This Row],[No.]],Sheet2!B:B,Sheet2!C:C) -> 0 | D40: =_xlfn.XLOOKUP(B40,Sheet2!B:B,Sheet2!G:G) -> 0 | E40: =_xlfn.XLOOKUP(B40,Sheet2!B:B,Sheet2!H:H) -> 0 | F40: =_xlfn.XLOOKUP(B40,Sheet2!B:B,Sheet2!D:D) -> 0 | G40: 0 | H40: 0 | I40: 0 | J40: 0 | K40: =SUM(Table623[[#This Row],[SARMC 1]:[SARMC 4]]) -> 0 | L40: 0 | M40: 0 | N40: 0 | O40: 0 | P40: 0 | Q40: 0 | R40: 0 | S40: 0 | T40: 0 | U40: 0 | V40: 0 | W40: 0 | X40: 0 | Y40: =LARGE((Table623[[#This Row],[K1]:[Z4]]),1) -> 0 | Z40: =LARGE((Table623[[#This Row],[K1]:[Z4]]),2) -> 0 | AA40: =LARGE((Table623[[#This Row],[K1]:[Z4]]),3) -> 0 | AB40: =LARGE((Table623[[#This Row],[K1]:[Z4]]),4) -> 0 | AC40: =LARGE((Table623[[#This Row],[K1]:[Z4]]),5) -> 0 | AD40: =LARGE((Table623[[#This Row],[K1]:[Z4]]),6) -> 0 | AE40: =LARGE((Table623[[#This Row],[K1]:[Z4]]),7) -> 0 | AF40: =LARGE((Table623[[#This Row],[K1]:[Z4]]),8) -> 0 | AG40: =LARGE((Table623[[#This Row],[K1]:[Z4]]),9) -> 0 | AH40: =LARGE((Table623[[#This Row],[K1]:[Z4]]),10) -> 0 | AI40: =SUM(Y40:AH40) -> 0 | AJ40: =K40+AI40 -> 0
A41: 38 | C41: =_xlfn.XLOOKUP(Table623[[#This Row],[No.]],Sheet2!B:B,Sheet2!C:C) -> 0 | D41: =_xlfn.XLOOKUP(B41,Sheet2!B:B,Sheet2!G:G) -> 0 | E41: =_xlfn.XLOOKUP(B41,Sheet2!B:B,Sheet2!H:H) -> 0 | F41: =_xlfn.XLOOKUP(B41,Sheet2!B:B,Sheet2!D:D) -> 0 | G41: 0 | H41: 0 | I41: 0 | J41: 0 | K41: =SUM(Table623[[#This Row],[SARMC 1]:[SARMC 4]]) -> 0 | L41: 0 | M41: 0 | N41: 0 | O41: 0 | P41: 0 | Q41: 0 | R41: 0 | S41: 0 | T41: 0 | U41: 0 | V41: 0 | W41: 0 | X41: 0 | Y41: =LARGE((Table623[[#This Row],[K1]:[Z4]]),1) -> 0 | Z41: =LARGE((Table623[[#This Row],[K1]:[Z4]]),2) -> 0 | AA41: =LARGE((Table623[[#This Row],[K1]:[Z4]]),3) -> 0 | AB41: =LARGE((Table623[[#This Row],[K1]:[Z4]]),4) -> 0 | AC41: =LARGE((Table623[[#This Row],[K1]:[Z4]]),5) -> 0 | AD41: =LARGE((Table623[[#This Row],[K1]:[Z4]]),6) -> 0 | AE41: =LARGE((Table623[[#This Row],[K1]:[Z4]]),7) -> 0 | AF41: =LARGE((Table623[[#This Row],[K1]:[Z4]]),8) -> 0 | AG41: =LARGE((Table623[[#This Row],[K1]:[Z4]]),9) -> 0 | AH41: =LARGE((Table623[[#This Row],[K1]:[Z4]]),10) -> 0 | AI41: =SUM(Y41:AH41) -> 0 | AJ41: =K41+AI41 -> 0
A42: 39 | C42: =_xlfn.XLOOKUP(Table623[[#This Row],[No.]],Sheet2!B:B,Sheet2!C:C) -> 0 | D42: =_xlfn.XLOOKUP(B42,Sheet2!B:B,Sheet2!G:G) -> 0 | E42: =_xlfn.XLOOKUP(B42,Sheet2!B:B,Sheet2!H:H) -> 0 | F42: =_xlfn.XLOOKUP(B42,Sheet2!B:B,Sheet2!D:D) -> 0 | G42: 0 | H42: 0 | I42: 0 | J42: 0 | K42: =SUM(Table623[[#This Row],[SARMC 1]:[SARMC 4]]) -> 0 | L42: 0 | M42: 0 | N42: 0 | O42: 0 | P42: 0 | Q42: 0 | R42: 0 | S42: 0 | T42: 0 | U42: 0 | V42: 0 | W42: 0 | X42: 0 | Y42: =LARGE((Table623[[#This Row],[K1]:[Z4]]),1) -> 0 | Z42: =LARGE((Table623[[#This Row],[K1]:[Z4]]),2) -> 0 | AA42: =LARGE((Table623[[#This Row],[K1]:[Z4]]),3) -> 0 | AB42: =LARGE((Table623[[#This Row],[K1]:[Z4]]),4) -> 0 | AC42: =LARGE((Table623[[#This Row],[K1]:[Z4]]),5) -> 0 | AD42: =LARGE((Table623[[#This Row],[K1]:[Z4]]),6) -> 0 | AE42: =LARGE((Table623[[#This Row],[K1]:[Z4]]),7) -> 0 | AF42: =LARGE((Table623[[#This Row],[K1]:[Z4]]),8) -> 0 | AG42: =LARGE((Table623[[#This Row],[K1]:[Z4]]),9) -> 0 | AH42: =LARGE((Table623[[#This Row],[K1]:[Z4]]),10) -> 0 | AI42: =SUM(Y42:AH42) -> 0 | AJ42: =K42+AI42 -> 0
A43: 40 | C43: =_xlfn.XLOOKUP(Table623[[#This Row],[No.]],Sheet2!B:B,Sheet2!C:C) -> 0 | D43: =_xlfn.XLOOKUP(B43,Sheet2!B:B,Sheet2!G:G) -> 0 | E43: =_xlfn.XLOOKUP(B43,Sheet2!B:B,Sheet2!H:H) -> 0 | F43: =_xlfn.XLOOKUP(B43,Sheet2!B:B,Sheet2!D:D) -> 0 | G43: 0 | H43: 0 | I43: 0 | J43: 0 | K43: =SUM(Table623[[#This Row],[SARMC 1]:[SARMC 4]]) -> 0 | L43: 0 | M43: 0 | N43: 0 | O43: 0 | P43: 0 | Q43: 0 | R43: 0 | S43: 0 | T43: 0 | U43: 0 | V43: 0 | W43: 0 | X43: 0 | Y43: =LARGE((Table623[[#This Row],[K1]:[Z4]]),1) -> 0 | Z43: =LARGE((Table623[[#This Row],[K1]:[Z4]]),2) -> 0 | AA43: =LARGE((Table623[[#This Row],[K1]:[Z4]]),3) -> 0 | AB43: =LARGE((Table623[[#This Row],[K1]:[Z4]]),4) -> 0 | AC43: =LARGE((Table623[[#This Row],[K1]:[Z4]]),5) -> 0 | AD43: =LARGE((Table623[[#This Row],[K1]:[Z4]]),6) -> 0 | AE43: =LARGE((Table623[[#This Row],[K1]:[Z4]]),7) -> 0 | AF43: =LARGE((Table623[[#This Row],[K1]:[Z4]]),8) -> 0 | AG43: =LARGE((Table623[[#This Row],[K1]:[Z4]]),9) -> 0 | AH43: =LARGE((Table623[[#This Row],[K1]:[Z4]]),10) -> 0 | AI43: =SUM(Y43:AH43) -> 0 | AJ43: =K43+AI43 -> 0
C44: Provisional subject to MSA | M44: =(COUNTIF(L4:L43,">0")) -> 16 | P44: =(COUNTIF(O4:O43,">0")) -> 12 | S44: =(COUNTIF(R4:R43,">0")) -> 14 | V44: =(COUNTIF(U4:U43,">0")) -> 13

Sheet MINI MAX
A1: #VALUE!
A2: #VALUE! | G2: REGIONAL | L2: KILLARNEY | O2: FK | R2: ZIKR | U2: ZWARTKOPS | Y2: BEST NATIONAL POINTS | AI2: TOTAL | AJ2: FINAL
A3: Rnk | B3: No. | C3: Name | D3: License # | E3: Region | F3: Chassis | G3: SARMC 1 | H3: SARMC 2 | I3: SARMC 3 | J3: SARMC 4 | K3: Total Bonus | L3: K1 | M3: K2 | N3: K3 | O3: FK1 | P3: FK2 | Q3: FK3 | R3: Z1 | S3: Z2 | T3: Z3 | U3: Z1' | V3: Z2' | W3: Z3' | X3: Z4 | Y3: 1 | Z3: 2 | AA3: 3 | AB3: 4 | AC3: 5 | AD3: 6 | AE3: 7 | AF3: 8 | AG3: 9 | AH3: 10 | AI3: National | AJ3: TOTAL
A4: 1 | B4: 588 | C4: =_xlfn.XLOOKUP(B4,Sheet2!B:B,Sheet2!C:C) -> Luke Du Toit | D4: =_xlfn.XLOOKUP(B4,Sheet2!B:B,Sheet2!G:G) -> 38544 | E4: =_xlfn.XLOOKUP(B4,Sheet2!B:B,Sheet2!H:H) -> NR | F4: =_xlfn.XLOOKUP(B4,Sheet2!B:B,Sheet2!D:D) -> CRG | G4: 3 | H4: 3 | I4: 3 | J4: 3 | K4: =SUM(Table62[[#This Row],[SARMC 1]:[SARMC 4]]) -> 12 | L4: 29 | M4: 30 | N4: 30 | O4: 28 | P4: 35 | Q4: 20 | R4: 35 | S4: 29 | T4: 35 | U4: 35 | V4: 29 | W4: 11 | X4: 27 | Y4: =LARGE((Table62[[#This Row],[K1]:[Z4]]),1) -> 35 | Z4: =LARGE((Table62[[#This Row],[K1]:[Z4]]),2) -> 35 | AA4: =LARGE((Table62[[#This Row],[K1]:[Z4]]),3) -> 35 | AB4: =LARGE((Table62[[#This Row],[K1]:[Z4]]),4) -> 35 | AC4: =LARGE((Table62[[#This Row],[K1]:[Z4]]),5) -> 30 | AD4: =LARGE((Table62[[#This Row],[K1]:[Z4]]),6) -> 30 | AE4: =LARGE((Table62[[#This Row],[K1]:[Z4]]),7) -> 29 | AF4: =LARGE((Table62[[#This Row],[K1]:[Z4]]),8) -> 29 | AG4: =LARGE((Table62[[#This Row],[K1]:[Z4]]),9) -> 29 | AH4: =LARGE((Table62[[#This Row],[K1]:[Z4]]),10) -> 28 | AI4: =SUM(Y4:AH4) -> 315 | AJ4: =K4+AI4 -> 327
A5: 2 | B5: 562 | C5: =_xlfn.XLOOKUP(B5,Sheet2!B:B,Sheet2!C:C) -> Diego Antunes | D5: =_xlfn.XLOOKUP(B5,Sheet2!B:B,Sheet2!G:G) -> 32278 | E5: =_xlfn.XLOOKUP(B5,Sheet2!B:B,Sheet2!H:H) -> NR | F5: =_xlfn.XLOOKUP(B5,Sheet2!B:B,Sheet2!D:D) -> PAROLIN | G5: 3 | H5: 3 | I5: 3 | J5: 3 | K5: =SUM(Table62[[#This Row],[SARMC 1]:[SARMC 4]]) -> 12 | L5: 26 | M5: 26 | N5: 24 | O5: 35 | P5: excl | Q5: 22 | R5: 28 | S5: 28 | T5: 28 | U5: 28 | V5: 32 | W5: 35 | X5: 35 | Y5: =LARGE((Table62[[#This Row],[K1]:[Z4]]),1) -> 35 | Z5: =LARGE((Table62[[#This Row],[K1]:[Z4]]),2) -> 35 | AA5: =LARGE((Table62[[#This Row],[K1]:[Z4]]),3) -> 35 | AB5: =LARGE((Table62[[#This Row],[K1]:[Z4]]),4) -> 32 | AC5: =LARGE((Table62[[#This Row],[K1]:[Z4]]),5) -> 28 | AD5: =LARGE((Table62[[#This Row],[K1]:[Z4]]),6) -> 28 | AE5: =LARGE((Table62[[#This Row],[K1]:[Z4]]),7) -> 28 | AF5: =LARGE((Table62[[#This Row],[K1]:[Z4]]),8) -> 28 | AG5: =LARGE((Table62[[#This Row],[K1]:[Z4]]),9) -> 26 | AH5: =LARGE((Table62[[#This Row],[K1]:[Z4]]),10) -> 26 | AI5: =SUM(Y5:AH5) -> 301 | AJ5: =K5+AI5 -> 313
A6: 3 | B6: 527 | C6: =_xlfn.XLOOKUP(B6,Sheet2!B:B,Sheet2!C:C) -> Luhan De Wet | D6: =_xlfn.XLOOKUP(B6,Sheet2!B:B,Sheet2!G:G) -> 33828 | E6: =_xlfn.XLOOKUP(B6,Sheet2!B:B,Sheet2!H:H) -> NR | F6: KR | G6: 3 | H6: 3 | I6: 3 | J6: 3 | K6: =SUM(Table62[[#This Row],[SARMC 1]:[SARMC 4]]) -> 12 | L6: 23 | M6: excl | N6: 22 | O6: 30 | P6: 32 | Q6: 35 | R6: 32 | S6: 18 | T6: 24 | U6: 32 | V6: 23 | W6: 30 | X6: 29 | Y6: =LARGE((Table62[[#This Row],[K1]:[Z4]]),1) -> 35 | Z6: =LARGE((Table62[[#This Row],[K1]:[Z4]]),2) -> 32 | AA6: =LARGE((Table62[[#This Row],[K1]:[Z4]]),3) -> 32 | AB6: =LARGE((Table62[[#This Row],[K1]:[Z4]]),4) -> 32 | AC6: =LARGE((Table62[[#This Row],[K1]:[Z4]]),5) -> 30 | AD6: =LARGE((Table62[[#This Row],[K1]:[Z4]]),6) -> 30 | AE6: =LARGE((Table62[[#This Row],[K1]:[Z4]]),7) -> 29 | AF6: =LARGE((Table62[[#This Row],[K1]:[Z4]]),8) -> 24 | AG6: =LARGE((Table62[[#This Row],[K1]:[Z4]]),9) -> 23 | AH6: =LARGE((Table62[[#This Row],[K1]:[Z4]]),10) -> 23 | AI6: =SUM(Y6:AH6) -> 290 | AJ6: =K6+AI6 -> 302
A7: 4 | B7: 518 | C7: =_xlfn.XLOOKUP(B7,Sheet2!B:B,Sheet2!C:C) -> Christian Naidoo | D7: =_xlfn.XLOOKUP(B7,Sheet2!B:B,Sheet2!G:G) -> 44154 | E7: =_xlfn.XLOOKUP(B7,Sheet2!B:B,Sheet2!H:H) -> NR | F7: =_xlfn.XLOOKUP(B7,Sheet2!B:B,Sheet2!D:D) -> KR | G7: 3 | H7: 3 | I7: 3 | J7: 3 | K7: =SUM(Table62[[#This Row],[SARMC 1]:[SARMC 4]]) -> 12 | L7: 16 | M7: 27 | N7: 21 | O7: 29 | P7: 26 | Q7: 27 | R7: 18 | S7: 23 | T7: 22 | U7: 29 | V7: 28 | W7: 32 | X7: 28 | Y7: =LARGE((Table62[[#This Row],[K1]:[Z4]]),1) -> 32 | Z7: =LARGE((Table62[[#This Row],[K1]:[Z4]]),2) -> 29 | AA7: =LARGE((Table62[[#This Row],[K1]:[Z4]]),3) -> 29 | AB7: =LARGE((Table62[[#This Row],[K1]:[Z4]]),4) -> 28 | AC7: =LARGE((Table62[[#This Row],[K1]:[Z4]]),5) -> 28 | AD7: =LARGE((Table62[[#This Row],[K1]:[Z4]]),6) -> 27 | AE7: =LARGE((Table62[[#This Row],[K1]:[Z4]]),7) -> 27 | AF7: =LARGE((Table62[[#This Row],[K1]:[Z4]]),8) -> 26 | AG7: =LARGE((Table62[[#This Row],[K1]:[Z4]]),9) -> 23 | AH7: =LARGE((Table62[[#This Row],[K1]:[Z4]]),10) -> 22 | AI7: =SUM(Y7:AH7) -> 271 | AJ7: =K7+AI7 -> 283
A8: 5 | B8: 519 | C8: =_xlfn.XLOOKUP(B8,Sheet2!B:B,Sheet2!C:C) -> Lwashu Mathebula | D8: =_xlfn.XLOOKUP(B8,Sheet2!B:B,Sheet2!G:G) -> 37064 | E8: =_xlfn.XLOOKUP(B8,Sheet2!B:B,Sheet2!H:H) -> NR | F8: =_xlfn.XLOOKUP(B8,Sheet2!B:B,Sheet2!D:D) -> KR | G8: 0 | H8: 3 | I8: 3 | J8: 3 | K8: =SUM(Table62[[#This Row],[SARMC 1]:[SARMC 4]]) -> 9 | L8: 18 | M8: 6 | N8: 5 | O8: 26 | P8: 27 | Q8: 28 | R8: 26 | S8: 32 | T8: 32 | U8: 20 | V8: 30 | W8: 27 | X8: 26 | Y8: =LARGE((Table62[[#This Row],[K1]:[Z4]]),1) -> 32 | Z8: =LARGE((Table62[[#This Row],[K1]:[Z4]]),2) -> 32 | AA8: =LARGE((Table62[[#This Row],[K1]:[Z4]]),3) -> 30 | AB8: =LARGE((Table62[[#This Row],[K1]:[Z4]]),4) -> 28 | AC8: =LARGE((Table62[[#This Row],[K1]:[Z4]]),5) -> 27 | AD8: =LARGE((Table62[[#This Row],[K1]:[Z4]]),6) -> 27 | AE8: =LARGE((Table62[[#This Row],[K1]:[Z4]]),7) -> 26 | AF8: =LARGE((Table62[[#This Row],[K1]:[Z4]]),8) -> 26 | AG8: =LARGE((Table62[[#This Row],[K1]:[Z4]]),9) -> 26 | AH8: =LARGE((Table62[[#This Row],[K1]:[Z4]]),10) -> 20 | AI8: =SUM(Y8:AH8) -> 274 | AJ8: =K8+AI8 -> 283
A9: 6 | B9: 556 | C9: =_xlfn.XLOOKUP(B9,Sheet2!B:B,Sheet2!C:C) -> Adriaan Steyn | D9: =_xlfn.XLOOKUP(B9,Sheet2!B:B,Sheet2!G:G) -> 34472 | E9: =_xlfn.XLOOKUP(B9,Sheet2!B:B,Sheet2!H:H) -> NR | F9: =_xlfn.XLOOKUP(B9,Sheet2!B:B,Sheet2!D:D) -> CRG | G9: 3 | H9: 3 | I9: 3 | J9: 3 | K9: =SUM(Table62[[#This Row],[SARMC 1]:[SARMC 4]]) -> 12 | L9: 21 | M9: 24 | N9: 27 | O9: 19 | P9: 29 | Q9: 26 | R9: 21 | S9: 30 | T9: 27 | U9: 26 | V9: 26 | W9: 25 | X9: 30 | Y9: =LARGE((Table62[[#This Row],[K1]:[Z4]]),1) -> 30 | Z9: =LARGE((Table62[[#This Row],[K1]:[Z4]]),2) -> 30 | AA9: =LARGE((Table62[[#This Row],[K1]:[Z4]]),3) -> 29 | AB9: =LARGE((Table62[[#This Row],[K1]:[Z4]]),4) -> 27 | AC9: =LARGE((Table62[[#This Row],[K1]:[Z4]]),5) -> 27 | AD9: =LARGE((Table62[[#This Row],[K1]:[Z4]]),6) -> 26 | AE9: =LARGE((Table62[[#This Row],[K1]:[Z4]]),7) -> 26 | AF9: =LARGE((Table62[[#This Row],[K1]:[Z4]]),8) -> 26 | AG9: =LARGE((Table62[[#This Row],[K1]:[Z4]]),9) -> 25 | AH9: =LARGE((Table62[[#This Row],[K1]:[Z4]]),10) -> 24 | AI9: =SUM(Y9:AH9) -> 270 | AJ9: =K9+AI9 -> 282
A10: 7 | B10: 546 | C10: =_xlfn.XLOOKUP(B10,Sheet2!B:B,Sheet2!C:C) -> Liam Wharton | D10: =_xlfn.XLOOKUP(B10,Sheet2!B:B,Sheet2!G:G) -> 3245 | E10: =_xlfn.XLOOKUP(B10,Sheet2!B:B,Sheet2!H:H) -> WP | F10: PRAGA | G10: 3 | H10: 3 | I10: 3 | J10: 3 | K10: =SUM(Table62[[#This Row],[SARMC 1]:[SARMC 4]]) -> 12 | L10: 30 | M10: 35 | N10: 35 | O10: 9 | P10: 24 | Q10: 32 | R10: 20 | S10: 21 | T10: 26 | U10: 24 | V10: 22 | W10: 11 | X10: 17 | Y10: =LARGE((Table62[[#This Row],[K1]:[Z4]]),1) -> 35 | Z10: =LARGE((Table62[[#This Row],[K1]:[Z4]]),2) -> 35 | AA10: =LARGE((Table62[[#This Row],[K1]:[Z4]]),3) -> 32 | AB10: =LARGE((Table62[[#This Row],[K1]:[Z4]]),4) -> 30 | AC10: =LARGE((Table62[[#This Row],[K1]:[Z4]]),5) -> 26 | AD10: =LARGE((Table62[[#This Row],[K1]:[Z4]]),6) -> 24 | AE10: =LARGE((Table62[[#This Row],[K1]:[Z4]]),7) -> 24 | AF10: =LARGE((Table62[[#This Row],[K1]:[Z4]]),8) -> 22 | AG10: =LARGE((Table62[[#This Row],[K1]:[Z4]]),9) -> 21 | AH10: =LARGE((Table62[[#This Row],[K1]:[Z4]]),10) -> 20 | AI10: =SUM(Y10:AH10) -> 269 | AJ10: =K10+AI10 -> 281
A11: 8 | B11: 513 | C11: =_xlfn.XLOOKUP(B11,Sheet2!B:B,Sheet2!C:C) -> Ruhan Victor | D11: =_xlfn.XLOOKUP(B11,Sheet2!B:B,Sheet2!G:G) -> 36897 | E11: =_xlfn.XLOOKUP(B11,Sheet2!B:B,Sheet2!H:H) -> WP | F11: CRG | G11: 3 | H11: 3 | I11: 3 | J11: 3 | K11: =SUM(Table62[[#This Row],[SARMC 1]:[SARMC 4]]) -> 12 | L11: 27 | M11: 25 | N11: 25 | O11: 0 | P11: 0 | Q11: 0 | R11: 29 | S11: 35 | T11: 30 | U11: 30 | V11: 35 | W11: 28 | X11: excl | Y11: =LARGE((Table62[[#This Row],[K1]:[Z4]]),1) -> 35 | Z11: =LARGE((Table62[[#This Row],[K1]:[Z4]]),2) -> 35 | AA11: =LARGE((Table62[[#This Row],[K1]:[Z4]]),3) -> 30 | AB11: =LARGE((Table62[[#This Row],[K1]:[Z4]]),4) -> 30 | AC11: =LARGE((Table62[[#This Row],[K1]:[Z4]]),5) -> 29 | AD11: =LARGE((Table62[[#This Row],[K1]:[Z4]]),6) -> 28 | AE11: =LARGE((Table62[[#This Row],[K1]:[Z4]]),7) -> 27 | AF11: =LARGE((Table62[[#This Row],[K1]:[Z4]]),8) -> 25 | AG11: =LARGE((Table62[[#This Row],[K1]:[Z4]]),9) -> 25 | AH11: =LARGE((Table62[[#This Row],[K1]:[Z4]]),10) -> 0 | AI11: =SUM(Y11:AH11) -> 264 | AJ11: =K11+AI11 -> 276
A12: 9 | B12: 528 | C12: =_xlfn.XLOOKUP(B12,Sheet2!B:B,Sheet2!C:C) -> Callum Du Toit | D12: =_xlfn.XLOOKUP(B12,Sheet2!B:B,Sheet2!G:G) -> 37595 | E12: =_xlfn.XLOOKUP(B12,Sheet2!B:B,Sheet2!H:H) -> NR | F12: =_xlfn.XLOOKUP(B12,Sheet2!B:B,Sheet2!D:D) -> CRG | G12: 3 | H12: 3 | I12: 3 | J12: 3 | K12: =SUM(Table62[[#This Row],[SARMC 1]:[SARMC 4]]) -> 12 | L12: 22 | M12: 18 | N12: 16 | O12: 25 | P12: 14 | Q12: 29 | R12: 15 | S12: 19 | T12: 21 | U12: 27 | V12: 24 | W12: 29 | X12: 32 | Y12: =LARGE((Table62[[#This Row],[K1]:[Z4]]),1) -> 32 | Z12: =LARGE((Table62[[#This Row],[K1]:[Z4]]),2) -> 29 | AA12: =LARGE((Table62[[#This Row],[K1]:[Z4]]),3) -> 29 | AB12: =LARGE((Table62[[#This Row],[K1]:[Z4]]),4) -> 27 | AC12: =LARGE((Table62[[#This Row],[K1]:[Z4]]),5) -> 25 | AD12: =LARGE((Table62[[#This Row],[K1]:[Z4]]),6) -> 24 | AE12: =LARGE((Table62[[#This Row],[K1]:[Z4]]),7) -> 22 | AF12: =LARGE((Table62[[#This Row],[K1]:[Z4]]),8) -> 21 | AG12: =LARGE((Table62[[#This Row],[K1]:[Z4]]),9) -> 19 | AH12: =LARGE((Table62[[#This Row],[K1]:[Z4]]),10) -> 18 | AI12: =SUM(Y12:AH12) -> 246 | AJ12: =K12+AI12 -> 258
A13: 10 | B13: 592 | C13: =_xlfn.XLOOKUP(B13,Sheet2!B:B,Sheet2!C:C) -> Nande Kaiyamo | D13: =_xlfn.XLOOKUP(B13,Sheet2!B:B,Sheet2!G:G) -> NMSF470 | E13: =_xlfn.XLOOKUP(B13,Sheet2!B:B,Sheet2!H:H) -> NAM | F13: =_xlfn.XLOOKUP(B13,Sheet2!B:B,Sheet2!D:D) -> KR | G13: 3 | H13: 3 | I13: 0 | J13: 0 | K13: =SUM(Table62[[#This Row],[SARMC 1]:[SARMC 4]]) -> 6 | L13: 9 | M13: 13 | N13: 12 | O13: 32 | P13: 28 | Q13: 24 | R13: 25 | S13: 27 | T13: 25 | U13: 19 | V13: 20 | W13: 24 | X13: 22 | Y13: =LARGE((Table62[[#This Row],[K1]:[Z4]]),1) -> 32 | Z13: =LARGE((Table62[[#This Row],[K1]:[Z4]]),2) -> 28 | AA13: =LARGE((Table62[[#This Row],[K1]:[Z4]]),3) -> 27 | AB13: =LARGE((Table62[[#This Row],[K1]:[Z4]]),4) -> 25 | AC13: =LARGE((Table62[[#This Row],[K1]:[Z4]]),5) -> 25 | AD13: =LARGE((Table62[[#This Row],[K1]:[Z4]]),6) -> 24 | AE13: =LARGE((Table62[[#This Row],[K1]:[Z4]]),7) -> 24 | AF13: =LARGE((Table62[[#This Row],[K1]:[Z4]]),8) -> 22 | AG13: =LARGE((Table62[[#This Row],[K1]:[Z4]]),9) -> 20 | AH13: =LARGE((Table62[[#This Row],[K1]:[Z4]]),10) -> 19 | AI13: =SUM(Y13:AH13) -> 246 | AJ13: =K13+AI13 -> 252
A14: 11 | B14: 564 | C14: =_xlfn.XLOOKUP(B14,Sheet2!B:B,Sheet2!C:C) -> Joe Buckham | D14: 46075 | E14: =_xlfn.XLOOKUP(B14,Sheet2!B:B,Sheet2!H:H) -> NR | F14: =_xlfn.XLOOKUP(B14,Sheet2!B:B,Sheet2!D:D) -> FK | G14: 3 | H14: 3 | I14: 3 | J14: 3 | K14: =SUM(Table62[[#This Row],[SARMC 1]:[SARMC 4]]) -> 12 | L14: 14 | M14: 23 | N14: 23 | O14: 23 | P14: 23 | Q14: 25 | R14: 24 | S14: 25 | T14: 18 | U14: 25 | V14: 27 | W14: 16 | X14: 20 | Y14: =LARGE((Table62[[#This Row],[K1]:[Z4]]),1) -> 27 | Z14: =LARGE((Table62[[#This Row],[K1]:[Z4]]),2) -> 25 | AA14: =LARGE((Table62[[#This Row],[K1]:[Z4]]),3) -> 25 | AB14: =LARGE((Table62[[#This Row],[K1]:[Z4]]),4) -> 25 | AC14: =LARGE((Table62[[#This Row],[K1]:[Z4]]),5) -> 24 | AD14: =LARGE((Table62[[#This Row],[K1]:[Z4]]),6) -> 23 | AE14: =LARGE((Table62[[#This Row],[K1]:[Z4]]),7) -> 23 | AF14: =LARGE((Table62[[#This Row],[K1]:[Z4]]),8) -> 23 | AG14: =LARGE((Table62[[#This Row],[K1]:[Z4]]),9) -> 23 | AH14: =LARGE((Table62[[#This Row],[K1]:[Z4]]),10) -> 20 | AI14: =SUM(Y14:AH14) -> 238 | AJ14: =K14+AI14 -> 250
A15: 12 | B15: 544 | C15: =_xlfn.XLOOKUP(B15,Sheet2!B:B,Sheet2!C:C) -> Kireev Chetty | D15: =_xlfn.XLOOKUP(B15,Sheet2!B:B,Sheet2!G:G) -> 42323 | E15: =_xlfn.XLOOKUP(B15,Sheet2!B:B,Sheet2!H:H) -> NR | F15: =_xlfn.XLOOKUP(B15,Sheet2!B:B,Sheet2!D:D) -> CRG | G15: 3 | H15: 3 | I15: 3 | J15: 3 | K15: =SUM(Table62[[#This Row],[SARMC 1]:[SARMC 4]]) -> 12 | L15: 20 | M15: 20 | N15: 19 | O15: 27 | P15: 19 | Q15: 30 | R15: 14 | S15: 22 | T15: 14 | U15: 22 | V15: 18 | W15: 18 | X15: 23 | Y15: =LARGE((Table62[[#This Row],[K1]:[Z4]]),1) -> 30 | Z15: =LARGE((Table62[[#This Row],[K1]:[Z4]]),2) -> 27 | AA15: =LARGE((Table62[[#This Row],[K1]:[Z4]]),3) -> 23 | AB15: =LARGE((Table62[[#This Row],[K1]:[Z4]]),4) -> 22 | AC15: =LARGE((Table62[[#This Row],[K1]:[Z4]]),5) -> 22 | AD15: =LARGE((Table62[[#This Row],[K1]:[Z4]]),6) -> 20 | AE15: =LARGE((Table62[[#This Row],[K1]:[Z4]]),7) -> 20 | AF15: =LARGE((Table62[[#This Row],[K1]:[Z4]]),8) -> 19 | AG15: =LARGE((Table62[[#This Row],[K1]:[Z4]]),9) -> 19 | AH15: =LARGE((Table62[[#This Row],[K1]:[Z4]]),10) -> 18 | AI15: =SUM(Y15:AH15) -> 220 | AJ15: =K15+AI15 -> 232
A16: 13 | B16: 591 | C16: =_xlfn.XLOOKUP(B16,Sheet2!B:B,Sheet2!C:C) -> Mandume Kaiyamo | D16: =_xlfn.XLOOKUP(B16,Sheet2!B:B,Sheet2!G:G) -> NMSF468 | E16: =_xlfn.XLOOKUP(B16,Sheet2!B:B,Sheet2!H:H) -> NAM | F16: =_xlfn.XLOOKUP(B16,Sheet2!B:B,Sheet2!D:D) -> KR | G16: 3 | H16: 3 | I16: 0 | J16: 0 | K16: =SUM(Table62[[#This Row],[SARMC 1]:[SARMC 4]]) -> 6 | L16: 15 | M16: 21 | N16: 15 | O16: 18 | P16: 30 | Q16: 23 | R16: 22 | S16: 3 | T16: 17 | U16: 21 | V16: 19 | W16: 21 | X16: 25 | Y16: =LARGE((Table62[[#This Row],[K1]:[Z4]]),1) -> 30 | Z16: =LARGE((Table62[[#This Row],[K1]:[Z4]]),2) -> 25 | AA16: =LARGE((Table62[[#This Row],[K1]:[Z4]]),3) -> 23 | AB16: =LARGE((Table62[[#This Row],[K1]:[Z4]]),4) -> 22 | AC16: =LARGE((Table62[[#This Row],[K1]:[Z4]]),5) -> 21 | AD16: =LARGE((Table62[[#This Row],[K1]:[Z4]]),6) -> 21 | AE16: =LARGE((Table62[[#This Row],[K1]:[Z4]]),7) -> 21 | AF16: =LARGE((Table62[[#This Row],[K1]:[Z4]]),8) -> 19 | AG16: =LARGE((Table62[[#This Row],[K1]:[Z4]]),9) -> 18 | AH16: =LARGE((Table62[[#This Row],[K1]:[Z4]]),10) -> 17 | AI16: =SUM(Y16:AH16) -> 217 | AJ16: =K16+AI16 -> 223
A17: 14 | B17: 558 | C17: =_xlfn.XLOOKUP(B17,Sheet2!B:B,Sheet2!C:C) -> Parker Van Der Molen | D17: =_xlfn.XLOOKUP(B17,Sheet2!B:B,Sheet2!G:G) -> 44345 | E17: =_xlfn.XLOOKUP(B17,Sheet2!B:B,Sheet2!H:H) -> NR | F17: =_xlfn.XLOOKUP(B17,Sheet2!B:B,Sheet2!D:D) -> LNK | G17: 3 | H17: 3 | I17: 3 | J17: 3 | K17: =SUM(Table62[[#This Row],[SARMC 1]:[SARMC 4]]) -> 12 | L17: 10 | M17: 14 | N17: 10 | O17: 24 | P17: 25 | Q17: 21 | R17: 23 | S17: 15 | T17: 20 | U17: 18 | V17: 25 | W17: 17 | X17: 19 | Y17: =LARGE((Table62[[#This Row],[K1]:[Z4]]),1) -> 25 | Z17: =LARGE((Table62[[#This Row],[K1]:[Z4]]),2) -> 25 | AA17: =LARGE((Table62[[#This Row],[K1]:[Z4]]),3) -> 24 | AB17: =LARGE((Table62[[#This Row],[K1]:[Z4]]),4) -> 23 | AC17: =LARGE((Table62[[#This Row],[K1]:[Z4]]),5) -> 21 | AD17: =LARGE((Table62[[#This Row],[K1]:[Z4]]),6) -> 20 | AE17: =LARGE((Table62[[#This Row],[K1]:[Z4]]),7) -> 19 | AF17: =LARGE((Table62[[#This Row],[K1]:[Z4]]),8) -> 18 | AG17: =LARGE((Table62[[#This Row],[K1]:[Z4]]),9) -> 17 | AH17: =LARGE((Table62[[#This Row],[K1]:[Z4]]),10) -> 15 | AI17: =SUM(Y17:AH17) -> 207 | AJ17: =K17+AI17 -> 219
A18: 15 | B18: 554 | C18: Juan Stander | D18: 45996 | E18: WP | F18: CRG | G18: 0 | H18: 3 | I18: 3 | J18: 3 | K18: =SUM(Table62[[#This Row],[SARMC 1]:[SARMC 4]]) -> 9 | L18: 0 | M18: 0 | N18: 0 | O18: 22 | P18: 22 | Q18: 14 | R18: 17 | S18: 17 | T18: 13 | U18: 15 | V18: 16 | W18: 22 | X18: 16 | Y18: =LARGE((Table62[[#This Row],[K1]:[Z4]]),1) -> 22 | Z18: =LARGE((Table62[[#This Row],[K1]:[Z4]]),2) -> 22 | AA18: =LARGE((Table62[[#This Row],[K1]:[Z4]]),3) -> 22 | AB18: =LARGE((Table62[[#This Row],[K1]:[Z4]]),4) -> 17 | AC18: =LARGE((Table62[[#This Row],[K1]:[Z4]]),5) -> 17 | AD18: =LARGE((Table62[[#This Row],[K1]:[Z4]]),6) -> 16 | AE18: =LARGE((Table62[[#This Row],[K1]:[Z4]]),7) -> 16 | AF18: =LARGE((Table62[[#This Row],[K1]:[Z4]]),8) -> 15 | AG18: =LARGE((Table62[[#This Row],[K1]:[Z4]]),9) -> 14 | AH18: =LARGE((Table62[[#This Row],[K1]:[Z4]]),10) -> 13 | AI18: =SUM(Y18:AH18) -> 174 | AJ18: =K18+AI18 -> 183
A19: 16 | B19: 551 | C19: =_xlfn.XLOOKUP(B19,Sheet2!B:B,Sheet2!C:C) -> Egor Grishin | D19: =_xlfn.XLOOKUP(B19,Sheet2!B:B,Sheet2!G:G) -> 39654 | E19: =_xlfn.XLOOKUP(B19,Sheet2!B:B,Sheet2!H:H) -> NR | F19: =_xlfn.XLOOKUP(B19,Sheet2!B:B,Sheet2!D:D) -> FK | G19: 2 | H19: 3 | I19: 3 | J19: 3 | K19: =SUM(Table62[[#This Row],[SARMC 1]:[SARMC 4]]) -> 11 | L19: 17 | M19: 19 | N19: 18 | O19: 20 | P19: 16 | Q19: 17 | R19: 19 | S19: 16 | T19: 16 | U19: 0 | V19: 0 | W19: 0 | X19: 0 | Y19: =LARGE((Table62[[#This Row],[K1]:[Z4]]),1) -> 20 | Z19: =LARGE((Table62[[#This Row],[K1]:[Z4]]),2) -> 19 | AA19: =LARGE((Table62[[#This Row],[K1]:[Z4]]),3) -> 19 | AB19: =LARGE((Table62[[#This Row],[K1]:[Z4]]),4) -> 18 | AC19: =LARGE((Table62[[#This Row],[K1]:[Z4]]),5) -> 17 | AD19: =LARGE((Table62[[#This Row],[K1]:[Z4]]),6) -> 17 | AE19: =LARGE((Table62[[#This Row],[K1]:[Z4]]),7) -> 16 | AF19: =LARGE((Table62[[#This Row],[K1]:[Z4]]),8) -> 16 | AG19: =LARGE((Table62[[#This Row],[K1]:[Z4]]),9) -> 16 | AH19: =LARGE((Table62[[#This Row],[K1]:[Z4]]),10) -> 0 | AI19: =SUM(Y19:AH19) -> 158 | AJ19: =K19+AI19 -> 169
A20: 17 | B20: 589 | C20: =_xlfn.XLOOKUP(B20,Sheet2!B:B,Sheet2!C:C) -> Michael Omahoney | D20: =_xlfn.XLOOKUP(B20,Sheet2!B:B,Sheet2!G:G) -> 31973 | E20: =_xlfn.XLOOKUP(B20,Sheet2!B:B,Sheet2!H:H) -> WP | F20: =_xlfn.XLOOKUP(B20,Sheet2!B:B,Sheet2!D:D) -> CRG | G20: 3 | H20: 3 | I20: 3 | J20: 3 | K20: =SUM(Table62[[#This Row],[SARMC 1]:[SARMC 4]]) -> 12 | L20: 32 | M20: 29 | N20: 20 | O20: 0 | P20: 0 | Q20: 0 | R20: 27 | S20: 26 | T20: 23 | U20: 0 | V20: 0 | W20: 0 | X20: 0 | Y20: =LARGE((Table62[[#This Row],[K1]:[Z4]]),1) -> 32 | Z20: =LARGE((Table62[[#This Row],[K1]:[Z4]]),2) -> 29 | AA20: =LARGE((Table62[[#This Row],[K1]:[Z4]]),3) -> 27 | AB20: =LARGE((Table62[[#This Row],[K1]:[Z4]]),4) -> 26 | AC20: =LARGE((Table62[[#This Row],[K1]:[Z4]]),5) -> 23 | AD20: =LARGE((Table62[[#This Row],[K1]:[Z4]]),6) -> 20 | AE20: =LARGE((Table62[[#This Row],[K1]:[Z4]]),7) -> 0 | AF20: =LARGE((Table62[[#This Row],[K1]:[Z4]]),8) -> 0 | AG20: =LARGE((Table62[[#This Row],[K1]:[Z4]]),9) -> 0 | AH20: =LARGE((Table62[[#This Row],[K1]:[Z4]]),10) -> 0 | AI20: =SUM(Y20:AH20) -> 157 | AJ20: =K20+AI20 -> 169
A21: 18 | B21: 555 | C21: =_xlfn.XLOOKUP(B21,Sheet2!B:B,Sheet2!C:C) -> Zac Boshoff | D21: =_xlfn.XLOOKUP(B21,Sheet2!B:B,Sheet2!G:G) -> 31242 | E21: =_xlfn.XLOOKUP(B21,Sheet2!B:B,Sheet2!H:H) -> WP | F21: =_xlfn.XLOOKUP(B21,Sheet2!B:B,Sheet2!D:D) -> CRG | G21: 3 | H21: 3 | I21: 3 | J21: 3 | K21: =SUM(Table62[[#This Row],[SARMC 1]:[SARMC 4]]) -> 12 | L21: 24 | M21: 12 | N21: 26 | O21: 0 | P21: 0 | Q21: 0 | R21: 30 | S21: 24 | T21: 29 | U21: 0 | V21: 0 | W21: 0 | X21: 0 | Y21: =LARGE((Table62[[#This Row],[K1]:[Z4]]),1) -> 30 | Z21: =LARGE((Table62[[#This Row],[K1]:[Z4]]),2) -> 29 | AA21: =LARGE((Table62[[#This Row],[K1]:[Z4]]),3) -> 26 | AB21: =LARGE((Table62[[#This Row],[K1]:[Z4]]),4) -> 24 | AC21: =LARGE((Table62[[#This Row],[K1]:[Z4]]),5) -> 24 | AD21: =LARGE((Table62[[#This Row],[K1]:[Z4]]),6) -> 12 | AE21: =LARGE((Table62[[#This Row],[K1]:[Z4]]),7) -> 0 | AF21: =LARGE((Table62[[#This Row],[K1]:[Z4]]),8) -> 0 | AG21: =LARGE((Table62[[#This Row],[K1]:[Z4]]),9) -> 0 | AH21: =LARGE((Table62[[#This Row],[K1]:[Z4]]),10) -> 0 | AI21: =SUM(Y21:AH21) -> 145 | AJ21: =K21+AI21 -> 157
A22: 19 | B22: 563 | C22: Ethan Tuttleberg | D22: 43664 | E22: NR | F22: LNK | G22: 0 | H22: 3 | I22: 0 | J22: 3 | K22: =SUM(Table62[[#This Row],[SARMC 1]:[SARMC 4]]) -> 6 | L22: 0 | M22: 0 | N22: 0 | O22: 21 | P22: 20 | Q22: 16 | R22: 0 | S22: 0 | T22: 0 | U22: 17 | V22: 17 | W22: 20 | X22: 21 | Y22: =LARGE((Table62[[#This Row],[K1]:[Z4]]),1) -> 21 | Z22: =LARGE((Table62[[#This Row],[K1]:[Z4]]),2) -> 21 | AA22: =LARGE((Table62[[#This Row],[K1]:[Z4]]),3) -> 20 | AB22: =LARGE((Table62[[#This Row],[K1]:[Z4]]),4) -> 20 | AC22: =LARGE((Table62[[#This Row],[K1]:[Z4]]),5) -> 17 | AD22: =LARGE((Table62[[#This Row],[K1]:[Z4]]),6) -> 17 | AE22: =LARGE((Table62[[#This Row],[K1]:[Z4]]),7) -> 16 | AF22: =LARGE((Table62[[#This Row],[K1]:[Z4]]),8) -> 0 | AG22: =LARGE((Table62[[#This Row],[K1]:[Z4]]),9) -> 0 | AH22: =LARGE((Table62[[#This Row],[K1]:[Z4]]),10) -> 0 | AI22: =SUM(Y22:AH22) -> 132 | AJ22: =K22+AI22 -> 138
A23: 20 | B23: 576 | C23: =_xlfn.XLOOKUP(B23,Sheet2!B:B,Sheet2!C:C) -> Yonatan Fine | D23: =_xlfn.XLOOKUP(B23,Sheet2!B:B,Sheet2!G:G) -> 000 | E23: =_xlfn.XLOOKUP(B23,Sheet2!B:B,Sheet2!H:H) -> WP | F23: =_xlfn.XLOOKUP(B23,Sheet2!B:B,Sheet2!D:D) -> BIRELART | G23: 3 | H23: 3 | I23: 3 | J23: 3 | K23: =SUM(Table62[[#This Row],[SARMC 1]:[SARMC 4]]) -> 12 | L23: 12 | M23: 15 | N23: 13 | O23: 15 | P23: 17 | Q23: 13 | R23: 11 | S23: 13 | T23: 15 | U23: 0 | V23: 0 | W23: 0 | X23: 0 | Y23: =LARGE((Table62[[#This Row],[K1]:[Z4]]),1) -> 17 | Z23: =LARGE((Table62[[#This Row],[K1]:[Z4]]),2) -> 15 | AA23: =LARGE((Table62[[#This Row],[K1]:[Z4]]),3) -> 15 | AB23: =LARGE((Table62[[#This Row],[K1]:[Z4]]),4) -> 15 | AC23: =LARGE((Table62[[#This Row],[K1]:[Z4]]),5) -> 13 | AD23: =LARGE((Table62[[#This Row],[K1]:[Z4]]),6) -> 13 | AE23: =LARGE((Table62[[#This Row],[K1]:[Z4]]),7) -> 13 | AF23: =LARGE((Table62[[#This Row],[K1]:[Z4]]),8) -> 12 | AG23: =LARGE((Table62[[#This Row],[K1]:[Z4]]),9) -> 11 | AH23: =LARGE((Table62[[#This Row],[K1]:[Z4]]),10) -> 0 | AI23: =SUM(Y23:AH23) -> 124 | AJ23: =K23+AI23 -> 136
A24: 21 | B24: 507 | C24: =_xlfn.XLOOKUP(B24,Sheet2!B:B,Sheet2!C:C) -> Eduardo Campos | D24: =_xlfn.XLOOKUP(B24,Sheet2!B:B,Sheet2!G:G) -> D01625MZ | E24: =_xlfn.XLOOKUP(B24,Sheet2!B:B,Sheet2!H:H) -> MOZ | F24: =_xlfn.XLOOKUP(B24,Sheet2!B:B,Sheet2!D:D) -> KOSMIC | G24: 3 | H24: 0 | I24: 0 | J24: 0 | K24: =SUM(Table62[[#This Row],[SARMC 1]:[SARMC 4]]) -> 3 | L24: 0 | M24: 0 | N24: 0 | O24: 17 | P24: 21 | Q24: 18 | R24: 16 | S24: 20 | T24: 19 | U24: 0 | V24: 0 | W24: 0 | X24: 0 | Y24: =LARGE((Table62[[#This Row],[K1]:[Z4]]),1) -> 21 | Z24: =LARGE((Table62[[#This Row],[K1]:[Z4]]),2) -> 20 | AA24: =LARGE((Table62[[#This Row],[K1]:[Z4]]),3) -> 19 | AB24: =LARGE((Table62[[#This Row],[K1]:[Z4]]),4) -> 18 | AC24: =LARGE((Table62[[#This Row],[K1]:[Z4]]),5) -> 17 | AD24: =LARGE((Table62[[#This Row],[K1]:[Z4]]),6) -> 16 | AE24: =LARGE((Table62[[#This Row],[K1]:[Z4]]),7) -> 0 | AF24: =LARGE((Table62[[#This Row],[K1]:[Z4]]),8) -> 0 | AG24: =LARGE((Table62[[#This Row],[K1]:[Z4]]),9) -> 0 | AH24: =LARGE((Table62[[#This Row],[K1]:[Z4]]),10) -> 0 | AI24: =SUM(Y24:AH24) -> 111 | AJ24: =K24+AI24 -> 114
A25: 22 | B25: 512 | C25: =_xlfn.XLOOKUP(B25,Sheet2!B:B,Sheet2!C:C) -> Hunter North | D25: =_xlfn.XLOOKUP(B25,Sheet2!B:B,Sheet2!G:G) -> 35901 | E25: =_xlfn.XLOOKUP(B25,Sheet2!B:B,Sheet2!H:H) -> NR | F25: =_xlfn.XLOOKUP(B25,Sheet2!B:B,Sheet2!D:D) -> CRG | G25: 1 | H25: 0 | I25: 3 | J25: 3 | K25: =SUM(Table62[[#This Row],[SARMC 1]:[SARMC 4]]) -> 7 | L25: 0 | M25: 0 | N25: 0 | O25: 0 | P25: 0 | Q25: 0 | R25: 10 | S25: 12 | T25: 11 | U25: 14 | V25: 15 | W25: 23 | X25: 18 | Y25: =LARGE((Table62[[#This Row],[K1]:[Z4]]),1) -> 23 | Z25: =LARGE((Table62[[#This Row],[K1]:[Z4]]),2) -> 18 | AA25: =LARGE((Table62[[#This Row],[K1]:[Z4]]),3) -> 15 | AB25: =LARGE((Table62[[#This Row],[K1]:[Z4]]),4) -> 14 | AC25: =LARGE((Table62[[#This Row],[K1]:[Z4]]),5) -> 12 | AD25: =LARGE((Table62[[#This Row],[K1]:[Z4]]),6) -> 11 | AE25: =LARGE((Table62[[#This Row],[K1]:[Z4]]),7) -> 10 | AF25: =LARGE((Table62[[#This Row],[K1]:[Z4]]),8) -> 0 | AG25: =LARGE((Table62[[#This Row],[K1]:[Z4]]),9) -> 0 | AH25: =LARGE((Table62[[#This Row],[K1]:[Z4]]),10) -> 0 | AI25: =SUM(Y25:AH25) -> 103 | AJ25: =K25+AI25 -> 110
A26: 23 | B26: 535 | C26: =_xlfn.XLOOKUP(B26,Sheet2!B:B,Sheet2!C:C) -> Logan Roehrig | D26: =_xlfn.XLOOKUP(B26,Sheet2!B:B,Sheet2!G:G) -> 33342 | E26: =_xlfn.XLOOKUP(B26,Sheet2!B:B,Sheet2!H:H) -> WP | F26: =_xlfn.XLOOKUP(B26,Sheet2!B:B,Sheet2!D:D) -> KR | G26: 3 | H26: 3 | I26: 3 | J26: 3 | K26: =SUM(Table62[[#This Row],[SARMC 1]:[SARMC 4]]) -> 12 | L26: 35 | M26: 32 | N26: 29 | O26: 0 | P26: 0 | Q26: 0 | R26: 0 | S26: 0 | T26: 0 | U26: 0 | V26: 0 | W26: 0 | X26: 0 | Y26: =LARGE((Table62[[#This Row],[K1]:[Z4]]),1) -> 35 | Z26: =LARGE((Table62[[#This Row],[K1]:[Z4]]),2) -> 32 | AA26: =LARGE((Table62[[#This Row],[K1]:[Z4]]),3) -> 29 | AB26: =LARGE((Table62[[#This Row],[K1]:[Z4]]),4) -> 0 | AC26: =LARGE((Table62[[#This Row],[K1]:[Z4]]),5) -> 0 | AD26: =LARGE((Table62[[#This Row],[K1]:[Z4]]),6) -> 0 | AE26: =LARGE((Table62[[#This Row],[K1]:[Z4]]),7) -> 0 | AF26: =LARGE((Table62[[#This Row],[K1]:[Z4]]),8) -> 0 | AG26: =LARGE((Table62[[#This Row],[K1]:[Z4]]),9) -> 0 | AH26: =LARGE((Table62[[#This Row],[K1]:[Z4]]),10) -> 0 | AI26: =SUM(Y26:AH26) -> 96 | AJ26: =K26+AI26 -> 108
A27: 24 | B27: 559 | C27: =_xlfn.XLOOKUP(B27,Sheet2!B:B,Sheet2!C:C) -> Igor Esteves | D27: =_xlfn.XLOOKUP(B27,Sheet2!B:B,Sheet2!G:G) -> 2324 | E27: =_xlfn.XLOOKUP(B27,Sheet2!B:B,Sheet2!H:H) -> MOZ | F27: DAP | G27: 3 | H27: 0 | I27: 0 | J27: 0 | K27: =SUM(Table62[[#This Row],[SARMC 1]:[SARMC 4]]) -> 3 | L27: 0 | M27: 0 | N27: 0 | O27: 0 | P27: 0 | Q27: 0 | R27: 13 | S27: 14 | T27: 12 | U27: 16 | V27: 14 | W27: 19 | X27: 15 | Y27: =LARGE((Table62[[#This Row],[K1]:[Z4]]),1) -> 19 | Z27: =LARGE((Table62[[#This Row],[K1]:[Z4]]),2) -> 16 | AA27: =LARGE((Table62[[#This Row],[K1]:[Z4]]),3) -> 15 | AB27: =LARGE((Table62[[#This Row],[K1]:[Z4]]),4) -> 14 | AC27: =LARGE((Table62[[#This Row],[K1]:[Z4]]),5) -> 14 | AD27: =LARGE((Table62[[#This Row],[K1]:[Z4]]),6) -> 13 | AE27: =LARGE((Table62[[#This Row],[K1]:[Z4]]),7) -> 12 | AF27: =LARGE((Table62[[#This Row],[K1]:[Z4]]),8) -> 0 | AG27: =LARGE((Table62[[#This Row],[K1]:[Z4]]),9) -> 0 | AH27: =LARGE((Table62[[#This Row],[K1]:[Z4]]),10) -> 0 | AI27: =SUM(Y27:AH27) -> 103 | AJ27: =K27+AI27 -> 106
A28: 25 | B28: 599 | C28: =_xlfn.XLOOKUP(B28,Sheet2!B:B,Sheet2!C:C) -> Radhi Harris | D28: =_xlfn.XLOOKUP(B28,Sheet2!B:B,Sheet2!G:G) -> 37271 | E28: =_xlfn.XLOOKUP(B28,Sheet2!B:B,Sheet2!H:H) -> WP | F28: CRG | G28: 0 | H28: 0 | I28: 3 | J28: 3 | K28: =SUM(Table62[[#This Row],[SARMC 1]:[SARMC 4]]) -> 6 | L28: 0 | M28: 0 | N28: 0 | O28: 0 | P28: 0 | Q28: 0 | R28: 0 | S28: 0 | T28: 0 | U28: 23 | V28: 21 | W28: 26 | X28: 24 | Y28: =LARGE((Table62[[#This Row],[K1]:[Z4]]),1) -> 26 | Z28: =LARGE((Table62[[#This Row],[K1]:[Z4]]),2) -> 24 | AA28: =LARGE((Table62[[#This Row],[K1]:[Z4]]),3) -> 23 | AB28: =LARGE((Table62[[#This Row],[K1]:[Z4]]),4) -> 21 | AC28: =LARGE((Table62[[#This Row],[K1]:[Z4]]),5) -> 0 | AD28: =LARGE((Table62[[#This Row],[K1]:[Z4]]),6) -> 0 | AE28: =LARGE((Table62[[#This Row],[K1]:[Z4]]),7) -> 0 | AF28: =LARGE((Table62[[#This Row],[K1]:[Z4]]),8) -> 0 | AG28: =LARGE((Table62[[#This Row],[K1]:[Z4]]),9) -> 0 | AH28: =LARGE((Table62[[#This Row],[K1]:[Z4]]),10) -> 0 | AI28: =SUM(Y28:AH28) -> 94 | AJ28: =K28+AI28 -> 100
A29: 26 | B29: 539 | C29: =_xlfn.XLOOKUP(B29,Sheet2!B:B,Sheet2!C:C) -> Yaqeen Gamieldien | D29: =_xlfn.XLOOKUP(B29,Sheet2!B:B,Sheet2!G:G) -> 0 | E29: =_xlfn.XLOOKUP(B29,Sheet2!B:B,Sheet2!H:H) -> WP | F29: =_xlfn.XLOOKUP(B29,Sheet2!B:B,Sheet2!D:D) -> CRG | G29: 3 | H29: 3 | I29: 3 | J29: 1 | K29: =SUM(Table62[[#This Row],[SARMC 1]:[SARMC 4]]) -> 10 | L29: 28 | M29: 28 | N29: 32 | O29: 0 | P29: 0 | Q29: 0 | R29: 0 | S29: 0 | T29: 0 | U29: 0 | V29: 0 | W29: 0 | X29: 0 | Y29: =LARGE((Table62[[#This Row],[K1]:[Z4]]),1) -> 32 | Z29: =LARGE((Table62[[#This Row],[K1]:[Z4]]),2) -> 28 | AA29: =LARGE((Table62[[#This Row],[K1]:[Z4]]),3) -> 28 | AB29: =LARGE((Table62[[#This Row],[K1]:[Z4]]),4) -> 0 | AC29: =LARGE((Table62[[#This Row],[K1]:[Z4]]),5) -> 0 | AD29: =LARGE((Table62[[#This Row],[K1]:[Z4]]),6) -> 0 | AE29: =LARGE((Table62[[#This Row],[K1]:[Z4]]),7) -> 0 | AF29: =LARGE((Table62[[#This Row],[K1]:[Z4]]),8) -> 0 | AG29: =LARGE((Table62[[#This Row],[K1]:[Z4]]),9) -> 0 | AH29: =LARGE((Table62[[#This Row],[K1]:[Z4]]),10) -> 0 | AI29: =SUM(Y29:AH29) -> 88 | AJ29: =K29+AI29 -> 98
A30: 27 | B30: 565 | C30: =_xlfn.XLOOKUP(B30,Sheet2!B:B,Sheet2!C:C) -> Gury Dos Santos | D30: =_xlfn.XLOOKUP(B30,Sheet2!B:B,Sheet2!G:G) -> NMSF722 | E30: =_xlfn.XLOOKUP(B30,Sheet2!B:B,Sheet2!H:H) -> NAM | F30: =_xlfn.XLOOKUP(B30,Sheet2!B:B,Sheet2!D:D) -> CRG | G30: 0 | H30: 0 | I30: 0 | J30: 0 | K30: =SUM(Table62[[#This Row],[SARMC 1]:[SARMC 4]]) -> 0 | L30: 13 | M30: 16 | N30: 14 | O30: 14 | P30: 18 | Q30: 15 | R30: 0 | S30: 0 | T30: 0 | U30: 0 | V30: 0 | W30: 0 | X30: 0 | Y30: =LARGE((Table62[[#This Row],[K1]:[Z4]]),1) -> 18 | Z30: =LARGE((Table62[[#This Row],[K1]:[Z4]]),2) -> 16 | AA30: =LARGE((Table62[[#This Row],[K1]:[Z4]]),3) -> 15 | AB30: =LARGE((Table62[[#This Row],[K1]:[Z4]]),4) -> 14 | AC30: =LARGE((Table62[[#This Row],[K1]:[Z4]]),5) -> 14 | AD30: =LARGE((Table62[[#This Row],[K1]:[Z4]]),6) -> 13 | AE30: =LARGE((Table62[[#This Row],[K1]:[Z4]]),7) -> 0 | AF30: =LARGE((Table62[[#This Row],[K1]:[Z4]]),8) -> 0 | AG30: =LARGE((Table62[[#This Row],[K1]:[Z4]]),9) -> 0 | AH30: =LARGE((Table62[[#This Row],[K1]:[Z4]]),10) -> 0 | AI30: =SUM(Y30:AH30) -> 90 | AJ30: =K30+AI30 -> 90
A31: 28 | B31: 516 | C31: =_xlfn.XLOOKUP(B31,Sheet2!B:B,Sheet2!C:C) -> Jayden Van Der Merwe | D31: =_xlfn.XLOOKUP(B31,Sheet2!B:B,Sheet2!G:G) -> 33324 | E31: =_xlfn.XLOOKUP(B31,Sheet2!B:B,Sheet2!H:H) -> WP | F31: =_xlfn.XLOOKUP(B31,Sheet2!B:B,Sheet2!D:D) -> CRG | G31: 3 | H31: 3 | I31: 3 | J31: 0 | K31: =SUM(Table62[[#This Row],[SARMC 1]:[SARMC 4]]) -> 9 | L31: 25 | M31: 22 | N31: 28 | O31: 0 | P31: 0 | Q31: 0 | R31: 0 | S31: 0 | T31: 0 | U31: 0 | V31: 0 | W31: 0 | X31: 0 | Y31: =LARGE((Table62[[#This Row],[K1]:[Z4]]),1) -> 28 | Z31: =LARGE((Table62[[#This Row],[K1]:[Z4]]),2) -> 25 | AA31: =LARGE((Table62[[#This Row],[K1]:[Z4]]),3) -> 22 | AB31: =LARGE((Table62[[#This Row],[K1]:[Z4]]),4) -> 0 | AC31: =LARGE((Table62[[#This Row],[K1]:[Z4]]),5) -> 0 | AD31: =LARGE((Table62[[#This Row],[K1]:[Z4]]),6) -> 0 | AE31: =LARGE((Table62[[#This Row],[K1]:[Z4]]),7) -> 0 | AF31: =LARGE((Table62[[#This Row],[K1]:[Z4]]),8) -> 0 | AG31: =LARGE((Table62[[#This Row],[K1]:[Z4]]),9) -> 0 | AH31: =LARGE((Table62[[#This Row],[K1]:[Z4]]),10) -> 0 | AI31: =SUM(Y31:AH31) -> 75 | AJ31: =K31+AI31 -> 84
A32: 29 | B32: 511 | C32: =_xlfn.XLOOKUP(B32,Sheet2!B:B,Sheet2!C:C) -> Milan Fischer | D32: =_xlfn.XLOOKUP(B32,Sheet2!B:B,Sheet2!G:G) -> NMSF490 | E32: =_xlfn.XLOOKUP(B32,Sheet2!B:B,Sheet2!H:H) -> NAM | F32: =_xlfn.XLOOKUP(B32,Sheet2!B:B,Sheet2!D:D) -> SODI | G32: 0 | H32: 0 | I32: 0 | J32: 0 | K32: =SUM(Table62[[#This Row],[SARMC 1]:[SARMC 4]]) -> 0 | L32: 0 | M32: 0 | N32: 0 | O32: 16 | P32: 15 | Q32: 19 | R32: 12 | S32: 11 | T32: 9 | U32: 0 | V32: 0 | W32: 0 | X32: 0 | Y32: =LARGE((Table62[[#This Row],[K1]:[Z4]]),1) -> 19 | Z32: =LARGE((Table62[[#This Row],[K1]:[Z4]]),2) -> 16 | AA32: =LARGE((Table62[[#This Row],[K1]:[Z4]]),3) -> 15 | AB32: =LARGE((Table62[[#This Row],[K1]:[Z4]]),4) -> 12 | AC32: =LARGE((Table62[[#This Row],[K1]:[Z4]]),5) -> 11 | AD32: =LARGE((Table62[[#This Row],[K1]:[Z4]]),6) -> 9 | AE32: =LARGE((Table62[[#This Row],[K1]:[Z4]]),7) -> 0 | AF32: =LARGE((Table62[[#This Row],[K1]:[Z4]]),8) -> 0 | AG32: =LARGE((Table62[[#This Row],[K1]:[Z4]]),9) -> 0 | AH32: =LARGE((Table62[[#This Row],[K1]:[Z4]]),10) -> 0 | AI32: =SUM(Y32:AH32) -> 82 | AJ32: =K32+AI32 -> 82
A33: 30 | B33: 570 | C33: =_xlfn.XLOOKUP(B33,Sheet2!B:B,Sheet2!C:C) -> Alanzo Dias | D33: =_xlfn.XLOOKUP(B33,Sheet2!B:B,Sheet2!G:G) -> 33791 | E33: =_xlfn.XLOOKUP(B33,Sheet2!B:B,Sheet2!H:H) -> WP | F33: =_xlfn.XLOOKUP(B33,Sheet2!B:B,Sheet2!D:D) -> CRG | G33: 0 | H33: 0 | I33: 0 | J33: 0 | K33: =SUM(Table62[[#This Row],[SARMC 1]:[SARMC 4]]) -> 0 | L33: 19 | M33: 17 | N33: 17 | O33: 0 | P33: 0 | Q33: 0 | R33: 0 | S33: 0 | T33: 0 | U33: 0 | V33: 0 | W33: 0 | X33: 0 | Y33: =LARGE((Table62[[#This Row],[K1]:[Z4]]),1) -> 19 | Z33: =LARGE((Table62[[#This Row],[K1]:[Z4]]),2) -> 17 | AA33: =LARGE((Table62[[#This Row],[K1]:[Z4]]),3) -> 17 | AB33: =LARGE((Table62[[#This Row],[K1]:[Z4]]),4) -> 0 | AC33: =LARGE((Table62[[#This Row],[K1]:[Z4]]),5) -> 0 | AD33: =LARGE((Table62[[#This Row],[K1]:[Z4]]),6) -> 0 | AE33: =LARGE((Table62[[#This Row],[K1]:[Z4]]),7) -> 0 | AF33: =LARGE((Table62[[#This Row],[K1]:[Z4]]),8) -> 0 | AG33: =LARGE((Table62[[#This Row],[K1]:[Z4]]),9) -> 0 | AH33: =LARGE((Table62[[#This Row],[K1]:[Z4]]),10) -> 0 | AI33: =SUM(Y33:AH33) -> 53 | AJ33: =K33+AI33 -> 53
A34: 31 | B34: 515 | C34: =_xlfn.XLOOKUP(B34,Sheet2!B:B,Sheet2!C:C) -> Bono Raphunga | D34: =_xlfn.XLOOKUP(B34,Sheet2!B:B,Sheet2!G:G) -> 42794 | E34: =_xlfn.XLOOKUP(B34,Sheet2!B:B,Sheet2!H:H) -> NR | F34: =_xlfn.XLOOKUP(B34,Sheet2!B:B,Sheet2!D:D) -> CRG | G34: 3 | H34: 3 | I34: 0 | J34: 0 | K34: =SUM(Table62[[#This Row],[SARMC 1]:[SARMC 4]]) -> 6 | L34: 11 | M34: 11 | N34: 11 | O34: 0 | P34: 0 | Q34: 0 | R34: 0 | S34: 0 | T34: 0 | U34: 0 | V34: 0 | W34: 0 | X34: 0 | Y34: =LARGE((Table62[[#This Row],[K1]:[Z4]]),1) -> 11 | Z34: =LARGE((Table62[[#This Row],[K1]:[Z4]]),2) -> 11 | AA34: =LARGE((Table62[[#This Row],[K1]:[Z4]]),3) -> 11 | AB34: =LARGE((Table62[[#This Row],[K1]:[Z4]]),4) -> 0 | AC34: =LARGE((Table62[[#This Row],[K1]:[Z4]]),5) -> 0 | AD34: =LARGE((Table62[[#This Row],[K1]:[Z4]]),6) -> 0 | AE34: =LARGE((Table62[[#This Row],[K1]:[Z4]]),7) -> 0 | AF34: =LARGE((Table62[[#This Row],[K1]:[Z4]]),8) -> 0 | AG34: =LARGE((Table62[[#This Row],[K1]:[Z4]]),9) -> 0 | AH34: =LARGE((Table62[[#This Row],[K1]:[Z4]]),10) -> 0 | AI34: =SUM(Y34:AH34) -> 33 | AJ34: =K34+AI34 -> 39
A35: 32 | B35: 534 | C35: =_xlfn.XLOOKUP(B35,Sheet2!B:B,Sheet2!C:C) -> Daniel Resende | D35: =_xlfn.XLOOKUP(B35,Sheet2!B:B,Sheet2!G:G) -> D03624MZ | E35: =_xlfn.XLOOKUP(B35,Sheet2!B:B,Sheet2!H:H) -> MOZ | F35: =_xlfn.XLOOKUP(B35,Sheet2!B:B,Sheet2!D:D) -> KOSMIC | G35: 2 | H35: 0 | I35: 0 | J35: 0 | K35: =SUM(Table62[[#This Row],[SARMC 1]:[SARMC 4]]) -> 2 | L35: 0 | M35: 0 | N35: 0 | O35: 0 | P35: 0 | Q35: 0 | R35: 9 | S35: 10 | T35: 10 | U35: 0 | V35: 0 | W35: 0 | X35: 0 | Y35: =LARGE((Table62[[#This Row],[K1]:[Z4]]),1) -> 10 | Z35: =LARGE((Table62[[#This Row],[K1]:[Z4]]),2) -> 10 | AA35: =LARGE((Table62[[#This Row],[K1]:[Z4]]),3) -> 9 | AB35: =LARGE((Table62[[#This Row],[K1]:[Z4]]),4) -> 0 | AC35: =LARGE((Table62[[#This Row],[K1]:[Z4]]),5) -> 0 | AD35: =LARGE((Table62[[#This Row],[K1]:[Z4]]),6) -> 0 | AE35: =LARGE((Table62[[#This Row],[K1]:[Z4]]),7) -> 0 | AF35: =LARGE((Table62[[#This Row],[K1]:[Z4]]),8) -> 0 | AG35: =LARGE((Table62[[#This Row],[K1]:[Z4]]),9) -> 0 | AH35: =LARGE((Table62[[#This Row],[K1]:[Z4]]),10) -> 0 | AI35: =SUM(Y35:AH35) -> 29 | AJ35: =K35+AI35 -> 31
A36: 33 | B36: 580 | C36: Ben Goldbeck | D36: NMSF504 | E36: NAM | F36: CRG | G36: 0 | H36: 0 | I36: 0 | J36: 0 | K36: =SUM(Table62[[#This Row],[SARMC 1]:[SARMC 4]]) -> 0 | L36: 0 | M36: 0 | N36: 0 | O36: 0 | P36: 0 | Q36: 0 | R36: 7 | S36: 9 | T36: 8 | U36: 0 | V36: 0 | W36: 0 | X36: 0 | Y36: =LARGE((Table62[[#This Row],[K1]:[Z4]]),1) -> 9 | Z36: =LARGE((Table62[[#This Row],[K1]:[Z4]]),2) -> 8 | AA36: =LARGE((Table62[[#This Row],[K1]:[Z4]]),3) -> 7 | AB36: =LARGE((Table62[[#This Row],[K1]:[Z4]]),4) -> 0 | AC36: =LARGE((Table62[[#This Row],[K1]:[Z4]]),5) -> 0 | AD36: =LARGE((Table62[[#This Row],[K1]:[Z4]]),6) -> 0 | AE36: =LARGE((Table62[[#This Row],[K1]:[Z4]]),7) -> 0 | AF36: =LARGE((Table62[[#This Row],[K1]:[Z4]]),8) -> 0 | AG36: =LARGE((Table62[[#This Row],[K1]:[Z4]]),9) -> 0 | AH36: =LARGE((Table62[[#This Row],[K1]:[Z4]]),10) -> 0 | AI36: =SUM(Y36:AH36) -> 24 | AJ36: =K36+AI36 -> 24
A37: 34 | B37: 549 | C37: Sean Njumbi | D37: KART05 | E37: KEN | F37: BIRELART | G37: 0 | H37: 0 | I37: 0 | J37: 0 | K37: =SUM(Table62[[#This Row],[SARMC 1]:[SARMC 4]]) -> 0 | L37: 0 | M37: 0 | N37: 0 | O37: 0 | P37: 0 | Q37: 0 | R37: 8 | S37: 8 | T37: 7 | U37: 0 | V37: 0 | W37: 0 | X37: 0 | Y37: =LARGE((Table62[[#This Row],[K1]:[Z4]]),1) -> 8 | Z37: =LARGE((Table62[[#This Row],[K1]:[Z4]]),2) -> 8 | AA37: =LARGE((Table62[[#This Row],[K1]:[Z4]]),3) -> 7 | AB37: =LARGE((Table62[[#This Row],[K1]:[Z4]]),4) -> 0 | AC37: =LARGE((Table62[[#This Row],[K1]:[Z4]]),5) -> 0 | AD37: =LARGE((Table62[[#This Row],[K1]:[Z4]]),6) -> 0 | AE37: =LARGE((Table62[[#This Row],[K1]:[Z4]]),7) -> 0 | AF37: =LARGE((Table62[[#This Row],[K1]:[Z4]]),8) -> 0 | AG37: =LARGE((Table62[[#This Row],[K1]:[Z4]]),9) -> 0 | AH37: =LARGE((Table62[[#This Row],[K1]:[Z4]]),10) -> 0 | AI37: =SUM(Y37:AH37) -> 23 | AJ37: =K37+AI37 -> 23
A38: 35 | B38: 566 | C38: =_xlfn.XLOOKUP(B38,Sheet2!B:B,Sheet2!C:C) -> Jake Steyn | D38: =_xlfn.XLOOKUP(B38,Sheet2!B:B,Sheet2!G:G) -> 36795 | E38: =_xlfn.XLOOKUP(B38,Sheet2!B:B,Sheet2!H:H) -> WP | F38: =_xlfn.XLOOKUP(B38,Sheet2!B:B,Sheet2!D:D) -> CRG | G38: 3 | H38: 3 | I38: 3 | J38: 3 | K38: =SUM(Table62[[#This Row],[SARMC 1]:[SARMC 4]]) -> 12 | L38: 0 | M38: 0 | N38: 0 | O38: 0 | P38: 0 | Q38: 0 | R38: 0 | S38: 0 | T38: 0 | U38: 0 | V38: 0 | W38: 0 | X38: 0 | Y38: =LARGE((Table62[[#This Row],[K1]:[Z4]]),1) -> 0 | Z38: =LARGE((Table62[[#This Row],[K1]:[Z4]]),2) -> 0 | AA38: =LARGE((Table62[[#This Row],[K1]:[Z4]]),3) -> 0 | AB38: =LARGE((Table62[[#This Row],[K1]:[Z4]]),4) -> 0 | AC38: =LARGE((Table62[[#This Row],[K1]:[Z4]]),5) -> 0 | AD38: =LARGE((Table62[[#This Row],[K1]:[Z4]]),6) -> 0 | AE38: =LARGE((Table62[[#This Row],[K1]:[Z4]]),7) -> 0 | AF38: =LARGE((Table62[[#This Row],[K1]:[Z4]]),8) -> 0 | AG38: =LARGE((Table62[[#This Row],[K1]:[Z4]]),9) -> 0 | AH38: =LARGE((Table62[[#This Row],[K1]:[Z4]]),10) -> 0 | AI38: =SUM(Y38:AH38) -> 0 | AJ38: =K38+AI38 -> 12
A39: 36 | B39: 530 | C39: =_xlfn.XLOOKUP(B39,Sheet2!B:B,Sheet2!C:C) -> Aven Bennett | D39: =_xlfn.XLOOKUP(B39,Sheet2!B:B,Sheet2!G:G) -> 44299 | E39: =_xlfn.XLOOKUP(B39,Sheet2!B:B,Sheet2!H:H) -> KZN | F39: =_xlfn.XLOOKUP(B39,Sheet2!B:B,Sheet2!D:D) -> SODI | G39: 3 | H39: 3 | I39: 3 | J39: 3 | K39: =SUM(Table62[[#This Row],[SARMC 1]:[SARMC 4]]) -> 12 | L39: 0 | M39: 0 | N39: 0 | O39: 0 | P39: 0 | Q39: 0 | R39: 0 | S39: 0 | T39: 0 | U39: 0 | V39: 0 | W39: 0 | X39: 0 | Y39: =LARGE((Table62[[#This Row],[K1]:[Z4]]),1) -> 0 | Z39: =LARGE((Table62[[#This Row],[K1]:[Z4]]),2) -> 0 | AA39: =LARGE((Table62[[#This Row],[K1]:[Z4]]),3) -> 0 | AB39: =LARGE((Table62[[#This Row],[K1]:[Z4]]),4) -> 0 | AC39: =LARGE((Table62[[#This Row],[K1]:[Z4]]),5) -> 0 | AD39: =LARGE((Table62[[#This Row],[K1]:[Z4]]),6) -> 0 | AE39: =LARGE((Table62[[#This Row],[K1]:[Z4]]),7) -> 0 | AF39: =LARGE((Table62[[#This Row],[K1]:[Z4]]),8) -> 0 | AG39: =LARGE((Table62[[#This Row],[K1]:[Z4]]),9) -> 0 | AH39: =LARGE((Table62[[#This Row],[K1]:[Z4]]),10) -> 0 | AI39: =SUM(Y39:AH39) -> 0 | AJ39: =K39+AI39 -> 12
A40: 37 | B40: 552 | C40: =_xlfn.XLOOKUP(B40,Sheet2!B:B,Sheet2!C:C) -> Mayank Naidu | D40: =_xlfn.XLOOKUP(B40,Sheet2!B:B,Sheet2!G:G) -> 45857 | E40: =_xlfn.XLOOKUP(B40,Sheet2!B:B,Sheet2!H:H) -> KZN | F40: =_xlfn.XLOOKUP(B40,Sheet2!B:B,Sheet2!D:D) -> BIRELART | G40: 3 | H40: 3 | I40: 3 | J40: 3 | K40: =SUM(Table62[[#This Row],[SARMC 1]:[SARMC 4]]) -> 12 | L40: 0 | M40: 0 | N40: 0 | O40: 0 | P40: 0 | Q40: 0 | R40: 0 | S40: 0 | T40: 0 | U40: 0 | V40: 0 | W40: 0 | X40: 0 | Y40: =LARGE((Table62[[#This Row],[K1]:[Z4]]),1) -> 0 | Z40: =LARGE((Table62[[#This Row],[K1]:[Z4]]),2) -> 0 | AA40: =LARGE((Table62[[#This Row],[K1]:[Z4]]),3) -> 0 | AB40: =LARGE((Table62[[#This Row],[K1]:[Z4]]),4) -> 0 | AC40: =LARGE((Table62[[#This Row],[K1]:[Z4]]),5) -> 0 | AD40: =LARGE((Table62[[#This Row],[K1]:[Z4]]),6) -> 0 | AE40: =LARGE((Table62[[#This Row],[K1]:[Z4]]),7) -> 0 | AF40: =LARGE((Table62[[#This Row],[K1]:[Z4]]),8) -> 0 | AG40: =LARGE((Table62[[#This Row],[K1]:[Z4]]),9) -> 0 | AH40: =LARGE((Table62[[#This Row],[K1]:[Z4]]),10) -> 0 | AI40: =SUM(Y40:AH40) -> 0 | AJ40: =K40+AI40 -> 12
A41: 38 | B41: 577 | C41: =_xlfn.XLOOKUP(B41,Sheet2!B:B,Sheet2!C:C) -> Gabriel Jubber | D41: =_xlfn.XLOOKUP(B41,Sheet2!B:B,Sheet2!G:G) -> 46318 | E41: =_xlfn.XLOOKUP(B41,Sheet2!B:B,Sheet2!H:H) -> KZN | F41: =_xlfn.XLOOKUP(B41,Sheet2!B:B,Sheet2!D:D) -> TONY | G41: 3 | H41: 3 | I41: 3 | J41: 3 | K41: =SUM(Table62[[#This Row],[SARMC 1]:[SARMC 4]]) -> 12 | L41: 0 | M41: 0 | N41: 0 | O41: 0 | P41: 0 | Q41: 0 | R41: 0 | S41: 0 | T41: 0 | U41: 0 | V41: 0 | W41: 0 | X41: 0 | Y41: =LARGE((Table62[[#This Row],[K1]:[Z4]]),1) -> 0 | Z41: =LARGE((Table62[[#This Row],[K1]:[Z4]]),2) -> 0 | AA41: =LARGE((Table62[[#This Row],[K1]:[Z4]]),3) -> 0 | AB41: =LARGE((Table62[[#This Row],[K1]:[Z4]]),4) -> 0 | AC41: =LARGE((Table62[[#This Row],[K1]:[Z4]]),5) -> 0 | AD41: =LARGE((Table62[[#This Row],[K1]:[Z4]]),6) -> 0 | AE41: =LARGE((Table62[[#This Row],[K1]:[Z4]]),7) -> 0 | AF41: =LARGE((Table62[[#This Row],[K1]:[Z4]]),8) -> 0 | AG41: =LARGE((Table62[[#This Row],[K1]:[Z4]]),9) -> 0 | AH41: =LARGE((Table62[[#This Row],[K1]:[Z4]]),10) -> 0 | AI41: =SUM(Y41:AH41) -> 0 | AJ41: =K41+AI41 -> 12
A42: 39 | B42: 595 | C42: =_xlfn.XLOOKUP(B42,Sheet2!B:B,Sheet2!C:C) -> Connor Falconer | D42: =_xlfn.XLOOKUP(B42,Sheet2!B:B,Sheet2!G:G) -> 39943 | E42: =_xlfn.XLOOKUP(B42,Sheet2!B:B,Sheet2!H:H) -> KZN | F42: =_xlfn.XLOOKUP(B42,Sheet2!B:B,Sheet2!D:D) -> SODI | G42: 3 | H42: 3 | I42: 3 | J42: 3 | K42: =SUM(Table62[[#This Row],[SARMC 1]:[SARMC 4]]) -> 12 | L42: 0 | M42: 0 | N42: 0 | O42: 0 | P42: 0 | Q42: 0 | R42: 0 | S42: 0 | T42: 0 | U42: 0 | V42: 0 | W42: 0 | X42: 0 | Y42: =LARGE((Table62[[#This Row],[K1]:[Z4]]),1) -> 0 | Z42: =LARGE((Table62[[#This Row],[K1]:[Z4]]),2) -> 0 | AA42: =LARGE((Table62[[#This Row],[K1]:[Z4]]),3) -> 0 | AB42: =LARGE((Table62[[#This Row],[K1]:[Z4]]),4) -> 0 | AC42: =LARGE((Table62[[#This Row],[K1]:[Z4]]),5) -> 0 | AD42: =LARGE((Table62[[#This Row],[K1]:[Z4]]),6) -> 0 | AE42: =LARGE((Table62[[#This Row],[K1]:[Z4]]),7) -> 0 | AF42: =LARGE((Table62[[#This Row],[K1]:[Z4]]),8) -> 0 | AG42: =LARGE((Table62[[#This Row],[K1]:[Z4]]),9) -> 0 | AH42: =LARGE((Table62[[#This Row],[K1]:[Z4]]),10) -> 0 | AI42: =SUM(Y42:AH42) -> 0 | AJ42: =K42+AI42 -> 12
A43: 40 | B43: 525 | C43: =_xlfn.XLOOKUP(B43,Sheet2!B:B,Sheet2!C:C) -> Qaanit Doutie | D43: =_xlfn.XLOOKUP(B43,Sheet2!B:B,Sheet2!G:G) -> 41219 | E43: =_xlfn.XLOOKUP(B43,Sheet2!B:B,Sheet2!H:H) -> WP | F43: =_xlfn.XLOOKUP(B43,Sheet2!B:B,Sheet2!D:D) -> CRG | G43: 2 | H43: 3 | I43: 3 | J43: 3 | K43: =SUM(Table62[[#This Row],[SARMC 1]:[SARMC 4]]) -> 11 | L43: 0 | M43: 0 | N43: 0 | O43: 0 | P43: 0 | Q43: 0 | R43: 0 | S43: 0 | T43: 0 | U43: 0 | V43: 0 | W43: 0 | X43: 0 | Y43: =LARGE((Table62[[#This Row],[K1]:[Z4]]),1) -> 0 | Z43: =LARGE((Table62[[#This Row],[K1]:[Z4]]),2) -> 0 | AA43: =LARGE((Table62[[#This Row],[K1]:[Z4]]),3) -> 0 | AB43: =LARGE((Table62[[#This Row],[K1]:[Z4]]),4) -> 0 | AC43: =LARGE((Table62[[#This Row],[K1]:[Z4]]),5) -> 0 | AD43: =LARGE((Table62[[#This Row],[K1]:[Z4]]),6) -> 0 | AE43: =LARGE((Table62[[#This Row],[K1]:[Z4]]),7) -> 0 | AF43: =LARGE((Table62[[#This Row],[K1]:[Z4]]),8) -> 0 | AG43: =LARGE((Table62[[#This Row],[K1]:[Z4]]),9) -> 0 | AH43: =LARGE((Table62[[#This Row],[K1]:[Z4]]),10) -> 0 | AI43: =SUM(Y43:AH43) -> 0 | AJ43: =K43+AI43 -> 11
A44: 41 | B44: 529 | C44: =_xlfn.XLOOKUP(B44,Sheet2!B:B,Sheet2!C:C) -> Rorisang Mafisa | D44: =_xlfn.XLOOKUP(B44,Sheet2!B:B,Sheet2!G:G) -> 46574 | E44: =_xlfn.XLOOKUP(B44,Sheet2!B:B,Sheet2!H:H) -> NR | F44: =_xlfn.XLOOKUP(B44,Sheet2!B:B,Sheet2!D:D) -> KR | G44: 3 | H44: 3 | I44: 0 | J44: 3 | K44: =SUM(Table62[[#This Row],[SARMC 1]:[SARMC 4]]) -> 9 | L44: 0 | M44: 0 | N44: 0 | O44: 0 | P44: 0 | Q44: 0 | R44: 0 | S44: 0 | T44: 0 | U44: 0 | V44: 0 | W44: 0 | X44: 0 | Y44: =LARGE((Table62[[#This Row],[K1]:[Z4]]),1) -> 0 | Z44: =LARGE((Table62[[#This Row],[K1]:[Z4]]),2) -> 0 | AA44: =LARGE((Table62[[#This Row],[K1]:[Z4]]),3) -> 0 | AB44: =LARGE((Table62[[#This Row],[K1]:[Z4]]),4) -> 0 | AC44: =LARGE((Table62[[#This Row],[K1]:[Z4]]),5) -> 0 | AD44: =LARGE((Table62[[#This Row],[K1]:[Z4]]),6) -> 0 | AE44: =LARGE((Table62[[#This Row],[K1]:[Z4]]),7) -> 0 | AF44: =LARGE((Table62[[#This Row],[K1]:[Z4]]),8) -> 0 | AG44: =LARGE((Table62[[#This Row],[K1]:[Z4]]),9) -> 0 | AH44: =LARGE((Table62[[#This Row],[K1]:[Z4]]),10) -> 0 | AI44: =SUM(Y44:AH44) -> 0 | AJ44: =K44+AI44 -> 9
A45: 42 | B45: 550 | C45: =_xlfn.XLOOKUP(B45,Sheet2!B:B,Sheet2!C:C) -> Sean Arde | D45: =_xlfn.XLOOKUP(B45,Sheet2!B:B,Sheet2!G:G) -> 39867 | E45: =_xlfn.XLOOKUP(B45,Sheet2!B:B,Sheet2!H:H) -> KZN | F45: =_xlfn.XLOOKUP(B45,Sheet2!B:B,Sheet2!D:D) -> CRG | G45: 3 | H45: 0 | I45: 3 | J45: 3 | K45: =SUM(Table62[[#This Row],[SARMC 1]:[SARMC 4]]) -> 9 | L45: 0 | M45: 0 | N45: 0 | O45: 0 | P45: 0 | Q45: 0 | R45: 0 | S45: 0 | T45: 0 | U45: 0 | V45: 0 | W45: 0 | X45: 0 | Y45: =LARGE((Table62[[#This Row],[K1]:[Z4]]),1) -> 0 | Z45: =LARGE((Table62[[#This Row],[K1]:[Z4]]),2) -> 0 | AA45: =LARGE((Table62[[#This Row],[K1]:[Z4]]),3) -> 0 | AB45: =LARGE((Table62[[#This Row],[K1]:[Z4]]),4) -> 0 | AC45: =LARGE((Table62[[#This Row],[K1]:[Z4]]),5) -> 0 | AD45: =LARGE((Table62[[#This Row],[K1]:[Z4]]),6) -> 0 | AE45: =LARGE((Table62[[#This Row],[K1]:[Z4]]),7) -> 0 | AF45: =LARGE((Table62[[#This Row],[K1]:[Z4]]),8) -> 0 | AG45: =LARGE((Table62[[#This Row],[K1]:[Z4]]),9) -> 0 | AH45: =LARGE((Table62[[#This Row],[K1]:[Z4]]),10) -> 0 | AI45: =SUM(Y45:AH45) -> 0 | AJ45: =K45+AI45 -> 9
A46: 43 | B46: 585 | C46: =_xlfn.XLOOKUP(B46,Sheet2!B:B,Sheet2!C:C) -> Liam Schonken | D46: =_xlfn.XLOOKUP(B46,Sheet2!B:B,Sheet2!G:G) -> 45850 | E46: =_xlfn.XLOOKUP(B46,Sheet2!B:B,Sheet2!H:H) -> KZN | F46: =_xlfn.XLOOKUP(B46,Sheet2!B:B,Sheet2!D:D) -> LNK | G46: 3 | H46: 3 | I46: 3 | J46: 0 | K46: =SUM(Table62[[#This Row],[SARMC 1]:[SARMC 4]]) -> 9 | L46: 0 | M46: 0 | N46: 0 | O46: 0 | P46: 0 | Q46: 0 | R46: 0 | S46: 0 | T46: 0 | U46: 0 | V46: 0 | W46: 0 | X46: 0 | Y46: =LARGE((Table62[[#This Row],[K1]:[Z4]]),1) -> 0 | Z46: =LARGE((Table62[[#This Row],[K1]:[Z4]]),2) -> 0 | AA46: =LARGE((Table62[[#This Row],[K1]:[Z4]]),3) -> 0 | AB46: =LARGE((Table62[[#This Row],[K1]:[Z4]]),4) -> 0 | AC46: =LARGE((Table62[[#This Row],[K1]:[Z4]]),5) -> 0 | AD46: =LARGE((Table62[[#This Row],[K1]:[Z4]]),6) -> 0 | AE46: =LARGE((Table62[[#This Row],[K1]:[Z4]]),7) -> 0 | AF46: =LARGE((Table62[[#This Row],[K1]:[Z4]]),8) -> 0 | AG46: =LARGE((Table62[[#This Row],[K1]:[Z4]]),9) -> 0 | AH46: =LARGE((Table62[[#This Row],[K1]:[Z4]]),10) -> 0 | AI46: =SUM(Y46:AH46) -> 0 | AJ46: =K46+AI46 -> 9
A47: 44 | B47: 543 | C47: Slater Smith | E47: WP | F47: CRG | G47: 0 | H47: 3 | I47: 3 | J47: 3 | K47: =SUM(Table62[[#This Row],[SARMC 1]:[SARMC 4]]) -> 9 | L47: 0 | M47: 0 | N47: 0 | O47: 0 | P47: 0 | Q47: 0 | R47: 0 | S47: 0 | T47: 0 | U47: 0 | V47: 0 | W47: 0 | X47: 0 | Y47: =LARGE((Table62[[#This Row],[K1]:[Z4]]),1) -> 0 | Z47: =LARGE((Table62[[#This Row],[K1]:[Z4]]),2) -> 0 | AA47: =LARGE((Table62[[#This Row],[K1]:[Z4]]),3) -> 0 | AB47: =LARGE((Table62[[#This Row],[K1]:[Z4]]),4) -> 0 | AC47: =LARGE((Table62[[#This Row],[K1]:[Z4]]),5) -> 0 | AD47: =LARGE((Table62[[#This Row],[K1]:[Z4]]),6) -> 0 | AE47: =LARGE((Table62[[#This Row],[K1]:[Z4]]),7) -> 0 | AF47: =LARGE((Table62[[#This Row],[K1]:[Z4]]),8) -> 0 | AG47: =LARGE((Table62[[#This Row],[K1]:[Z4]]),9) -> 0 | AH47: =LARGE((Table62[[#This Row],[K1]:[Z4]]),10) -> 0 | AI47: =SUM(Y47:AH47) -> 0 | AJ47: =K47+AI47 -> 9
A48: 45 | B48: 538 | C48: Ebrahim Khalfey | E48: WP | G48: 0 | H48: 3 | I48: 3 | J48: 3 | K48: =SUM(Table62[[#This Row],[SARMC 1]:[SARMC 4]]) -> 9 | L48: 0 | M48: 0 | N48: 0 | O48: 0 | P48: 0 | Q48: 0 | R48: 0 | S48: 0 | T48: 0 | U48: 0 | V48: 0 | W48: 0 | X48: 0 | Y48: =LARGE((Table62[[#This Row],[K1]:[Z4]]),1) -> 0 | Z48: =LARGE((Table62[[#This Row],[K1]:[Z4]]),2) -> 0 | AA48: =LARGE((Table62[[#This Row],[K1]:[Z4]]),3) -> 0 | AB48: =LARGE((Table62[[#This Row],[K1]:[Z4]]),4) -> 0 | AC48: =LARGE((Table62[[#This Row],[K1]:[Z4]]),5) -> 0 | AD48: =LARGE((Table62[[#This Row],[K1]:[Z4]]),6) -> 0 | AE48: =LARGE((Table62[[#This Row],[K1]:[Z4]]),7) -> 0 | AF48: =LARGE((Table62[[#This Row],[K1]:[Z4]]),8) -> 0 | AG48: =LARGE((Table62[[#This Row],[K1]:[Z4]]),9) -> 0 | AH48: =LARGE((Table62[[#This Row],[K1]:[Z4]]),10) -> 0 | AI48: =SUM(Y48:AH48) -> 0 | AJ48: =K48+AI48 -> 9
A49: 46 | B49: 575 | C49: =_xlfn.XLOOKUP(B49,Sheet2!B:B,Sheet2!C:C) -> Ronald Venter | D49: =_xlfn.XLOOKUP(B49,Sheet2!B:B,Sheet2!G:G) -> 32140 | E49: =_xlfn.XLOOKUP(B49,Sheet2!B:B,Sheet2!H:H) -> NR | F49: =_xlfn.XLOOKUP(B49,Sheet2!B:B,Sheet2!D:D) -> PAROLIN | G49: 3 | H49: 3 | I49: 0 | J49: 0 | K49: =SUM(Table62[[#This Row],[SARMC 1]:[SARMC 4]]) -> 6 | L49: 0 | M49: 0 | N49: 0 | O49: 0 | P49: 0 | Q49: 0 | R49: 0 | S49: 0 | T49: 0 | U49: 0 | V49: 0 | W49: 0 | X49: 0 | Y49: =LARGE((Table62[[#This Row],[K1]:[Z4]]),1) -> 0 | Z49: =LARGE((Table62[[#This Row],[K1]:[Z4]]),2) -> 0 | AA49: =LARGE((Table62[[#This Row],[K1]:[Z4]]),3) -> 0 | AB49: =LARGE((Table62[[#This Row],[K1]:[Z4]]),4) -> 0 | AC49: =LARGE((Table62[[#This Row],[K1]:[Z4]]),5) -> 0 | AD49: =LARGE((Table62[[#This Row],[K1]:[Z4]]),6) -> 0 | AE49: =LARGE((Table62[[#This Row],[K1]:[Z4]]),7) -> 0 | AF49: =LARGE((Table62[[#This Row],[K1]:[Z4]]),8) -> 0 | AG49: =LARGE((Table62[[#This Row],[K1]:[Z4]]),9) -> 0 | AH49: =LARGE((Table62[[#This Row],[K1]:[Z4]]),10) -> 0 | AI49: =SUM(Y49:AH49) -> 0 | AJ49: =K49+AI49 -> 6
A50: 47 | B50: 521 | C50: =_xlfn.XLOOKUP(B50,Sheet2!B:B,Sheet2!C:C) -> Mia Hermanus | D50: =_xlfn.XLOOKUP(B50,Sheet2!B:B,Sheet2!G:G) -> 37256 | E50: =_xlfn.XLOOKUP(B50,Sheet2!B:B,Sheet2!H:H) -> WP | F50: =_xlfn.XLOOKUP(B50,Sheet2!B:B,Sheet2!D:D) -> CRG | G50: 0 | H50: 3 | I50: 2 | J50: 0 | K50: =SUM(Table62[[#This Row],[SARMC 1]:[SARMC 4]]) -> 5 | L50: 0 | M50: 0 | N50: 0 | O50: 0 | P50: 0 | Q50: 0 | R50: 0 | S50: 0 | T50: 0 | U50: 0 | V50: 0 | W50: 0 | X50: 0 | Y50: =LARGE((Table62[[#This Row],[K1]:[Z4]]),1) -> 0 | Z50: =LARGE((Table62[[#This Row],[K1]:[Z4]]),2) -> 0 | AA50: =LARGE((Table62[[#This Row],[K1]:[Z4]]),3) -> 0 | AB50: =LARGE((Table62[[#This Row],[K1]:[Z4]]),4) -> 0 | AC50: =LARGE((Table62[[#This Row],[K1]:[Z4]]),5) -> 0 | AD50: =LARGE((Table62[[#This Row],[K1]:[Z4]]),6) -> 0 | AE50: =LARGE((Table62[[#This Row],[K1]:[Z4]]),7) -> 0 | AF50: =LARGE((Table62[[#This Row],[K1]:[Z4]]),8) -> 0 | AG50: =LARGE((Table62[[#This Row],[K1]:[Z4]]),9) -> 0 | AH50: =LARGE((Table62[[#This Row],[K1]:[Z4]]),10) -> 0 | AI50: =SUM(Y50:AH50) -> 0 | AJ50: =K50+AI50 -> 5
A51: 48 | B51: 520 | C51: =_xlfn.XLOOKUP(B51,Sheet2!B:B,Sheet2!C:C) -> Raidyn Reddy | D51: =_xlfn.XLOOKUP(B51,Sheet2!B:B,Sheet2!G:G) -> 38140 | E51: =_xlfn.XLOOKUP(B51,Sheet2!B:B,Sheet2!H:H) -> NR | F51: =_xlfn.XLOOKUP(B51,Sheet2!B:B,Sheet2!D:D) -> CRG | G51: 0 | H51: 3 | I51: 0 | J51: 0 | K51: =SUM(Table62[[#This Row],[SARMC 1]:[SARMC 4]]) -> 3 | L51: 0 | M51: 0 | N51: 0 | O51: 0 | P51: 0 | Q51: 0 | R51: 0 | S51: 0 | T51: 0 | U51: 0 | V51: 0 | W51: 0 | X51: 0 | Y51: =LARGE((Table62[[#This Row],[K1]:[Z4]]),1) -> 0 | Z51: =LARGE((Table62[[#This Row],[K1]:[Z4]]),2) -> 0 | AA51: =LARGE((Table62[[#This Row],[K1]:[Z4]]),3) -> 0 | AB51: =LARGE((Table62[[#This Row],[K1]:[Z4]]),4) -> 0 | AC51: =LARGE((Table62[[#This Row],[K1]:[Z4]]),5) -> 0 | AD51: =LARGE((Table62[[#This Row],[K1]:[Z4]]),6) -> 0 | AE51: =LARGE((Table62[[#This Row],[K1]:[Z4]]),7) -> 0 | AF51: =LARGE((Table62[[#This Row],[K1]:[Z4]]),8) -> 0 | AG51: =LARGE((Table62[[#This Row],[K1]:[Z4]]),9) -> 0 | AH51: =LARGE((Table62[[#This Row],[K1]:[Z4]]),10) -> 0 | AI51: =SUM(Y51:AH51) -> 0 | AJ51: =K51+AI51 -> 3
C52: Provisional subject to MSA | M52: =(COUNTIF(M4:M51,">0")) -> 23 | P52: =(COUNTIF(O4:O51,">0")) -> 20 | S52: =(COUNTIF(R4:R51,">0")) -> 26 | V52: =(COUNTIF(U4:U51,">0")) -> 19

Sheet JNR MAX
A1: #VALUE!
A2: #VALUE! | G2: REGIONAL | L2: KILLARNEY | O2: FK | R2: ZIKR | U2: ZWARTKOPS | Y2: BEST NATIONAL POINTS | AI2: TOTAL | AJ2: FINAL
A3: Rnk | B3: No. | C3: Name | D3: License # | E3: Region | F3: Chassis | G3: SARMC 1 | H3: SARMC 2 | I3: SARMC 3 | J3: SARMC 4 | K3: Total Bonus | L3: K1 | M3: K2 | N3: K3 | O3: FK1 | P3: FK2 | Q3: FK3 | R3: Z1 | S3: Z2 | T3: Z3 | U3: Z1' | V3: Z2' | W3: Z3' | X3: Z4 | Y3: 1 | Z3: 2 | AA3: 3 | AB3: 4 | AC3: 5 | AD3: 6 | AE3: 7 | AF3: 8 | AG3: 9 | AH3: 10 | AI3: National | AJ3: TOTAL
A4: 1 | B4: 422 | C4: =_xlfn.XLOOKUP(B4,Sheet2!B:B,Sheet2!C:C) -> Brodi Cooper Dowling | D4: =_xlfn.XLOOKUP(B4,Sheet2!B:B,Sheet2!G:G) -> 31338 | E4: =_xlfn.XLOOKUP(B4,Sheet2!B:B,Sheet2!H:H) -> NR | F4: CRG | G4: 3 | H4: 3 | I4: 3 | J4: 3 | K4: =SUM(Table6[[#This Row],[SARMC 1]:[SARMC 4]]) -> 12 | L4: 35 | M4: 21 | N4: 25 | O4: 35 | P4: 30 | Q4: 35 | R4: 25 | S4: 30 | T4: 32 | U4: 35 | V4: 27 | W4: 32 | X4: 21 | Y4: =LARGE((Table6[[#This Row],[K1]:[Z4]]),1) -> 35 | Z4: =LARGE((Table6[[#This Row],[K1]:[Z4]]),2) -> 35 | AA4: =LARGE((Table6[[#This Row],[K1]:[Z4]]),3) -> 35 | AB4: =LARGE((Table6[[#This Row],[K1]:[Z4]]),4) -> 35 | AC4: =LARGE((Table6[[#This Row],[K1]:[Z4]]),5) -> 32 | AD4: =LARGE((Table6[[#This Row],[K1]:[Z4]]),6) -> 32 | AE4: =LARGE((Table6[[#This Row],[K1]:[Z4]]),7) -> 30 | AF4: =LARGE((Table6[[#This Row],[K1]:[Z4]]),8) -> 30 | AG4: =LARGE((Table6[[#This Row],[K1]:[Z4]]),9) -> 27 | AH4: =LARGE((Table6[[#This Row],[K1]:[Z4]]),10) -> 25 | AI4: =SUM(Y4:AH4) -> 316 | AJ4: =K4+AI4 -> 328
A5: 2 | B5: 477 | C5: =_xlfn.XLOOKUP(B5,Sheet2!B:B,Sheet2!C:C) -> Ronaldo Koen | D5: =_xlfn.XLOOKUP(B5,Sheet2!B:B,Sheet2!G:G) -> 32644 | E5: =_xlfn.XLOOKUP(B5,Sheet2!B:B,Sheet2!H:H) -> NR | F5: =_xlfn.XLOOKUP(B5,Sheet2!B:B,Sheet2!D:D) -> LNK | G5: 3 | H5: 3 | I5: 3 | J5: 3 | K5: =SUM(Table6[[#This Row],[SARMC 1]:[SARMC 4]]) -> 12 | L5: 29 | M5: 24 | N5: 29 | O5: 30 | P5: 32 | Q5: 20 | R5: 29 | S5: 22 | T5: 19 | U5: 32 | V5: 35 | W5: 26 | X5: 32 | Y5: =LARGE((Table6[[#This Row],[K1]:[Z4]]),1) -> 35 | Z5: =LARGE((Table6[[#This Row],[K1]:[Z4]]),2) -> 32 | AA5: =LARGE((Table6[[#This Row],[K1]:[Z4]]),3) -> 32 | AB5: =LARGE((Table6[[#This Row],[K1]:[Z4]]),4) -> 32 | AC5: =LARGE((Table6[[#This Row],[K1]:[Z4]]),5) -> 30 | AD5: =LARGE((Table6[[#This Row],[K1]:[Z4]]),6) -> 29 | AE5: =LARGE((Table6[[#This Row],[K1]:[Z4]]),7) -> 29 | AF5: =LARGE((Table6[[#This Row],[K1]:[Z4]]),8) -> 29 | AG5: =LARGE((Table6[[#This Row],[K1]:[Z4]]),9) -> 26 | AH5: =LARGE((Table6[[#This Row],[K1]:[Z4]]),10) -> 24 | AI5: =SUM(Y5:AH5) -> 298 | AJ5: =K5+AI5 -> 310
A6: 3 | B6: 468 | C6: =_xlfn.XLOOKUP(B6,Sheet2!B:B,Sheet2!C:C) -> Logan Billau | D6: =_xlfn.XLOOKUP(B6,Sheet2!B:B,Sheet2!G:G) -> 27816 | E6: =_xlfn.XLOOKUP(B6,Sheet2!B:B,Sheet2!H:H) -> NR | F6: KR | G6: 0 | H6: 0 | I6: 3 | J6: 0 | K6: =SUM(Table6[[#This Row],[SARMC 1]:[SARMC 4]]) -> 3 | L6: 0 | M6: 0 | N6: 0 | O6: 29 | P6: 29 | Q6: 24 | R6: 26 | S6: 28 | T6: 30 | U6: 25 | V6: 32 | W6: 35 | X6: 35 | Y6: =LARGE((Table6[[#This Row],[K1]:[Z4]]),1) -> 35 | Z6: =LARGE((Table6[[#This Row],[K1]:[Z4]]),2) -> 35 | AA6: =LARGE((Table6[[#This Row],[K1]:[Z4]]),3) -> 32 | AB6: =LARGE((Table6[[#This Row],[K1]:[Z4]]),4) -> 30 | AC6: =LARGE((Table6[[#This Row],[K1]:[Z4]]),5) -> 29 | AD6: =LARGE((Table6[[#This Row],[K1]:[Z4]]),6) -> 29 | AE6: =LARGE((Table6[[#This Row],[K1]:[Z4]]),7) -> 28 | AF6: =LARGE((Table6[[#This Row],[K1]:[Z4]]),8) -> 26 | AG6: =LARGE((Table6[[#This Row],[K1]:[Z4]]),9) -> 25 | AH6: =LARGE((Table6[[#This Row],[K1]:[Z4]]),10) -> 24 | AI6: =SUM(Y6:AH6) -> 293 | AJ6: =K6+AI6 -> 296
A7: 4 | B7: 427 | C7: =_xlfn.XLOOKUP(B7,Sheet2!B:B,Sheet2!C:C) -> Keenan Du Plessis | D7: =_xlfn.XLOOKUP(B7,Sheet2!B:B,Sheet2!G:G) -> 37735 | E7: =_xlfn.XLOOKUP(B7,Sheet2!B:B,Sheet2!H:H) -> NR | F7: =_xlfn.XLOOKUP(B7,Sheet2!B:B,Sheet2!D:D) -> LNK | G7: 3 | H7: 3 | I7: 3 | J7: 3 | K7: =SUM(Table6[[#This Row],[SARMC 1]:[SARMC 4]]) -> 12 | L7: 26 | M7: 19 | N7: 22 | O7: 23 | P7: 25 | Q7: 28 | R7: 23 | S7: 32 | T7: 35 | U7: 27 | V7: 20 | W7: 29 | X7: 27 | Y7: =LARGE((Table6[[#This Row],[K1]:[Z4]]),1) -> 35 | Z7: =LARGE((Table6[[#This Row],[K1]:[Z4]]),2) -> 32 | AA7: =LARGE((Table6[[#This Row],[K1]:[Z4]]),3) -> 29 | AB7: =LARGE((Table6[[#This Row],[K1]:[Z4]]),4) -> 28 | AC7: =LARGE((Table6[[#This Row],[K1]:[Z4]]),5) -> 27 | AD7: =LARGE((Table6[[#This Row],[K1]:[Z4]]),6) -> 27 | AE7: =LARGE((Table6[[#This Row],[K1]:[Z4]]),7) -> 26 | AF7: =LARGE((Table6[[#This Row],[K1]:[Z4]]),8) -> 25 | AG7: =LARGE((Table6[[#This Row],[K1]:[Z4]]),9) -> 23 | AH7: =LARGE((Table6[[#This Row],[K1]:[Z4]]),10) -> 23 | AI7: =SUM(Y7:AH7) -> 275 | AJ7: =K7+AI7 -> 287
A8: 5 | B8: 465 | C8: =_xlfn.XLOOKUP(B8,Sheet2!B:B,Sheet2!C:C) -> Rafael De Sousa | D8: =_xlfn.XLOOKUP(B8,Sheet2!B:B,Sheet2!G:G) -> 29025 | E8: =_xlfn.XLOOKUP(B8,Sheet2!B:B,Sheet2!H:H) -> NR | F8: =_xlfn.XLOOKUP(B8,Sheet2!B:B,Sheet2!D:D) -> BIRELART | G8: 3 | H8: 3 | I8: 3 | J8: 3 | K8: =SUM(Table6[[#This Row],[SARMC 1]:[SARMC 4]]) -> 12 | L8: 23 | M8: 26 | N8: 35 | O8: 25 | P8: 13 | Q8: 29 | R8: 18 | S8: 26 | T8: 28 | U8: 29 | V8: 26 | W8: 19 | X8: 26 | Y8: =LARGE((Table6[[#This Row],[K1]:[Z4]]),1) -> 35 | Z8: =LARGE((Table6[[#This Row],[K1]:[Z4]]),2) -> 29 | AA8: =LARGE((Table6[[#This Row],[K1]:[Z4]]),3) -> 29 | AB8: =LARGE((Table6[[#This Row],[K1]:[Z4]]),4) -> 28 | AC8: =LARGE((Table6[[#This Row],[K1]:[Z4]]),5) -> 26 | AD8: =LARGE((Table6[[#This Row],[K1]:[Z4]]),6) -> 26 | AE8: =LARGE((Table6[[#This Row],[K1]:[Z4]]),7) -> 26 | AF8: =LARGE((Table6[[#This Row],[K1]:[Z4]]),8) -> 26 | AG8: =LARGE((Table6[[#This Row],[K1]:[Z4]]),9) -> 25 | AH8: =LARGE((Table6[[#This Row],[K1]:[Z4]]),10) -> 23 | AI8: =SUM(Y8:AH8) -> 273 | AJ8: =K8+AI8 -> 285
A9: 6 | B9: 440 | C9: =_xlfn.XLOOKUP(B9,Sheet2!B:B,Sheet2!C:C) -> Munsanje Mukosa | D9: =_xlfn.XLOOKUP(B9,Sheet2!B:B,Sheet2!G:G) -> 44375 | E9: =_xlfn.XLOOKUP(B9,Sheet2!B:B,Sheet2!H:H) -> NR | F9: =_xlfn.XLOOKUP(B9,Sheet2!B:B,Sheet2!D:D) -> FK | G9: 3 | H9: 3 | I9: 3 | J9: 3 | K9: =SUM(Table6[[#This Row],[SARMC 1]:[SARMC 4]]) -> 12 | L9: 16 | M9: 27 | N9: 8 | O9: 18 | P9: 27 | Q9: 18 | R9: 28 | S9: 27 | T9: 24 | U9: 30 | V9: 30 | W9: 30 | X9: 30 | Y9: =LARGE((Table6[[#This Row],[K1]:[Z4]]),1) -> 30 | Z9: =LARGE((Table6[[#This Row],[K1]:[Z4]]),2) -> 30 | AA9: =LARGE((Table6[[#This Row],[K1]:[Z4]]),3) -> 30 | AB9: =LARGE((Table6[[#This Row],[K1]:[Z4]]),4) -> 30 | AC9: =LARGE((Table6[[#This Row],[K1]:[Z4]]),5) -> 28 | AD9: =LARGE((Table6[[#This Row],[K1]:[Z4]]),6) -> 27 | AE9: =LARGE((Table6[[#This Row],[K1]:[Z4]]),7) -> 27 | AF9: =LARGE((Table6[[#This Row],[K1]:[Z4]]),8) -> 27 | AG9: =LARGE((Table6[[#This Row],[K1]:[Z4]]),9) -> 24 | AH9: =LARGE((Table6[[#This Row],[K1]:[Z4]]),10) -> 18 | AI9: =SUM(Y9:AH9) -> 271 | AJ9: =K9+AI9 -> 283
A10: 7 | B10: 463 | C10: =_xlfn.XLOOKUP(B10,Sheet2!B:B,Sheet2!C:C) -> Declan Jurgens | D10: =_xlfn.XLOOKUP(B10,Sheet2!B:B,Sheet2!G:G) -> 30986 | E10: =_xlfn.XLOOKUP(B10,Sheet2!B:B,Sheet2!H:H) -> NR | F10: =_xlfn.XLOOKUP(B10,Sheet2!B:B,Sheet2!D:D) -> PAROLIN | G10: 3 | H10: 3 | I10: 3 | J10: 3 | K10: =SUM(Table6[[#This Row],[SARMC 1]:[SARMC 4]]) -> 12 | L10: 27 | M10: 30 | N10: 32 | O10: 22 | P10: 24 | Q10: 30 | R10: 24 | S10: 25 | T10: 26 | U10: 24 | V10: 24 | W10: 22 | X10: 28 | Y10: =LARGE((Table6[[#This Row],[K1]:[Z4]]),1) -> 32 | Z10: =LARGE((Table6[[#This Row],[K1]:[Z4]]),2) -> 30 | AA10: =LARGE((Table6[[#This Row],[K1]:[Z4]]),3) -> 30 | AB10: =LARGE((Table6[[#This Row],[K1]:[Z4]]),4) -> 28 | AC10: =LARGE((Table6[[#This Row],[K1]:[Z4]]),5) -> 27 | AD10: =LARGE((Table6[[#This Row],[K1]:[Z4]]),6) -> 26 | AE10: =LARGE((Table6[[#This Row],[K1]:[Z4]]),7) -> 25 | AF10: =LARGE((Table6[[#This Row],[K1]:[Z4]]),8) -> 24 | AG10: =LARGE((Table6[[#This Row],[K1]:[Z4]]),9) -> 24 | AH10: =LARGE((Table6[[#This Row],[K1]:[Z4]]),10) -> 24 | AI10: =SUM(Y10:AH10) -> 270 | AJ10: =K10+AI10 -> 282
A11: 8 | B11: 488 | C11: =_xlfn.XLOOKUP(B11,Sheet2!B:B,Sheet2!C:C) -> Ruvan Maritz | D11: =_xlfn.XLOOKUP(B11,Sheet2!B:B,Sheet2!G:G) -> 37587 | E11: =_xlfn.XLOOKUP(B11,Sheet2!B:B,Sheet2!H:H) -> NR | F11: =_xlfn.XLOOKUP(B11,Sheet2!B:B,Sheet2!D:D) -> PAROLIN | G11: 3 | H11: 3 | I11: 3 | J11: 3 | K11: =SUM(Table6[[#This Row],[SARMC 1]:[SARMC 4]]) -> 12 | L11: 19 | M11: 25 | N11: 26 | O11: 19 | P11: 35 | Q11: 27 | R11: 22 | S11: 35 | T11: 21 | U11: 26 | V11: 19 | W11: 28 | X11: 24 | Y11: =LARGE((Table6[[#This Row],[K1]:[Z4]]),1) -> 35 | Z11: =LARGE((Table6[[#This Row],[K1]:[Z4]]),2) -> 35 | AA11: =LARGE((Table6[[#This Row],[K1]:[Z4]]),3) -> 28 | AB11: =LARGE((Table6[[#This Row],[K1]:[Z4]]),4) -> 27 | AC11: =LARGE((Table6[[#This Row],[K1]:[Z4]]),5) -> 26 | AD11: =LARGE((Table6[[#This Row],[K1]:[Z4]]),6) -> 26 | AE11: =LARGE((Table6[[#This Row],[K1]:[Z4]]),7) -> 25 | AF11: =LARGE((Table6[[#This Row],[K1]:[Z4]]),8) -> 24 | AG11: =LARGE((Table6[[#This Row],[K1]:[Z4]]),9) -> 22 | AH11: =LARGE((Table6[[#This Row],[K1]:[Z4]]),10) -> 21 | AI11: =SUM(Y11:AH11) -> 269 | AJ11: =K11+AI11 -> 281
A12: 9 | B12: 439 | C12: =_xlfn.XLOOKUP(B12,Sheet2!B:B,Sheet2!C:C) -> Cristian Verheul | D12: =_xlfn.XLOOKUP(B12,Sheet2!B:B,Sheet2!G:G) -> 19871 | E12: =_xlfn.XLOOKUP(B12,Sheet2!B:B,Sheet2!H:H) -> NR | F12: =_xlfn.XLOOKUP(B12,Sheet2!B:B,Sheet2!D:D) -> CRG | G12: 3 | H12: 3 | I12: 3 | J12: 3 | K12: =SUM(Table6[[#This Row],[SARMC 1]:[SARMC 4]]) -> 12 | L12: 32 | M12: 29 | N12: 14 | O12: 24 | P12: 21 | Q12: 25 | R12: 30 | S12: 21 | T12: 27 | U12: 28 | V12: 25 | W12: 25 | X12: 16 | Y12: =LARGE((Table6[[#This Row],[K1]:[Z4]]),1) -> 32 | Z12: =LARGE((Table6[[#This Row],[K1]:[Z4]]),2) -> 30 | AA12: =LARGE((Table6[[#This Row],[K1]:[Z4]]),3) -> 29 | AB12: =LARGE((Table6[[#This Row],[K1]:[Z4]]),4) -> 28 | AC12: =LARGE((Table6[[#This Row],[K1]:[Z4]]),5) -> 27 | AD12: =LARGE((Table6[[#This Row],[K1]:[Z4]]),6) -> 25 | AE12: =LARGE((Table6[[#This Row],[K1]:[Z4]]),7) -> 25 | AF12: =LARGE((Table6[[#This Row],[K1]:[Z4]]),8) -> 25 | AG12: =LARGE((Table6[[#This Row],[K1]:[Z4]]),9) -> 24 | AH12: =LARGE((Table6[[#This Row],[K1]:[Z4]]),10) -> 21 | AI12: =SUM(Y12:AH12) -> 266 | AJ12: =K12+AI12 -> 278
A13: 10 | B13: 487 | C13: =_xlfn.XLOOKUP(B13,Sheet2!B:B,Sheet2!C:C) -> Retlotleng Thekiso | D13: =_xlfn.XLOOKUP(B13,Sheet2!B:B,Sheet2!G:G) -> 40654 | E13: =_xlfn.XLOOKUP(B13,Sheet2!B:B,Sheet2!H:H) -> NR | F13: =_xlfn.XLOOKUP(B13,Sheet2!B:B,Sheet2!D:D) -> PAROLIN | G13: 3 | H13: 3 | I13: 3 | J13: 0 | K13: =SUM(Table6[[#This Row],[SARMC 1]:[SARMC 4]]) -> 9 | L13: 25 | M13: 15 | N13: 19 | O13: excl | P13: 28 | Q13: 32 | R13: 32 | S13: 29 | T13: 13 | U13: 21 | V13: 23 | W13: 24 | X13: 19 | Y13: =LARGE((Table6[[#This Row],[K1]:[Z4]]),1) -> 32 | Z13: =LARGE((Table6[[#This Row],[K1]:[Z4]]),2) -> 32 | AA13: =LARGE((Table6[[#This Row],[K1]:[Z4]]),3) -> 29 | AB13: =LARGE((Table6[[#This Row],[K1]:[Z4]]),4) -> 28 | AC13: =LARGE((Table6[[#This Row],[K1]:[Z4]]),5) -> 25 | AD13: =LARGE((Table6[[#This Row],[K1]:[Z4]]),6) -> 24 | AE13: =LARGE((Table6[[#This Row],[K1]:[Z4]]),7) -> 23 | AF13: =LARGE((Table6[[#This Row],[K1]:[Z4]]),8) -> 21 | AG13: =LARGE((Table6[[#This Row],[K1]:[Z4]]),9) -> 19 | AH13: =LARGE((Table6[[#This Row],[K1]:[Z4]]),10) -> 19 | AI13: =SUM(Y13:AH13) -> 252 | AJ13: =K13+AI13 -> 261
A14: 11 | B14: 448 | C14: =_xlfn.XLOOKUP(B14,Sheet2!B:B,Sheet2!C:C) -> Kiyaan Reddi | D14: =_xlfn.XLOOKUP(B14,Sheet2!B:B,Sheet2!G:G) -> 37445 | E14: =_xlfn.XLOOKUP(B14,Sheet2!B:B,Sheet2!H:H) -> NR | F14: KR | G14: 3 | H14: 3 | I14: 3 | J14: 3 | K14: =SUM(Table6[[#This Row],[SARMC 1]:[SARMC 4]]) -> 12 | L14: 28 | M14: 32 | N14: 28 | O14: 20 | P14: 20 | Q14: 26 | R14: 21 | S14: 15 | T14: 2 | U14: 17 | V14: 21 | W14: 16 | X14: 18 | Y14: =LARGE((Table6[[#This Row],[K1]:[Z4]]),1) -> 32 | Z14: =LARGE((Table6[[#This Row],[K1]:[Z4]]),2) -> 28 | AA14: =LARGE((Table6[[#This Row],[K1]:[Z4]]),3) -> 28 | AB14: =LARGE((Table6[[#This Row],[K1]:[Z4]]),4) -> 26 | AC14: =LARGE((Table6[[#This Row],[K1]:[Z4]]),5) -> 21 | AD14: =LARGE((Table6[[#This Row],[K1]:[Z4]]),6) -> 21 | AE14: =LARGE((Table6[[#This Row],[K1]:[Z4]]),7) -> 20 | AF14: =LARGE((Table6[[#This Row],[K1]:[Z4]]),8) -> 20 | AG14: =LARGE((Table6[[#This Row],[K1]:[Z4]]),9) -> 18 | AH14: =LARGE((Table6[[#This Row],[K1]:[Z4]]),10) -> 17 | AI14: =SUM(Y14:AH14) -> 231 | AJ14: =K14+AI14 -> 243
A15: 12 | B15: 453 | C15: =_xlfn.XLOOKUP(B15,Sheet2!B:B,Sheet2!C:C) -> Ty Naidoo | D15: =_xlfn.XLOOKUP(B15,Sheet2!B:B,Sheet2!G:G) -> 43446 | E15: =_xlfn.XLOOKUP(B15,Sheet2!B:B,Sheet2!H:H) -> NR | F15: =_xlfn.XLOOKUP(B15,Sheet2!B:B,Sheet2!D:D) -> FK | G15: 3 | H15: 3 | I15: 0 | J15: 0 | K15: =SUM(Table6[[#This Row],[SARMC 1]:[SARMC 4]]) -> 6 | L15: 21 | M15: 18 | N15: 24 | O15: 29 | P15: 23 | Q15: 15 | R15: 0 | S15: 0 | T15: 0 | U15: 22 | V15: 28 | W15: 27 | X15: 29 | Y15: =LARGE((Table6[[#This Row],[K1]:[Z4]]),1) -> 29 | Z15: =LARGE((Table6[[#This Row],[K1]:[Z4]]),2) -> 29 | AA15: =LARGE((Table6[[#This Row],[K1]:[Z4]]),3) -> 28 | AB15: =LARGE((Table6[[#This Row],[K1]:[Z4]]),4) -> 27 | AC15: =LARGE((Table6[[#This Row],[K1]:[Z4]]),5) -> 24 | AD15: =LARGE((Table6[[#This Row],[K1]:[Z4]]),6) -> 23 | AE15: =LARGE((Table6[[#This Row],[K1]:[Z4]]),7) -> 22 | AF15: =LARGE((Table6[[#This Row],[K1]:[Z4]]),8) -> 21 | AG15: =LARGE((Table6[[#This Row],[K1]:[Z4]]),9) -> 18 | AH15: =LARGE((Table6[[#This Row],[K1]:[Z4]]),10) -> 15 | AI15: =SUM(Y15:AH15) -> 236 | AJ15: =K15+AI15 -> 242
A16: 13 | B16: 456 | C16: =_xlfn.XLOOKUP(B16,Sheet2!B:B,Sheet2!C:C) -> Jordan Klaasen | D16: =_xlfn.XLOOKUP(B16,Sheet2!B:B,Sheet2!G:G) -> 40378 | E16: =_xlfn.XLOOKUP(B16,Sheet2!B:B,Sheet2!H:H) -> NR | F16: CS55 | G16: 3 | H16: 2 | I16: 3 | J16: 3 | K16: =SUM(Table6[[#This Row],[SARMC 1]:[SARMC 4]]) -> 11 | L16: 17 | M16: 22 | N16: 15 | O16: 21 | P16: 8 | Q16: 17 | R16: 10 | S16: 23 | T16: 25 | U16: 20 | V16: 22 | W16: 21 | X16: 17 | Y16: =LARGE((Table6[[#This Row],[K1]:[Z4]]),1) -> 25 | Z16: =LARGE((Table6[[#This Row],[K1]:[Z4]]),2) -> 23 | AA16: =LARGE((Table6[[#This Row],[K1]:[Z4]]),3) -> 22 | AB16: =LARGE((Table6[[#This Row],[K1]:[Z4]]),4) -> 22 | AC16: =LARGE((Table6[[#This Row],[K1]:[Z4]]),5) -> 21 | AD16: =LARGE((Table6[[#This Row],[K1]:[Z4]]),6) -> 21 | AE16: =LARGE((Table6[[#This Row],[K1]:[Z4]]),7) -> 20 | AF16: =LARGE((Table6[[#This Row],[K1]:[Z4]]),8) -> 17 | AG16: =LARGE((Table6[[#This Row],[K1]:[Z4]]),9) -> 17 | AH16: =LARGE((Table6[[#This Row],[K1]:[Z4]]),10) -> 17 | AI16: =SUM(Y16:AH16) -> 205 | AJ16: =K16+AI16 -> 216
A17: 14 | B17: 429 | C17: =_xlfn.XLOOKUP(B17,Sheet2!B:B,Sheet2!C:C) -> Matthew Naidoo | D17: =_xlfn.XLOOKUP(B17,Sheet2!B:B,Sheet2!G:G) -> 39732 | E17: =_xlfn.XLOOKUP(B17,Sheet2!B:B,Sheet2!H:H) -> NR | F17: =_xlfn.XLOOKUP(B17,Sheet2!B:B,Sheet2!D:D) -> KR | G17: 3 | H17: 3 | I17: 3 | J17: 3 | K17: =SUM(Table6[[#This Row],[SARMC 1]:[SARMC 4]]) -> 12 | L17: 24 | M17: 23 | N17: 27 | O17: 16 | P17: 17 | Q17: 9 | R17: 17 | S17: 18 | T17: 10 | U17: 12 | V17: 18 | W17: 20 | X17: 22 | Y17: =LARGE((Table6[[#This Row],[K1]:[Z4]]),1) -> 27 | Z17: =LARGE((Table6[[#This Row],[K1]:[Z4]]),2) -> 24 | AA17: =LARGE((Table6[[#This Row],[K1]:[Z4]]),3) -> 23 | AB17: =LARGE((Table6[[#This Row],[K1]:[Z4]]),4) -> 22 | AC17: =LARGE((Table6[[#This Row],[K1]:[Z4]]),5) -> 20 | AD17: =LARGE((Table6[[#This Row],[K1]:[Z4]]),6) -> 18 | AE17: =LARGE((Table6[[#This Row],[K1]:[Z4]]),7) -> 18 | AF17: =LARGE((Table6[[#This Row],[K1]:[Z4]]),8) -> 17 | AG17: =LARGE((Table6[[#This Row],[K1]:[Z4]]),9) -> 17 | AH17: =LARGE((Table6[[#This Row],[K1]:[Z4]]),10) -> 16 | AI17: =SUM(Y17:AH17) -> 202 | AJ17: =K17+AI17 -> 214
A18: 15 | B18: 426 | C18: =_xlfn.XLOOKUP(B18,Sheet2!B:B,Sheet2!C:C) -> Ashaan Reddi | D18: =_xlfn.XLOOKUP(B18,Sheet2!B:B,Sheet2!G:G) -> 37470 | E18: =_xlfn.XLOOKUP(B18,Sheet2!B:B,Sheet2!H:H) -> NR | F18: =_xlfn.XLOOKUP(B18,Sheet2!B:B,Sheet2!D:D) -> KR | G18: 3 | H18: 3 | I18: 3 | J18: 3 | K18: =SUM(Table6[[#This Row],[SARMC 1]:[SARMC 4]]) -> 12 | L18: 20 | M18: 28 | N18: 23 | O18: 27 | P18: 22 | Q18: 22 | R18: 14 | S18: 11 | T18: 22 | U18: 0 | V18: 0 | W18: 0 | X18: 0 | Y18: =LARGE((Table6[[#This Row],[K1]:[Z4]]),1) -> 28 | Z18: =LARGE((Table6[[#This Row],[K1]:[Z4]]),2) -> 27 | AA18: =LARGE((Table6[[#This Row],[K1]:[Z4]]),3) -> 23 | AB18: =LARGE((Table6[[#This Row],[K1]:[Z4]]),4) -> 22 | AC18: =LARGE((Table6[[#This Row],[K1]:[Z4]]),5) -> 22 | AD18: =LARGE((Table6[[#This Row],[K1]:[Z4]]),6) -> 22 | AE18: =LARGE((Table6[[#This Row],[K1]:[Z4]]),7) -> 20 | AF18: =LARGE((Table6[[#This Row],[K1]:[Z4]]),8) -> 14 | AG18: =LARGE((Table6[[#This Row],[K1]:[Z4]]),9) -> 11 | AH18: =LARGE((Table6[[#This Row],[K1]:[Z4]]),10) -> 0 | AI18: =SUM(Y18:AH18) -> 189 | AJ18: =K18+AI18 -> 201
A19: 16 | B19: 414 | C19: =_xlfn.XLOOKUP(B19,Sheet2!B:B,Sheet2!C:C) -> Matthew Kern | D19: =_xlfn.XLOOKUP(B19,Sheet2!B:B,Sheet2!G:G) -> 45904 | E19: =_xlfn.XLOOKUP(B19,Sheet2!B:B,Sheet2!H:H) -> NR | F19: =_xlfn.XLOOKUP(B19,Sheet2!B:B,Sheet2!D:D) -> LNK | G19: 3 | H19: 3 | I19: 3 | J19: 3 | K19: =SUM(Table6[[#This Row],[SARMC 1]:[SARMC 4]]) -> 12 | L19: 18 | M19: 16 | N19: 20 | O19: 0 | P19: 0 | Q19: 0 | R19: 11 | S19: 16 | T19: 9 | U19: 18 | V19: 16 | W19: 17 | X19: 23 | Y19: =LARGE((Table6[[#This Row],[K1]:[Z4]]),1) -> 23 | Z19: =LARGE((Table6[[#This Row],[K1]:[Z4]]),2) -> 20 | AA19: =LARGE((Table6[[#This Row],[K1]:[Z4]]),3) -> 18 | AB19: =LARGE((Table6[[#This Row],[K1]:[Z4]]),4) -> 18 | AC19: =LARGE((Table6[[#This Row],[K1]:[Z4]]),5) -> 17 | AD19: =LARGE((Table6[[#This Row],[K1]:[Z4]]),6) -> 16 | AE19: =LARGE((Table6[[#This Row],[K1]:[Z4]]),7) -> 16 | AF19: =LARGE((Table6[[#This Row],[K1]:[Z4]]),8) -> 16 | AG19: =LARGE((Table6[[#This Row],[K1]:[Z4]]),9) -> 11 | AH19: =LARGE((Table6[[#This Row],[K1]:[Z4]]),10) -> 9 | AI19: =SUM(Y19:AH19) -> 164 | AJ19: =K19+AI19 -> 176
A20: 17 | B20: 450 | C20: =_xlfn.XLOOKUP(B20,Sheet2!B:B,Sheet2!C:C) -> Michael Arde | D20: 38989 | E20: =_xlfn.XLOOKUP(B20,Sheet2!B:B,Sheet2!H:H) -> KZN | F20: =_xlfn.XLOOKUP(B20,Sheet2!B:B,Sheet2!D:D) -> CRG | G20: 0 | H20: 3 | I20: 3 | J20: 3 | K20: =SUM(Table6[[#This Row],[SARMC 1]:[SARMC 4]]) -> 9 | L20: 10 | M20: 20 | N20: 21 | O20: 9 | P20: 18 | Q20: 21 | R20: 27 | S20: 19 | T20: 20 | U20: 0 | V20: 0 | W20: 0 | X20: 0 | Y20: =LARGE((Table6[[#This Row],[K1]:[Z4]]),1) -> 27 | Z20: =LARGE((Table6[[#This Row],[K1]:[Z4]]),2) -> 21 | AA20: =LARGE((Table6[[#This Row],[K1]:[Z4]]),3) -> 21 | AB20: =LARGE((Table6[[#This Row],[K1]:[Z4]]),4) -> 20 | AC20: =LARGE((Table6[[#This Row],[K1]:[Z4]]),5) -> 20 | AD20: =LARGE((Table6[[#This Row],[K1]:[Z4]]),6) -> 19 | AE20: =LARGE((Table6[[#This Row],[K1]:[Z4]]),7) -> 18 | AF20: =LARGE((Table6[[#This Row],[K1]:[Z4]]),8) -> 10 | AG20: =LARGE((Table6[[#This Row],[K1]:[Z4]]),9) -> 9 | AH20: =LARGE((Table6[[#This Row],[K1]:[Z4]]),10) -> 0 | AI20: =SUM(Y20:AH20) -> 165 | AJ20: =K20+AI20 -> 174
A21: 18 | B21: 481 | C21: =_xlfn.XLOOKUP(B21,Sheet2!B:B,Sheet2!C:C) -> Liphelo Debedu | D21: =_xlfn.XLOOKUP(B21,Sheet2!B:B,Sheet2!G:G) -> 44911 | E21: =_xlfn.XLOOKUP(B21,Sheet2!B:B,Sheet2!H:H) -> NR | F21: =_xlfn.XLOOKUP(B21,Sheet2!B:B,Sheet2!D:D) -> PRAGA | G21: 3 | H21: 0 | I21: 3 | J21: 3 | K21: =SUM(Table6[[#This Row],[SARMC 1]:[SARMC 4]]) -> 9 | L21: 10 | M21: 8 | N21: 18 | O21: 14 | P21: 16 | Q21: 16 | R21: 1 | S21: 13 | T21: 2 | U21: 19 | V21: 17 | W21: 18 | X21: 20 | Y21: =LARGE((Table6[[#This Row],[K1]:[Z4]]),1) -> 20 | Z21: =LARGE((Table6[[#This Row],[K1]:[Z4]]),2) -> 19 | AA21: =LARGE((Table6[[#This Row],[K1]:[Z4]]),3) -> 18 | AB21: =LARGE((Table6[[#This Row],[K1]:[Z4]]),4) -> 18 | AC21: =LARGE((Table6[[#This Row],[K1]:[Z4]]),5) -> 17 | AD21: =LARGE((Table6[[#This Row],[K1]:[Z4]]),6) -> 16 | AE21: =LARGE((Table6[[#This Row],[K1]:[Z4]]),7) -> 16 | AF21: =LARGE((Table6[[#This Row],[K1]:[Z4]]),8) -> 14 | AG21: =LARGE((Table6[[#This Row],[K1]:[Z4]]),9) -> 13 | AH21: =LARGE((Table6[[#This Row],[K1]:[Z4]]),10) -> 10 | AI21: =SUM(Y21:AH21) -> 161 | AJ21: =K21+AI21 -> 170
A22: 19 | B22: 499 | C22: =_xlfn.XLOOKUP(B22,Sheet2!B:B,Sheet2!C:C) -> Christiaan Marais | D22: =_xlfn.XLOOKUP(B22,Sheet2!B:B,Sheet2!G:G) -> 44841 | E22: =_xlfn.XLOOKUP(B22,Sheet2!B:B,Sheet2!H:H) -> NR | F22: LNK | G22: 1 | H22: 0 | I22: 3 | J22: 0 | K22: =SUM(Table6[[#This Row],[SARMC 1]:[SARMC 4]]) -> 4 | L22: 0 | M22: 0 | N22: 0 | O22: 0 | P22: 0 | Q22: 0 | R22: 20 | S22: 14 | T22: 11 | U22: 23 | V22: 29 | W22: 23 | X22: 25 | Y22: =LARGE((Table6[[#This Row],[K1]:[Z4]]),1) -> 29 | Z22: =LARGE((Table6[[#This Row],[K1]:[Z4]]),2) -> 25 | AA22: =LARGE((Table6[[#This Row],[K1]:[Z4]]),3) -> 23 | AB22: =LARGE((Table6[[#This Row],[K1]:[Z4]]),4) -> 23 | AC22: =LARGE((Table6[[#This Row],[K1]:[Z4]]),5) -> 20 | AD22: =LARGE((Table6[[#This Row],[K1]:[Z4]]),6) -> 14 | AE22: =LARGE((Table6[[#This Row],[K1]:[Z4]]),7) -> 11 | AF22: =LARGE((Table6[[#This Row],[K1]:[Z4]]),8) -> 0 | AG22: =LARGE((Table6[[#This Row],[K1]:[Z4]]),9) -> 0 | AH22: =LARGE((Table6[[#This Row],[K1]:[Z4]]),10) -> 0 | AI22: =SUM(Y22:AH22) -> 145 | AJ22: =K22+AI22 -> 149
A23: 20 | B23: 415 | C23: =_xlfn.XLOOKUP(B23,Sheet2!B:B,Sheet2!C:C) -> Michael Danks | D23: =_xlfn.XLOOKUP(B23,Sheet2!B:B,Sheet2!G:G) -> 23972 | E23: =_xlfn.XLOOKUP(B23,Sheet2!B:B,Sheet2!H:H) -> WP | F23: =_xlfn.XLOOKUP(B23,Sheet2!B:B,Sheet2!D:D) -> SODI | G23: 3 | H23: 3 | I23: 3 | J23: 3 | K23: =SUM(Table6[[#This Row],[SARMC 1]:[SARMC 4]]) -> 12 | L23: 10 | M23: 17 | N23: 17 | O23: 17 | P23: 14 | Q23: 14 | R23: 13 | S23: 12 | T23: 14 | U23: 0 | V23: 0 | W23: 0 | X23: 0 | Y23: =LARGE((Table6[[#This Row],[K1]:[Z4]]),1) -> 17 | Z23: =LARGE((Table6[[#This Row],[K1]:[Z4]]),2) -> 17 | AA23: =LARGE((Table6[[#This Row],[K1]:[Z4]]),3) -> 17 | AB23: =LARGE((Table6[[#This Row],[K1]:[Z4]]),4) -> 14 | AC23: =LARGE((Table6[[#This Row],[K1]:[Z4]]),5) -> 14 | AD23: =LARGE((Table6[[#This Row],[K1]:[Z4]]),6) -> 14 | AE23: =LARGE((Table6[[#This Row],[K1]:[Z4]]),7) -> 13 | AF23: =LARGE((Table6[[#This Row],[K1]:[Z4]]),8) -> 12 | AG23: =LARGE((Table6[[#This Row],[K1]:[Z4]]),9) -> 10 | AH23: =LARGE((Table6[[#This Row],[K1]:[Z4]]),10) -> 0 | AI23: =SUM(Y23:AH23) -> 128 | AJ23: =K23+AI23 -> 140
A24: 21 | B24: 443 | C24: =_xlfn.XLOOKUP(B24,Sheet2!B:B,Sheet2!C:C) -> Zuan Breytenbach | D24: =_xlfn.XLOOKUP(B24,Sheet2!B:B,Sheet2!G:G) -> 43979 | E24: =_xlfn.XLOOKUP(B24,Sheet2!B:B,Sheet2!H:H) -> NR | F24: =_xlfn.XLOOKUP(B24,Sheet2!B:B,Sheet2!D:D) -> KR | G24: 0 | H24: 3 | I24: 3 | J24: 3 | K24: =SUM(Table6[[#This Row],[SARMC 1]:[SARMC 4]]) -> 9 | L24: 0 | M24: 0 | N24: 0 | O24: 26 | P24: 15 | Q24: 19 | R24: 19 | S24: 10 | T24: 15 | U24: 0 | V24: 0 | W24: 0 | X24: 0 | Y24: =LARGE((Table6[[#This Row],[K1]:[Z4]]),1) -> 26 | Z24: =LARGE((Table6[[#This Row],[K1]:[Z4]]),2) -> 19 | AA24: =LARGE((Table6[[#This Row],[K1]:[Z4]]),3) -> 19 | AB24: =LARGE((Table6[[#This Row],[K1]:[Z4]]),4) -> 15 | AC24: =LARGE((Table6[[#This Row],[K1]:[Z4]]),5) -> 15 | AD24: =LARGE((Table6[[#This Row],[K1]:[Z4]]),6) -> 10 | AE24: =LARGE((Table6[[#This Row],[K1]:[Z4]]),7) -> 0 | AF24: =LARGE((Table6[[#This Row],[K1]:[Z4]]),8) -> 0 | AG24: =LARGE((Table6[[#This Row],[K1]:[Z4]]),9) -> 0 | AH24: =LARGE((Table6[[#This Row],[K1]:[Z4]]),10) -> 0 | AI24: =SUM(Y24:AH24) -> 104 | AJ24: =K24+AI24 -> 113
A25: 22 | B25: 433 | C25: =_xlfn.XLOOKUP(B25,Sheet2!B:B,Sheet2!C:C) -> Max Boshoff | D25: =_xlfn.XLOOKUP(B25,Sheet2!B:B,Sheet2!G:G) -> 31243 | E25: =_xlfn.XLOOKUP(B25,Sheet2!B:B,Sheet2!H:H) -> WP | F25: =_xlfn.XLOOKUP(B25,Sheet2!B:B,Sheet2!D:D) -> CRG | G25: 3 | H25: 0 | I25: 3 | J25: 3 | K25: =SUM(Table6[[#This Row],[SARMC 1]:[SARMC 4]]) -> 9 | L25: 0 | M25: 0 | N25: 0 | O25: 0 | P25: 0 | Q25: 0 | R25: 35 | S25: 24 | T25: 29 | U25: 0 | V25: 0 | W25: 0 | X25: 0 | Y25: =LARGE((Table6[[#This Row],[K1]:[Z4]]),1) -> 35 | Z25: =LARGE((Table6[[#This Row],[K1]:[Z4]]),2) -> 29 | AA25: =LARGE((Table6[[#This Row],[K1]:[Z4]]),3) -> 24 | AB25: =LARGE((Table6[[#This Row],[K1]:[Z4]]),4) -> 0 | AC25: =LARGE((Table6[[#This Row],[K1]:[Z4]]),5) -> 0 | AD25: =LARGE((Table6[[#This Row],[K1]:[Z4]]),6) -> 0 | AE25: =LARGE((Table6[[#This Row],[K1]:[Z4]]),7) -> 0 | AF25: =LARGE((Table6[[#This Row],[K1]:[Z4]]),8) -> 0 | AG25: =LARGE((Table6[[#This Row],[K1]:[Z4]]),9) -> 0 | AH25: =LARGE((Table6[[#This Row],[K1]:[Z4]]),10) -> 0 | AI25: =SUM(Y25:AH25) -> 88 | AJ25: =K25+AI25 -> 97
A26: 23 | B26: 416 | C26: =_xlfn.XLOOKUP(B26,Sheet2!B:B,Sheet2!C:C) -> Aleksandar Praizovic | D26: =_xlfn.XLOOKUP(B26,Sheet2!B:B,Sheet2!G:G) -> 37414 | E26: =_xlfn.XLOOKUP(B26,Sheet2!B:B,Sheet2!H:H) -> WP | F26: =_xlfn.XLOOKUP(B26,Sheet2!B:B,Sheet2!D:D) -> TONY | G26: 0 | H26: 0 | I26: 0 | J26: 0 | K26: =SUM(Table6[[#This Row],[SARMC 1]:[SARMC 4]]) -> 0 | L26: 30 | M26: 35 | N26: 30 | O26: 0 | P26: 0 | Q26: 0 | R26: 0 | S26: 0 | T26: 0 | U26: 0 | V26: 0 | W26: 0 | X26: 0 | Y26: =LARGE((Table6[[#This Row],[K1]:[Z4]]),1) -> 35 | Z26: =LARGE((Table6[[#This Row],[K1]:[Z4]]),2) -> 30 | AA26: =LARGE((Table6[[#This Row],[K1]:[Z4]]),3) -> 30 | AB26: =LARGE((Table6[[#This Row],[K1]:[Z4]]),4) -> 0 | AC26: =LARGE((Table6[[#This Row],[K1]:[Z4]]),5) -> 0 | AD26: =LARGE((Table6[[#This Row],[K1]:[Z4]]),6) -> 0 | AE26: =LARGE((Table6[[#This Row],[K1]:[Z4]]),7) -> 0 | AF26: =LARGE((Table6[[#This Row],[K1]:[Z4]]),8) -> 0 | AG26: =LARGE((Table6[[#This Row],[K1]:[Z4]]),9) -> 0 | AH26: =LARGE((Table6[[#This Row],[K1]:[Z4]]),10) -> 0 | AI26: =SUM(Y26:AH26) -> 95 | AJ26: =K26+AI26 -> 95
A27: 24 | B27: 412 | C27: =_xlfn.XLOOKUP(B27,Sheet2!B:B,Sheet2!C:C) -> Matthew Shuttleworth | D27: =_xlfn.XLOOKUP(B27,Sheet2!B:B,Sheet2!G:G) -> 20828 | E27: =_xlfn.XLOOKUP(B27,Sheet2!B:B,Sheet2!H:H) -> NR | F27: =_xlfn.XLOOKUP(B27,Sheet2!B:B,Sheet2!D:D) -> LNK | G27: 3 | H27: 3 | I27: 0 | J27: 0 | K27: =SUM(Table6[[#This Row],[SARMC 1]:[SARMC 4]]) -> 6 | L27: 0 | M27: 0 | N27: 0 | O27: 32 | P27: 26 | Q27: 9 | R27: 0 | S27: 0 | T27: 0 | U27: 0 | V27: 0 | W27: 0 | X27: 0 | Y27: =LARGE((Table6[[#This Row],[K1]:[Z4]]),1) -> 32 | Z27: =LARGE((Table6[[#This Row],[K1]:[Z4]]),2) -> 26 | AA27: =LARGE((Table6[[#This Row],[K1]:[Z4]]),3) -> 9 | AB27: =LARGE((Table6[[#This Row],[K1]:[Z4]]),4) -> 0 | AC27: =LARGE((Table6[[#This Row],[K1]:[Z4]]),5) -> 0 | AD27: =LARGE((Table6[[#This Row],[K1]:[Z4]]),6) -> 0 | AE27: =LARGE((Table6[[#This Row],[K1]:[Z4]]),7) -> 0 | AF27: =LARGE((Table6[[#This Row],[K1]:[Z4]]),8) -> 0 | AG27: =LARGE((Table6[[#This Row],[K1]:[Z4]]),9) -> 0 | AH27: =LARGE((Table6[[#This Row],[K1]:[Z4]]),10) -> 0 | AI27: =SUM(Y27:AH27) -> 67 | AJ27: =K27+AI27 -> 73
A28: 25 | B28: 480 | C28: =_xlfn.XLOOKUP(B28,Sheet2!B:B,Sheet2!C:C) -> Matteo Saladino | D28: =_xlfn.XLOOKUP(B28,Sheet2!B:B,Sheet2!G:G) -> 41729 | E28: =_xlfn.XLOOKUP(B28,Sheet2!B:B,Sheet2!H:H) -> NR | F28: =_xlfn.XLOOKUP(B28,Sheet2!B:B,Sheet2!D:D) -> LNK | G28: 2 | H28: 3 | I28: 3 | J28: 3 | K28: =SUM(Table6[[#This Row],[SARMC 1]:[SARMC 4]]) -> 11 | L28: 0 | M28: 0 | N28: 0 | O28: 0 | P28: 0 | Q28: 0 | R28: 12 | S28: 20 | T28: 23 | U28: 0 | V28: 0 | W28: 0 | X28: 0 | Y28: =LARGE((Table6[[#This Row],[K1]:[Z4]]),1) -> 23 | Z28: =LARGE((Table6[[#This Row],[K1]:[Z4]]),2) -> 20 | AA28: =LARGE((Table6[[#This Row],[K1]:[Z4]]),3) -> 12 | AB28: =LARGE((Table6[[#This Row],[K1]:[Z4]]),4) -> 0 | AC28: =LARGE((Table6[[#This Row],[K1]:[Z4]]),5) -> 0 | AD28: =LARGE((Table6[[#This Row],[K1]:[Z4]]),6) -> 0 | AE28: =LARGE((Table6[[#This Row],[K1]:[Z4]]),7) -> 0 | AF28: =LARGE((Table6[[#This Row],[K1]:[Z4]]),8) -> 0 | AG28: =LARGE((Table6[[#This Row],[K1]:[Z4]]),9) -> 0 | AH28: =LARGE((Table6[[#This Row],[K1]:[Z4]]),10) -> 0 | AI28: =SUM(Y28:AH28) -> 55 | AJ28: =K28+AI28 -> 66
A29: 26 | B29: 419 | C29: =_xlfn.XLOOKUP(B29,Sheet2!B:B,Sheet2!C:C) -> Aashay Nagura | D29: =_xlfn.XLOOKUP(B29,Sheet2!B:B,Sheet2!G:G) -> 31038 | E29: =_xlfn.XLOOKUP(B29,Sheet2!B:B,Sheet2!H:H) -> EC | F29: =_xlfn.XLOOKUP(B29,Sheet2!B:B,Sheet2!D:D) -> TONY | G29: 0 | H29: 0 | I29: 0 | J29: 0 | K29: =SUM(Table6[[#This Row],[SARMC 1]:[SARMC 4]]) -> 0 | L29: 0 | M29: 0 | N29: 0 | O29: 15 | P29: 19 | Q29: 23 | R29: 0 | S29: 0 | T29: 0 | U29: 0 | V29: 0 | W29: 0 | X29: 0 | Y29: =LARGE((Table6[[#This Row],[K1]:[Z4]]),1) -> 23 | Z29: =LARGE((Table6[[#This Row],[K1]:[Z4]]),2) -> 19 | AA29: =LARGE((Table6[[#This Row],[K1]:[Z4]]),3) -> 15 | AB29: =LARGE((Table6[[#This Row],[K1]:[Z4]]),4) -> 0 | AC29: =LARGE((Table6[[#This Row],[K1]:[Z4]]),5) -> 0 | AD29: =LARGE((Table6[[#This Row],[K1]:[Z4]]),6) -> 0 | AE29: =LARGE((Table6[[#This Row],[K1]:[Z4]]),7) -> 0 | AF29: =LARGE((Table6[[#This Row],[K1]:[Z4]]),8) -> 0 | AG29: =LARGE((Table6[[#This Row],[K1]:[Z4]]),9) -> 0 | AH29: =LARGE((Table6[[#This Row],[K1]:[Z4]]),10) -> 0 | AI29: =SUM(Y29:AH29) -> 57 | AJ29: =K29+AI29 -> 57
A30: 27 | B30: 474 | C30: =_xlfn.XLOOKUP(B30,Sheet2!B:B,Sheet2!C:C) -> Zion Hair | D30: =_xlfn.XLOOKUP(B30,Sheet2!B:B,Sheet2!G:G) -> 40373 | E30: =_xlfn.XLOOKUP(B30,Sheet2!B:B,Sheet2!H:H) -> WP | F30: =_xlfn.XLOOKUP(B30,Sheet2!B:B,Sheet2!D:D) -> PRAGA | G30: 3 | H30: 3 | I30: 3 | J30: 3 | K30: =SUM(Table6[[#This Row],[SARMC 1]:[SARMC 4]]) -> 12 | L30: 15 | M30: 14 | N30: 16 | O30: 0 | P30: 0 | Q30: 0 | R30: 0 | S30: 0 | T30: 0 | U30: 0 | V30: 0 | W30: 0 | X30: 0 | Y30: =LARGE((Table6[[#This Row],[K1]:[Z4]]),1) -> 16 | Z30: =LARGE((Table6[[#This Row],[K1]:[Z4]]),2) -> 15 | AA30: =LARGE((Table6[[#This Row],[K1]:[Z4]]),3) -> 14 | AB30: =LARGE((Table6[[#This Row],[K1]:[Z4]]),4) -> 0 | AC30: =LARGE((Table6[[#This Row],[K1]:[Z4]]),5) -> 0 | AD30: =LARGE((Table6[[#This Row],[K1]:[Z4]]),6) -> 0 | AE30: =LARGE((Table6[[#This Row],[K1]:[Z4]]),7) -> 0 | AF30: =LARGE((Table6[[#This Row],[K1]:[Z4]]),8) -> 0 | AG30: =LARGE((Table6[[#This Row],[K1]:[Z4]]),9) -> 0 | AH30: =LARGE((Table6[[#This Row],[K1]:[Z4]]),10) -> 0 | AI30: =SUM(Y30:AH30) -> 45 | AJ30: =K30+AI30 -> 57
A31: 28 | B31: 445 | C31: =_xlfn.XLOOKUP(B31,Sheet2!B:B,Sheet2!C:C) -> Cecil Cecil Koorts | D31: =_xlfn.XLOOKUP(B31,Sheet2!B:B,Sheet2!G:G) -> NMFS471 | E31: =_xlfn.XLOOKUP(B31,Sheet2!B:B,Sheet2!H:H) -> NAM | F31: =_xlfn.XLOOKUP(B31,Sheet2!B:B,Sheet2!D:D) -> LN | G31: 0 | H31: 0 | I31: 0 | J31: 0 | K31: =SUM(Table6[[#This Row],[SARMC 1]:[SARMC 4]]) -> 0 | L31: 0 | M31: 0 | N31: 0 | O31: 0 | P31: 0 | Q31: 0 | R31: 16 | S31: 17 | T31: 18 | U31: 0 | V31: 0 | W31: 0 | X31: 0 | Y31: =LARGE((Table6[[#This Row],[K1]:[Z4]]),1) -> 18 | Z31: =LARGE((Table6[[#This Row],[K1]:[Z4]]),2) -> 17 | AA31: =LARGE((Table6[[#This Row],[K1]:[Z4]]),3) -> 16 | AB31: =LARGE((Table6[[#This Row],[K1]:[Z4]]),4) -> 0 | AC31: =LARGE((Table6[[#This Row],[K1]:[Z4]]),5) -> 0 | AD31: =LARGE((Table6[[#This Row],[K1]:[Z4]]),6) -> 0 | AE31: =LARGE((Table6[[#This Row],[K1]:[Z4]]),7) -> 0 | AF31: =LARGE((Table6[[#This Row],[K1]:[Z4]]),8) -> 0 | AG31: =LARGE((Table6[[#This Row],[K1]:[Z4]]),9) -> 0 | AH31: =LARGE((Table6[[#This Row],[K1]:[Z4]]),10) -> 0 | AI31: =SUM(Y31:AH31) -> 51 | AJ31: =K31+AI31 -> 51
A32: 29 | B32: 434 | C32: =_xlfn.XLOOKUP(B32,Sheet2!B:B,Sheet2!C:C) -> Mikko Arries | D32: =_xlfn.XLOOKUP(B32,Sheet2!B:B,Sheet2!G:G) -> 0842023 | E32: =_xlfn.XLOOKUP(B32,Sheet2!B:B,Sheet2!H:H) -> WP | F32: =_xlfn.XLOOKUP(B32,Sheet2!B:B,Sheet2!D:D) -> CRG | G32: 0 | H32: 0 | I32: 0 | J32: 0 | K32: =SUM(Table6[[#This Row],[SARMC 1]:[SARMC 4]]) -> 0 | L32: 22 | M32: 13 | N32: 13 | O32: 0 | P32: 0 | Q32: 0 | R32: 0 | S32: 0 | T32: 0 | U32: 0 | V32: 0 | W32: 0 | X32: 0 | Y32: =LARGE((Table6[[#This Row],[K1]:[Z4]]),1) -> 22 | Z32: =LARGE((Table6[[#This Row],[K1]:[Z4]]),2) -> 13 | AA32: =LARGE((Table6[[#This Row],[K1]:[Z4]]),3) -> 13 | AB32: =LARGE((Table6[[#This Row],[K1]:[Z4]]),4) -> 0 | AC32: =LARGE((Table6[[#This Row],[K1]:[Z4]]),5) -> 0 | AD32: =LARGE((Table6[[#This Row],[K1]:[Z4]]),6) -> 0 | AE32: =LARGE((Table6[[#This Row],[K1]:[Z4]]),7) -> 0 | AF32: =LARGE((Table6[[#This Row],[K1]:[Z4]]),8) -> 0 | AG32: =LARGE((Table6[[#This Row],[K1]:[Z4]]),9) -> 0 | AH32: =LARGE((Table6[[#This Row],[K1]:[Z4]]),10) -> 0 | AI32: =SUM(Y32:AH32) -> 48 | AJ32: =K32+AI32 -> 48
A33: 30 | B33: 461 | C33: =_xlfn.XLOOKUP(B33,Sheet2!B:B,Sheet2!C:C) -> Santiago Frade | D33: =_xlfn.XLOOKUP(B33,Sheet2!B:B,Sheet2!G:G) -> 26476 | E33: =_xlfn.XLOOKUP(B33,Sheet2!B:B,Sheet2!H:H) -> NR | F33: =_xlfn.XLOOKUP(B33,Sheet2!B:B,Sheet2!D:D) -> CRG | G33: 2 | H33: 3 | I33: 3 | J33: 3 | K33: =SUM(Table6[[#This Row],[SARMC 1]:[SARMC 4]]) -> 11 | L33: 0 | M33: 0 | N33: 0 | O33: 0 | P33: 0 | Q33: 0 | R33: 15 | S33: 9 | T33: 12 | U33: 0 | V33: 0 | W33: 0 | X33: 0 | Y33: =LARGE((Table6[[#This Row],[K1]:[Z4]]),1) -> 15 | Z33: =LARGE((Table6[[#This Row],[K1]:[Z4]]),2) -> 12 | AA33: =LARGE((Table6[[#This Row],[K1]:[Z4]]),3) -> 9 | AB33: =LARGE((Table6[[#This Row],[K1]:[Z4]]),4) -> 0 | AC33: =LARGE((Table6[[#This Row],[K1]:[Z4]]),5) -> 0 | AD33: =LARGE((Table6[[#This Row],[K1]:[Z4]]),6) -> 0 | AE33: =LARGE((Table6[[#This Row],[K1]:[Z4]]),7) -> 0 | AF33: =LARGE((Table6[[#This Row],[K1]:[Z4]]),8) -> 0 | AG33: =LARGE((Table6[[#This Row],[K1]:[Z4]]),9) -> 0 | AH33: =LARGE((Table6[[#This Row],[K1]:[Z4]]),10) -> 0 | AI33: =SUM(Y33:AH33) -> 36 | AJ33: =K33+AI33 -> 47
A34: 31 | B34: 454 | C34: =_xlfn.XLOOKUP(B34,Sheet2!B:B,Sheet2!C:C) -> Okhethwaho Nangammbi | D34: =_xlfn.XLOOKUP(B34,Sheet2!B:B,Sheet2!G:G) -> 45825 | E34: =_xlfn.XLOOKUP(B34,Sheet2!B:B,Sheet2!H:H) -> NR | F34: OTK | G34: 0 | H34: 0 | I34: 3 | J34: 0 | K34: =SUM(Table6[[#This Row],[SARMC 1]:[SARMC 4]]) -> 3 | L34: 0 | M34: 0 | N34: 0 | O34: 0 | P34: 0 | Q34: 0 | R34: 6 | S34: 7 | T34: 17 | U34: 0 | V34: 0 | W34: 0 | X34: 0 | Y34: =LARGE((Table6[[#This Row],[K1]:[Z4]]),1) -> 17 | Z34: =LARGE((Table6[[#This Row],[K1]:[Z4]]),2) -> 7 | AA34: =LARGE((Table6[[#This Row],[K1]:[Z4]]),3) -> 6 | AB34: =LARGE((Table6[[#This Row],[K1]:[Z4]]),4) -> 0 | AC34: =LARGE((Table6[[#This Row],[K1]:[Z4]]),5) -> 0 | AD34: =LARGE((Table6[[#This Row],[K1]:[Z4]]),6) -> 0 | AE34: =LARGE((Table6[[#This Row],[K1]:[Z4]]),7) -> 0 | AF34: =LARGE((Table6[[#This Row],[K1]:[Z4]]),8) -> 0 | AG34: =LARGE((Table6[[#This Row],[K1]:[Z4]]),9) -> 0 | AH34: =LARGE((Table6[[#This Row],[K1]:[Z4]]),10) -> 0 | AI34: =SUM(Y34:AH34) -> 30 | AJ34: =K34+AI34 -> 33
A35: 32 | B35: 475 | C35: =_xlfn.XLOOKUP(B35,Sheet2!B:B,Sheet2!C:C) -> Nicolais Mostert | D35: =_xlfn.XLOOKUP(B35,Sheet2!B:B,Sheet2!G:G) -> 697 | E35: =_xlfn.XLOOKUP(B35,Sheet2!B:B,Sheet2!H:H) -> NAM | F35: =_xlfn.XLOOKUP(B35,Sheet2!B:B,Sheet2!D:D) -> SODI | G35: 0 | H35: 0 | I35: 0 | J35: 0 | K35: =SUM(Table6[[#This Row],[SARMC 1]:[SARMC 4]]) -> 0 | L35: 0 | M35: 0 | N35: 0 | O35: 0 | P35: 0 | Q35: 0 | R35: 8 | S35: 8 | T35: 16 | U35: 0 | V35: 0 | W35: 0 | X35: 0 | Y35: =LARGE((Table6[[#This Row],[K1]:[Z4]]),1) -> 16 | Z35: =LARGE((Table6[[#This Row],[K1]:[Z4]]),2) -> 8 | AA35: =LARGE((Table6[[#This Row],[K1]:[Z4]]),3) -> 8 | AB35: =LARGE((Table6[[#This Row],[K1]:[Z4]]),4) -> 0 | AC35: =LARGE((Table6[[#This Row],[K1]:[Z4]]),5) -> 0 | AD35: =LARGE((Table6[[#This Row],[K1]:[Z4]]),6) -> 0 | AE35: =LARGE((Table6[[#This Row],[K1]:[Z4]]),7) -> 0 | AF35: =LARGE((Table6[[#This Row],[K1]:[Z4]]),8) -> 0 | AG35: =LARGE((Table6[[#This Row],[K1]:[Z4]]),9) -> 0 | AH35: =LARGE((Table6[[#This Row],[K1]:[Z4]]),10) -> 0 | AI35: =SUM(Y35:AH35) -> 32 | AJ35: =K35+AI35 -> 32
A36: 33 | B36: 467 | C36: =_xlfn.XLOOKUP(B36,Sheet2!B:B,Sheet2!C:C) -> Nkosinathi Mokhonoana | D36: =_xlfn.XLOOKUP(B36,Sheet2!B:B,Sheet2!G:G) -> 46202 | E36: =_xlfn.XLOOKUP(B36,Sheet2!B:B,Sheet2!H:H) -> NR | F36: =_xlfn.XLOOKUP(B36,Sheet2!B:B,Sheet2!D:D) -> LNK | G36: 2 | H36: 0 | I36: 3 | J36: 0 | K36: =SUM(Table6[[#This Row],[SARMC 1]:[SARMC 4]]) -> 5 | L36: 0 | M36: 0 | N36: 0 | O36: 0 | P36: 0 | Q36: 0 | R36: 9 | S36: 6 | T36: 7 | U36: 0 | V36: 0 | W36: 0 | X36: 0 | Y36: =LARGE((Table6[[#This Row],[K1]:[Z4]]),1) -> 9 | Z36: =LARGE((Table6[[#This Row],[K1]:[Z4]]),2) -> 7 | AA36: =LARGE((Table6[[#This Row],[K1]:[Z4]]),3) -> 6 | AB36: =LARGE((Table6[[#This Row],[K1]:[Z4]]),4) -> 0 | AC36: =LARGE((Table6[[#This Row],[K1]:[Z4]]),5) -> 0 | AD36: =LARGE((Table6[[#This Row],[K1]:[Z4]]),6) -> 0 | AE36: =LARGE((Table6[[#This Row],[K1]:[Z4]]),7) -> 0 | AF36: =LARGE((Table6[[#This Row],[K1]:[Z4]]),8) -> 0 | AG36: =LARGE((Table6[[#This Row],[K1]:[Z4]]),9) -> 0 | AH36: =LARGE((Table6[[#This Row],[K1]:[Z4]]),10) -> 0 | AI36: =SUM(Y36:AH36) -> 22 | AJ36: =K36+AI36 -> 27
A37: 34 | B37: 457 | C37: =_xlfn.XLOOKUP(B37,Sheet2!B:B,Sheet2!C:C) -> Zeph Hair | D37: =_xlfn.XLOOKUP(B37,Sheet2!B:B,Sheet2!G:G) -> 40374 | E37: =_xlfn.XLOOKUP(B37,Sheet2!B:B,Sheet2!H:H) -> WP | F37: =_xlfn.XLOOKUP(B37,Sheet2!B:B,Sheet2!D:D) -> PRAGA | G37: 3 | H37: 2 | I37: 3 | J37: 3 | K37: =SUM(Table6[[#This Row],[SARMC 1]:[SARMC 4]]) -> 11 | L37: 10 | M37: - | N37: - | O37: 0 | P37: 0 | Q37: 0 | R37: 0 | S37: 0 | T37: 0 | U37: 0 | V37: 0 | W37: 0 | X37: 0 | Y37: =LARGE((Table6[[#This Row],[K1]:[Z4]]),1) -> 10 | Z37: =LARGE((Table6[[#This Row],[K1]:[Z4]]),2) -> 0 | AA37: =LARGE((Table6[[#This Row],[K1]:[Z4]]),3) -> 0 | AB37: =LARGE((Table6[[#This Row],[K1]:[Z4]]),4) -> 0 | AC37: =LARGE((Table6[[#This Row],[K1]:[Z4]]),5) -> 0 | AD37: =LARGE((Table6[[#This Row],[K1]:[Z4]]),6) -> 0 | AE37: =LARGE((Table6[[#This Row],[K1]:[Z4]]),7) -> 0 | AF37: =LARGE((Table6[[#This Row],[K1]:[Z4]]),8) -> 0 | AG37: =LARGE((Table6[[#This Row],[K1]:[Z4]]),9) -> 0 | AH37: =LARGE((Table6[[#This Row],[K1]:[Z4]]),10) -> 0 | AI37: =SUM(Y37:AH37) -> 10 | AJ37: =K37+AI37 -> 21
A38: 35 | B38: 436 | C38: Pilossof Elijah | D38: 28426 | E38: ZIM | F38: PAROLIN | G38: 0 | H38: 0 | I38: 0 | J38: 0 | K38: =SUM(Table6[[#This Row],[SARMC 1]:[SARMC 4]]) -> 0 | L38: 0 | M38: 0 | N38: 0 | O38: 0 | P38: 0 | Q38: 0 | R38: 7 | S38: 5 | T38: 8 | U38: 0 | V38: 0 | W38: 0 | X38: 0 | Y38: =LARGE((Table6[[#This Row],[K1]:[Z4]]),1) -> 8 | Z38: =LARGE((Table6[[#This Row],[K1]:[Z4]]),2) -> 7 | AA38: =LARGE((Table6[[#This Row],[K1]:[Z4]]),3) -> 5 | AB38: =LARGE((Table6[[#This Row],[K1]:[Z4]]),4) -> 0 | AC38: =LARGE((Table6[[#This Row],[K1]:[Z4]]),5) -> 0 | AD38: =LARGE((Table6[[#This Row],[K1]:[Z4]]),6) -> 0 | AE38: =LARGE((Table6[[#This Row],[K1]:[Z4]]),7) -> 0 | AF38: =LARGE((Table6[[#This Row],[K1]:[Z4]]),8) -> 0 | AG38: =LARGE((Table6[[#This Row],[K1]:[Z4]]),9) -> 0 | AH38: =LARGE((Table6[[#This Row],[K1]:[Z4]]),10) -> 0 | AI38: =SUM(Y38:AH38) -> 20 | AJ38: =K38+AI38 -> 20
A39: 36 | B39: 484 | C39: =_xlfn.XLOOKUP(B39,Sheet2!B:B,Sheet2!C:C) -> Justin Milleskie | D39: =_xlfn.XLOOKUP(B39,Sheet2!B:B,Sheet2!G:G) -> 44164 | E39: =_xlfn.XLOOKUP(B39,Sheet2!B:B,Sheet2!H:H) -> WP | F39: =_xlfn.XLOOKUP(B39,Sheet2!B:B,Sheet2!D:D) -> PRAGA | G39: 3 | H39: 3 | I39: 3 | J39: 3 | K39: =SUM(Table6[[#This Row],[SARMC 1]:[SARMC 4]]) -> 12 | L39: 0 | M39: 0 | N39: 0 | O39: 0 | P39: 0 | Q39: 0 | R39: 0 | S39: 0 | T39: 0 | U39: 0 | V39: 0 | W39: 0 | X39: 0 | Y39: =LARGE((Table6[[#This Row],[K1]:[Z4]]),1) -> 0 | Z39: =LARGE((Table6[[#This Row],[K1]:[Z4]]),2) -> 0 | AA39: =LARGE((Table6[[#This Row],[K1]:[Z4]]),3) -> 0 | AB39: =LARGE((Table6[[#This Row],[K1]:[Z4]]),4) -> 0 | AC39: =LARGE((Table6[[#This Row],[K1]:[Z4]]),5) -> 0 | AD39: =LARGE((Table6[[#This Row],[K1]:[Z4]]),6) -> 0 | AE39: =LARGE((Table6[[#This Row],[K1]:[Z4]]),7) -> 0 | AF39: =LARGE((Table6[[#This Row],[K1]:[Z4]]),8) -> 0 | AG39: =LARGE((Table6[[#This Row],[K1]:[Z4]]),9) -> 0 | AH39: =LARGE((Table6[[#This Row],[K1]:[Z4]]),10) -> 0 | AI39: =SUM(Y39:AH39) -> 0 | AJ39: =K39+AI39 -> 12
A40: 37 | B40: 423 | C40: =_xlfn.XLOOKUP(B40,Sheet2!B:B,Sheet2!C:C) -> Zach Mcauley | D40: =_xlfn.XLOOKUP(B40,Sheet2!B:B,Sheet2!G:G) -> 26744 | E40: =_xlfn.XLOOKUP(B40,Sheet2!B:B,Sheet2!H:H) -> WP | F40: =_xlfn.XLOOKUP(B40,Sheet2!B:B,Sheet2!D:D) -> BIRELART | G40: 3 | H40: 3 | I40: 3 | J40: 3 | K40: =SUM(Table6[[#This Row],[SARMC 1]:[SARMC 4]]) -> 12 | L40: 0 | M40: 0 | N40: 0 | O40: 0 | P40: 0 | Q40: 0 | R40: 0 | S40: 0 | T40: 0 | U40: 0 | V40: 0 | W40: 0 | X40: 0 | Y40: =LARGE((Table6[[#This Row],[K1]:[Z4]]),1) -> 0 | Z40: =LARGE((Table6[[#This Row],[K1]:[Z4]]),2) -> 0 | AA40: =LARGE((Table6[[#This Row],[K1]:[Z4]]),3) -> 0 | AB40: =LARGE((Table6[[#This Row],[K1]:[Z4]]),4) -> 0 | AC40: =LARGE((Table6[[#This Row],[K1]:[Z4]]),5) -> 0 | AD40: =LARGE((Table6[[#This Row],[K1]:[Z4]]),6) -> 0 | AE40: =LARGE((Table6[[#This Row],[K1]:[Z4]]),7) -> 0 | AF40: =LARGE((Table6[[#This Row],[K1]:[Z4]]),8) -> 0 | AG40: =LARGE((Table6[[#This Row],[K1]:[Z4]]),9) -> 0 | AH40: =LARGE((Table6[[#This Row],[K1]:[Z4]]),10) -> 0 | AI40: =SUM(Y40:AH40) -> 0 | AJ40: =K40+AI40 -> 12
A41: 38 | B41: 478 | C41: =_xlfn.XLOOKUP(B41,Sheet2!B:B,Sheet2!C:C) -> Ryan Falconer | D41: =_xlfn.XLOOKUP(B41,Sheet2!B:B,Sheet2!G:G) -> 35788 | E41: =_xlfn.XLOOKUP(B41,Sheet2!B:B,Sheet2!H:H) -> KZN | F41: =_xlfn.XLOOKUP(B41,Sheet2!B:B,Sheet2!D:D) -> SODI | G41: 3 | H41: 3 | I41: 3 | J41: 3 | K41: =SUM(Table6[[#This Row],[SARMC 1]:[SARMC 4]]) -> 12 | L41: 0 | M41: 0 | N41: 0 | O41: 0 | P41: 0 | Q41: 0 | R41: 0 | S41: 0 | T41: 0 | U41: 0 | V41: 0 | W41: 0 | X41: 0 | Y41: =LARGE((Table6[[#This Row],[K1]:[Z4]]),1) -> 0 | Z41: =LARGE((Table6[[#This Row],[K1]:[Z4]]),2) -> 0 | AA41: =LARGE((Table6[[#This Row],[K1]:[Z4]]),3) -> 0 | AB41: =LARGE((Table6[[#This Row],[K1]:[Z4]]),4) -> 0 | AC41: =LARGE((Table6[[#This Row],[K1]:[Z4]]),5) -> 0 | AD41: =LARGE((Table6[[#This Row],[K1]:[Z4]]),6) -> 0 | AE41: =LARGE((Table6[[#This Row],[K1]:[Z4]]),7) -> 0 | AF41: =LARGE((Table6[[#This Row],[K1]:[Z4]]),8) -> 0 | AG41: =LARGE((Table6[[#This Row],[K1]:[Z4]]),9) -> 0 | AH41: =LARGE((Table6[[#This Row],[K1]:[Z4]]),10) -> 0 | AI41: =SUM(Y41:AH41) -> 0 | AJ41: =K41+AI41 -> 12
A42: 39 | B42: 449 | C42: =_xlfn.XLOOKUP(B42,Sheet2!B:B,Sheet2!C:C) -> Jose Slamet | D42: =_xlfn.XLOOKUP(B42,Sheet2!B:B,Sheet2!G:G) -> 39517 | E42: =_xlfn.XLOOKUP(B42,Sheet2!B:B,Sheet2!H:H) -> WP | F42: =_xlfn.XLOOKUP(B42,Sheet2!B:B,Sheet2!D:D) -> LNK | G42: 2 | H42: 3 | I42: 3 | J42: 3 | K42: =SUM(Table6[[#This Row],[SARMC 1]:[SARMC 4]]) -> 11 | L42: 0 | M42: 0 | N42: 0 | O42: 0 | P42: 0 | Q42: 0 | R42: 0 | S42: 0 | T42: 0 | U42: 0 | V42: 0 | W42: 0 | X42: 0 | Y42: =LARGE((Table6[[#This Row],[K1]:[Z4]]),1) -> 0 | Z42: =LARGE((Table6[[#This Row],[K1]:[Z4]]),2) -> 0 | AA42: =LARGE((Table6[[#This Row],[K1]:[Z4]]),3) -> 0 | AB42: =LARGE((Table6[[#This Row],[K1]:[Z4]]),4) -> 0 | AC42: =LARGE((Table6[[#This Row],[K1]:[Z4]]),5) -> 0 | AD42: =LARGE((Table6[[#This Row],[K1]:[Z4]]),6) -> 0 | AE42: =LARGE((Table6[[#This Row],[K1]:[Z4]]),7) -> 0 | AF42: =LARGE((Table6[[#This Row],[K1]:[Z4]]),8) -> 0 | AG42: =LARGE((Table6[[#This Row],[K1]:[Z4]]),9) -> 0 | AH42: =LARGE((Table6[[#This Row],[K1]:[Z4]]),10) -> 0 | AI42: =SUM(Y42:AH42) -> 0 | AJ42: =K42+AI42 -> 11
A43: 40 | B43: 418 | C43: =_xlfn.XLOOKUP(B43,Sheet2!B:B,Sheet2!C:C) -> Raffaele Musso | D43: =_xlfn.XLOOKUP(B43,Sheet2!B:B,Sheet2!G:G) -> 41967 | E43: =_xlfn.XLOOKUP(B43,Sheet2!B:B,Sheet2!H:H) -> WP | F43: =_xlfn.XLOOKUP(B43,Sheet2!B:B,Sheet2!D:D) -> EXPRIT | G43: 2 | H43: 3 | I43: 3 | J43: 3 | K43: =SUM(Table6[[#This Row],[SARMC 1]:[SARMC 4]]) -> 11 | L43: 0 | M43: 0 | N43: 0 | O43: 0 | P43: 0 | Q43: 0 | R43: 0 | S43: 0 | T43: 0 | U43: 0 | V43: 0 | W43: 0 | X43: 0 | Y43: =LARGE((Table6[[#This Row],[K1]:[Z4]]),1) -> 0 | Z43: =LARGE((Table6[[#This Row],[K1]:[Z4]]),2) -> 0 | AA43: =LARGE((Table6[[#This Row],[K1]:[Z4]]),3) -> 0 | AB43: =LARGE((Table6[[#This Row],[K1]:[Z4]]),4) -> 0 | AC43: =LARGE((Table6[[#This Row],[K1]:[Z4]]),5) -> 0 | AD43: =LARGE((Table6[[#This Row],[K1]:[Z4]]),6) -> 0 | AE43: =LARGE((Table6[[#This Row],[K1]:[Z4]]),7) -> 0 | AF43: =LARGE((Table6[[#This Row],[K1]:[Z4]]),8) -> 0 | AG43: =LARGE((Table6[[#This Row],[K1]:[Z4]]),9) -> 0 | AH43: =LARGE((Table6[[#This Row],[K1]:[Z4]]),10) -> 0 | AI43: =SUM(Y43:AH43) -> 0 | AJ43: =K43+AI43 -> 11
A44: 41 | B44: 417 | C44: =_xlfn.XLOOKUP(B44,Sheet2!B:B,Sheet2!C:C) -> Ruan Lewis | D44: =_xlfn.XLOOKUP(B44,Sheet2!B:B,Sheet2!G:G) -> 0 | E44: =_xlfn.XLOOKUP(B44,Sheet2!B:B,Sheet2!H:H) -> WP | F44: =_xlfn.XLOOKUP(B44,Sheet2!B:B,Sheet2!D:D) -> CRG | G44: 3 | H44: 2 | I44: 3 | J44: 3 | K44: =SUM(Table6[[#This Row],[SARMC 1]:[SARMC 4]]) -> 11 | L44: 0 | M44: 0 | N44: 0 | O44: 0 | P44: 0 | Q44: 0 | R44: 0 | S44: 0 | T44: 0 | U44: 0 | V44: 0 | W44: 0 | X44: 0 | Y44: =LARGE((Table6[[#This Row],[K1]:[Z4]]),1) -> 0 | Z44: =LARGE((Table6[[#This Row],[K1]:[Z4]]),2) -> 0 | AA44: =LARGE((Table6[[#This Row],[K1]:[Z4]]),3) -> 0 | AB44: =LARGE((Table6[[#This Row],[K1]:[Z4]]),4) -> 0 | AC44: =LARGE((Table6[[#This Row],[K1]:[Z4]]),5) -> 0 | AD44: =LARGE((Table6[[#This Row],[K1]:[Z4]]),6) -> 0 | AE44: =LARGE((Table6[[#This Row],[K1]:[Z4]]),7) -> 0 | AF44: =LARGE((Table6[[#This Row],[K1]:[Z4]]),8) -> 0 | AG44: =LARGE((Table6[[#This Row],[K1]:[Z4]]),9) -> 0 | AH44: =LARGE((Table6[[#This Row],[K1]:[Z4]]),10) -> 0 | AI44: =SUM(Y44:AH44) -> 0 | AJ44: =K44+AI44 -> 11
A45: 42 | B45: 497 | C45: =_xlfn.XLOOKUP(B45,Sheet2!B:B,Sheet2!C:C) -> Courtney Milleskie | D45: =_xlfn.XLOOKUP(B45,Sheet2!B:B,Sheet2!G:G) -> 0 | E45: =_xlfn.XLOOKUP(B45,Sheet2!B:B,Sheet2!H:H) -> WP | F45: =_xlfn.XLOOKUP(B45,Sheet2!B:B,Sheet2!D:D) -> CRG | G45: 3 | H45: 2 | I45: 3 | J45: 3 | K45: =SUM(Table6[[#This Row],[SARMC 1]:[SARMC 4]]) -> 11 | L45: 0 | M45: 0 | N45: 0 | O45: 0 | P45: 0 | Q45: 0 | R45: 0 | S45: 0 | T45: 0 | U45: 0 | V45: 0 | W45: 0 | X45: 0 | Y45: =LARGE((Table6[[#This Row],[K1]:[Z4]]),1) -> 0 | Z45: =LARGE((Table6[[#This Row],[K1]:[Z4]]),2) -> 0 | AA45: =LARGE((Table6[[#This Row],[K1]:[Z4]]),3) -> 0 | AB45: =LARGE((Table6[[#This Row],[K1]:[Z4]]),4) -> 0 | AC45: =LARGE((Table6[[#This Row],[K1]:[Z4]]),5) -> 0 | AD45: =LARGE((Table6[[#This Row],[K1]:[Z4]]),6) -> 0 | AE45: =LARGE((Table6[[#This Row],[K1]:[Z4]]),7) -> 0 | AF45: =LARGE((Table6[[#This Row],[K1]:[Z4]]),8) -> 0 | AG45: =LARGE((Table6[[#This Row],[K1]:[Z4]]),9) -> 0 | AH45: =LARGE((Table6[[#This Row],[K1]:[Z4]]),10) -> 0 | AI45: =SUM(Y45:AH45) -> 0 | AJ45: =K45+AI45 -> 11
A46: 43 | B46: 496 | C46: =_xlfn.XLOOKUP(B46,Sheet2!B:B,Sheet2!C:C) -> Jordan Wilson | D46: =_xlfn.XLOOKUP(B46,Sheet2!B:B,Sheet2!G:G) -> 44491 | E46: =_xlfn.XLOOKUP(B46,Sheet2!B:B,Sheet2!H:H) -> KZN | F46: =_xlfn.XLOOKUP(B46,Sheet2!B:B,Sheet2!D:D) -> OTK | G46: 3 | H46: 3 | I46: 0 | J46: 3 | K46: =SUM(Table6[[#This Row],[SARMC 1]:[SARMC 4]]) -> 9 | L46: 0 | M46: 0 | N46: 0 | O46: 0 | P46: 0 | Q46: 0 | R46: 0 | S46: 0 | T46: 0 | U46: 0 | V46: 0 | W46: 0 | X46: 0 | Y46: =LARGE((Table6[[#This Row],[K1]:[Z4]]),1) -> 0 | Z46: =LARGE((Table6[[#This Row],[K1]:[Z4]]),2) -> 0 | AA46: =LARGE((Table6[[#This Row],[K1]:[Z4]]),3) -> 0 | AB46: =LARGE((Table6[[#This Row],[K1]:[Z4]]),4) -> 0 | AC46: =LARGE((Table6[[#This Row],[K1]:[Z4]]),5) -> 0 | AD46: =LARGE((Table6[[#This Row],[K1]:[Z4]]),6) -> 0 | AE46: =LARGE((Table6[[#This Row],[K1]:[Z4]]),7) -> 0 | AF46: =LARGE((Table6[[#This Row],[K1]:[Z4]]),8) -> 0 | AG46: =LARGE((Table6[[#This Row],[K1]:[Z4]]),9) -> 0 | AH46: =LARGE((Table6[[#This Row],[K1]:[Z4]]),10) -> 0 | AI46: =SUM(Y46:AH46) -> 0 | AJ46: =K46+AI46 -> 9
A47: 44 | B47: 476 | C47: =_xlfn.XLOOKUP(B47,Sheet2!B:B,Sheet2!C:C) -> Aiden Beaumont | D47: =_xlfn.XLOOKUP(B47,Sheet2!B:B,Sheet2!G:G) -> 19860 | E47: =_xlfn.XLOOKUP(B47,Sheet2!B:B,Sheet2!H:H) -> WP | F47: =_xlfn.XLOOKUP(B47,Sheet2!B:B,Sheet2!D:D) -> CRG | G47: 3 | H47: 3 | I47: 0 | J47: 2 | K47: =SUM(Table6[[#This Row],[SARMC 1]:[SARMC 4]]) -> 8 | L47: 0 | M47: 0 | N47: 0 | O47: 0 | P47: 0 | Q47: 0 | R47: 0 | S47: 0 | T47: 0 | U47: 0 | V47: 0 | W47: 0 | X47: 0 | Y47: =LARGE((Table6[[#This Row],[K1]:[Z4]]),1) -> 0 | Z47: =LARGE((Table6[[#This Row],[K1]:[Z4]]),2) -> 0 | AA47: =LARGE((Table6[[#This Row],[K1]:[Z4]]),3) -> 0 | AB47: =LARGE((Table6[[#This Row],[K1]:[Z4]]),4) -> 0 | AC47: =LARGE((Table6[[#This Row],[K1]:[Z4]]),5) -> 0 | AD47: =LARGE((Table6[[#This Row],[K1]:[Z4]]),6) -> 0 | AE47: =LARGE((Table6[[#This Row],[K1]:[Z4]]),7) -> 0 | AF47: =LARGE((Table6[[#This Row],[K1]:[Z4]]),8) -> 0 | AG47: =LARGE((Table6[[#This Row],[K1]:[Z4]]),9) -> 0 | AH47: =LARGE((Table6[[#This Row],[K1]:[Z4]]),10) -> 0 | AI47: =SUM(Y47:AH47) -> 0 | AJ47: =K47+AI47 -> 8
A48: 45 | B48: 472 | C48: =_xlfn.XLOOKUP(B48,Sheet2!B:B,Sheet2!C:C) -> Kirthan Cross | D48: =_xlfn.XLOOKUP(B48,Sheet2!B:B,Sheet2!G:G) -> 44448 | E48: =_xlfn.XLOOKUP(B48,Sheet2!B:B,Sheet2!H:H) -> KZN | F48: =_xlfn.XLOOKUP(B48,Sheet2!B:B,Sheet2!D:D) -> LN | G48: 3 | H48: 3 | I48: 0 | J48: 0 | K48: =SUM(Table6[[#This Row],[SARMC 1]:[SARMC 4]]) -> 6 | L48: 0 | M48: 0 | N48: 0 | O48: 0 | P48: 0 | Q48: 0 | R48: 0 | S48: 0 | T48: 0 | U48: 0 | V48: 0 | W48: 0 | X48: 0 | Y48: =LARGE((Table6[[#This Row],[K1]:[Z4]]),1) -> 0 | Z48: =LARGE((Table6[[#This Row],[K1]:[Z4]]),2) -> 0 | AA48: =LARGE((Table6[[#This Row],[K1]:[Z4]]),3) -> 0 | AB48: =LARGE((Table6[[#This Row],[K1]:[Z4]]),4) -> 0 | AC48: =LARGE((Table6[[#This Row],[K1]:[Z4]]),5) -> 0 | AD48: =LARGE((Table6[[#This Row],[K1]:[Z4]]),6) -> 0 | AE48: =LARGE((Table6[[#This Row],[K1]:[Z4]]),7) -> 0 | AF48: =LARGE((Table6[[#This Row],[K1]:[Z4]]),8) -> 0 | AG48: =LARGE((Table6[[#This Row],[K1]:[Z4]]),9) -> 0 | AH48: =LARGE((Table6[[#This Row],[K1]:[Z4]]),10) -> 0 | AI48: =SUM(Y48:AH48) -> 0 | AJ48: =K48+AI48 -> 6
A49: 46 | B49: 470 | C49: =_xlfn.XLOOKUP(B49,Sheet2!B:B,Sheet2!C:C) -> Aurora Van Til | D49: 0 | E49: =_xlfn.XLOOKUP(B49,Sheet2!B:B,Sheet2!H:H) -> WP | F49: =_xlfn.XLOOKUP(B49,Sheet2!B:B,Sheet2!D:D) -> EKR | G49: 3 | H49: 2 | I49: 0 | J49: 0 | K49: =SUM(Table6[[#This Row],[SARMC 1]:[SARMC 4]]) -> 5 | L49: 0 | M49: 0 | N49: 0 | O49: 0 | P49: 0 | Q49: 0 | R49: 0 | S49: 0 | T49: 0 | U49: 0 | V49: 0 | W49: 0 | X49: 0 | Y49: =LARGE((Table6[[#This Row],[K1]:[Z4]]),1) -> 0 | Z49: =LARGE((Table6[[#This Row],[K1]:[Z4]]),2) -> 0 | AA49: =LARGE((Table6[[#This Row],[K1]:[Z4]]),3) -> 0 | AB49: =LARGE((Table6[[#This Row],[K1]:[Z4]]),4) -> 0 | AC49: =LARGE((Table6[[#This Row],[K1]:[Z4]]),5) -> 0 | AD49: =LARGE((Table6[[#This Row],[K1]:[Z4]]),6) -> 0 | AE49: =LARGE((Table6[[#This Row],[K1]:[Z4]]),7) -> 0 | AF49: =LARGE((Table6[[#This Row],[K1]:[Z4]]),8) -> 0 | AG49: =LARGE((Table6[[#This Row],[K1]:[Z4]]),9) -> 0 | AH49: =LARGE((Table6[[#This Row],[K1]:[Z4]]),10) -> 0 | AI49: =SUM(Y49:AH49) -> 0 | AJ49: =K49+AI49 -> 5
A50: 47 | B50: 413 | C50: =_xlfn.XLOOKUP(B50,Sheet2!B:B,Sheet2!C:C) -> Akeel Singh | D50: =_xlfn.XLOOKUP(B50,Sheet2!B:B,Sheet2!G:G) -> 0 | E50: =_xlfn.XLOOKUP(B50,Sheet2!B:B,Sheet2!H:H) -> KZN | F50: =_xlfn.XLOOKUP(B50,Sheet2!B:B,Sheet2!D:D) -> TONY | G50: 0 | H50: 3 | I50: 0 | J50: 0 | K50: =SUM(Table6[[#This Row],[SARMC 1]:[SARMC 4]]) -> 3 | L50: 0 | M50: 0 | N50: 0 | O50: 0 | P50: 0 | Q50: 0 | R50: 0 | S50: 0 | T50: 0 | U50: 0 | V50: 0 | W50: 0 | X50: 0 | Y50: =LARGE((Table6[[#This Row],[K1]:[Z4]]),1) -> 0 | Z50: =LARGE((Table6[[#This Row],[K1]:[Z4]]),2) -> 0 | AA50: =LARGE((Table6[[#This Row],[K1]:[Z4]]),3) -> 0 | AB50: =LARGE((Table6[[#This Row],[K1]:[Z4]]),4) -> 0 | AC50: =LARGE((Table6[[#This Row],[K1]:[Z4]]),5) -> 0 | AD50: =LARGE((Table6[[#This Row],[K1]:[Z4]]),6) -> 0 | AE50: =LARGE((Table6[[#This Row],[K1]:[Z4]]),7) -> 0 | AF50: =LARGE((Table6[[#This Row],[K1]:[Z4]]),8) -> 0 | AG50: =LARGE((Table6[[#This Row],[K1]:[Z4]]),9) -> 0 | AH50: =LARGE((Table6[[#This Row],[K1]:[Z4]]),10) -> 0 | AI50: =SUM(Y50:AH50) -> 0 | AJ50: =K50+AI50 -> 3
C51: Provisional subject to MSA | M51: =(COUNTIF(L4:L50,">0")) -> 22 | P51: =(COUNTIF(O4:O50,">0")) -> 20 | S51: =(COUNTIF(R4:R50,">0")) -> 28 | V51: =(COUNTIF(U4:U50,">0")) -> 17

Sheet SNR MAX
A1: #VALUE!
A2: #VALUE! | G2: REGIONAL | L2: KILLARNEY | O2: FK | R2: ZIKR | U2: ZWARTKOPS | Y2: BEST NATIONAL POINTS | AI2: TOTAL | AJ2: FINAL
A3: Rnk | B3: No. | C3: Name | D3: License # | E3: Region | F3: Chassis | G3: SARMC 1 | H3: SARMC 2 | I3: SARMC 3 | J3: SARMC 4 | K3: Total Bonus | L3: K1 | M3: K2 | N3: K3 | O3: FK1 | P3: FK2 | Q3: FK3 | R3: Z1 | S3: Z2 | T3: Z3 | U3: Z1' | V3: Z2' | W3: Z3' | X3: Z4 | Y3: 1 | Z3: 2 | AA3: 3 | AB3: 4 | AC3: 5 | AD3: 6 | AE3: 7 | AF3: 8 | AG3: 9 | AH3: 10 | AI3: National | AJ3: TOTAL
A4: 1 | B4: 299 | C4: =_xlfn.XLOOKUP(B4,Sheet2!B:B,Sheet2!C:C) -> Muhammad Wally | D4: =_xlfn.XLOOKUP(B4,Sheet2!B:B,Sheet2!G:G) -> 04615 | E4: =_xlfn.XLOOKUP(B4,Sheet2!B:B,Sheet2!H:H) -> NR | F4: SODI | G4: 0 | H4: 3 | I4: 3 | J4: 3 | K4: =SUM(Table62345[[#This Row],[SARMC 1]:[SARMC 4]]) -> 9 | L4: 22 | M4: 18 | N4: 27 | O4: 7 | P4: 0 | Q4: 0 | R4: 30 | S4: 32 | T4: 35 | U4: 35 | V4: 35 | W4: 35 | X4: 35 | Y4: =LARGE((Table62345[[#This Row],[K1]:[Z4]]),1) -> 35 | Z4: =LARGE((Table62345[[#This Row],[K1]:[Z4]]),2) -> 35 | AA4: =LARGE((Table62345[[#This Row],[K1]:[Z4]]),3) -> 35 | AB4: =LARGE((Table62345[[#This Row],[K1]:[Z4]]),4) -> 35 | AC4: =LARGE((Table62345[[#This Row],[K1]:[Z4]]),5) -> 35 | AD4: =LARGE((Table62345[[#This Row],[K1]:[Z4]]),6) -> 32 | AE4: =LARGE((Table62345[[#This Row],[K1]:[Z4]]),7) -> 30 | AF4: =LARGE((Table62345[[#This Row],[K1]:[Z4]]),8) -> 27 | AG4: =LARGE((Table62345[[#This Row],[K1]:[Z4]]),9) -> 22 | AH4: =LARGE((Table62345[[#This Row],[K1]:[Z4]]),10) -> 18 | AI4: =SUM(Y4:AH4) -> 304 | AJ4: =K4+AI4 -> 313
A5: 2 | B5: 346 | C5: =_xlfn.XLOOKUP(B5,Sheet2!B:B,Sheet2!C:C) -> Sebastiano Human | D5: =_xlfn.XLOOKUP(B5,Sheet2!B:B,Sheet2!G:G) -> 27060 | E5: =_xlfn.XLOOKUP(B5,Sheet2!B:B,Sheet2!H:H) -> WP | F5: =_xlfn.XLOOKUP(B5,Sheet2!B:B,Sheet2!D:D) -> PRAGA | G5: 3 | H5: 3 | I5: 3 | J5: 3 | K5: =SUM(Table62345[[#This Row],[SARMC 1]:[SARMC 4]]) -> 12 | L5: 35 | M5: 32 | N5: 32 | O5: 28 | P5: 0 | Q5: 0 | R5: 25 | S5: 28 | T5: 28 | U5: 29 | V5: 28 | W5: 25 | X5: 32 | Y5: =LARGE((Table62345[[#This Row],[K1]:[Z4]]),1) -> 35 | Z5: =LARGE((Table62345[[#This Row],[K1]:[Z4]]),2) -> 32 | AA5: =LARGE((Table62345[[#This Row],[K1]:[Z4]]),3) -> 32 | AB5: =LARGE((Table62345[[#This Row],[K1]:[Z4]]),4) -> 32 | AC5: =LARGE((Table62345[[#This Row],[K1]:[Z4]]),5) -> 29 | AD5: =LARGE((Table62345[[#This Row],[K1]:[Z4]]),6) -> 28 | AE5: =LARGE((Table62345[[#This Row],[K1]:[Z4]]),7) -> 28 | AF5: =LARGE((Table62345[[#This Row],[K1]:[Z4]]),8) -> 28 | AG5: =LARGE((Table62345[[#This Row],[K1]:[Z4]]),9) -> 28 | AH5: =LARGE((Table62345[[#This Row],[K1]:[Z4]]),10) -> 25 | AI5: =SUM(Y5:AH5) -> 297 | AJ5: =K5+AI5 -> 309
A6: 3 | B6: 377 | C6: =_xlfn.XLOOKUP(B6,Sheet2!B:B,Sheet2!C:C) -> Keagan Beaumont | D6: =_xlfn.XLOOKUP(B6,Sheet2!B:B,Sheet2!G:G) -> 16625 | E6: =_xlfn.XLOOKUP(B6,Sheet2!B:B,Sheet2!H:H) -> WP | F6: =_xlfn.XLOOKUP(B6,Sheet2!B:B,Sheet2!D:D) -> EXPRIT | G6: 3 | H6: 3 | I6: 0 | J6: 3 | K6: =SUM(Table62345[[#This Row],[SARMC 1]:[SARMC 4]]) -> 9 | L6: 30 | M6: 26 | N6: 30 | O6: 0 | P6: 0 | Q6: 0 | R6: 35 | S6: 35 | T6: 30 | U6: 30 | V6: 30 | W6: 26 | X6: 19 | Y6: =LARGE((Table62345[[#This Row],[K1]:[Z4]]),1) -> 35 | Z6: =LARGE((Table62345[[#This Row],[K1]:[Z4]]),2) -> 35 | AA6: =LARGE((Table62345[[#This Row],[K1]:[Z4]]),3) -> 30 | AB6: =LARGE((Table62345[[#This Row],[K1]:[Z4]]),4) -> 30 | AC6: =LARGE((Table62345[[#This Row],[K1]:[Z4]]),5) -> 30 | AD6: =LARGE((Table62345[[#This Row],[K1]:[Z4]]),6) -> 30 | AE6: =LARGE((Table62345[[#This Row],[K1]:[Z4]]),7) -> 30 | AF6: =LARGE((Table62345[[#This Row],[K1]:[Z4]]),8) -> 26 | AG6: =LARGE((Table62345[[#This Row],[K1]:[Z4]]),9) -> 26 | AH6: =LARGE((Table62345[[#This Row],[K1]:[Z4]]),10) -> 19 | AI6: =SUM(Y6:AH6) -> 291 | AJ6: =K6+AI6 -> 300
A7: 4 | B7: 211 | C7: =_xlfn.XLOOKUP(B7,Sheet2!B:B,Sheet2!C:C) -> Kian Spies | D7: =_xlfn.XLOOKUP(B7,Sheet2!B:B,Sheet2!G:G) -> 37585 | E7: =_xlfn.XLOOKUP(B7,Sheet2!B:B,Sheet2!H:H) -> NR | F7: =_xlfn.XLOOKUP(B7,Sheet2!B:B,Sheet2!D:D) -> FK | G7: 3 | H7: 3 | I7: 3 | J7: 3 | K7: =SUM(Table62345[[#This Row],[SARMC 1]:[SARMC 4]]) -> 12 | L7: 28 | M7: 25 | N7: 25 | O7: 24 | P7: 0 | Q7: 0 | R7: 29 | S7: 30 | T7: 27 | U7: 32 | V7: 32 | W7: 32 | X7: 27 | Y7: =LARGE((Table62345[[#This Row],[K1]:[Z4]]),1) -> 32 | Z7: =LARGE((Table62345[[#This Row],[K1]:[Z4]]),2) -> 32 | AA7: =LARGE((Table62345[[#This Row],[K1]:[Z4]]),3) -> 32 | AB7: =LARGE((Table62345[[#This Row],[K1]:[Z4]]),4) -> 30 | AC7: =LARGE((Table62345[[#This Row],[K1]:[Z4]]),5) -> 29 | AD7: =LARGE((Table62345[[#This Row],[K1]:[Z4]]),6) -> 28 | AE7: =LARGE((Table62345[[#This Row],[K1]:[Z4]]),7) -> 27 | AF7: =LARGE((Table62345[[#This Row],[K1]:[Z4]]),8) -> 27 | AG7: =LARGE((Table62345[[#This Row],[K1]:[Z4]]),9) -> 25 | AH7: =LARGE((Table62345[[#This Row],[K1]:[Z4]]),10) -> 25 | AI7: =SUM(Y7:AH7) -> 287 | AJ7: =K7+AI7 -> 299
A8: 5 | B8: 248 | C8: =_xlfn.XLOOKUP(B8,Sheet2!B:B,Sheet2!C:C) -> Jordon Wadeley | D8: =_xlfn.XLOOKUP(B8,Sheet2!B:B,Sheet2!G:G) -> 21372 | E8: =_xlfn.XLOOKUP(B8,Sheet2!B:B,Sheet2!H:H) -> WP | F8: =_xlfn.XLOOKUP(B8,Sheet2!B:B,Sheet2!D:D) -> CRG | G8: 3 | H8: 3 | I8: 3 | J8: 3 | K8: =SUM(Table62345[[#This Row],[SARMC 1]:[SARMC 4]]) -> 12 | L8: 32 | M8: 29 | N8: 14 | O8: 26 | P8: 0 | Q8: 0 | R8: 32 | S8: 27 | T8: 29 | U8: 18 | V8: 24 | W8: 29 | X8: 30 | Y8: =LARGE((Table62345[[#This Row],[K1]:[Z4]]),1) -> 32 | Z8: =LARGE((Table62345[[#This Row],[K1]:[Z4]]),2) -> 32 | AA8: =LARGE((Table62345[[#This Row],[K1]:[Z4]]),3) -> 30 | AB8: =LARGE((Table62345[[#This Row],[K1]:[Z4]]),4) -> 29 | AC8: =LARGE((Table62345[[#This Row],[K1]:[Z4]]),5) -> 29 | AD8: =LARGE((Table62345[[#This Row],[K1]:[Z4]]),6) -> 29 | AE8: =LARGE((Table62345[[#This Row],[K1]:[Z4]]),7) -> 27 | AF8: =LARGE((Table62345[[#This Row],[K1]:[Z4]]),8) -> 26 | AG8: =LARGE((Table62345[[#This Row],[K1]:[Z4]]),9) -> 24 | AH8: =LARGE((Table62345[[#This Row],[K1]:[Z4]]),10) -> 18 | AI8: =SUM(Y8:AH8) -> 276 | AJ8: =K8+AI8 -> 288
A9: 6 | B9: 286 | C9: =_xlfn.XLOOKUP(B9,Sheet2!B:B,Sheet2!C:C) -> Georgia Lenaerts | D9: =_xlfn.XLOOKUP(B9,Sheet2!B:B,Sheet2!G:G) -> 05874 | E9: =_xlfn.XLOOKUP(B9,Sheet2!B:B,Sheet2!H:H) -> NR | F9: =_xlfn.XLOOKUP(B9,Sheet2!B:B,Sheet2!D:D) -> KR | G9: 3 | H9: 3 | I9: 3 | J9: 3 | K9: =SUM(Table62345[[#This Row],[SARMC 1]:[SARMC 4]]) -> 12 | L9: 23 | M9: 4 | N9: 22 | O9: 27 | P9: 0 | Q9: 0 | R9: 26 | S9: 25 | T9: 24 | U9: 27 | V9: 29 | W9: 30 | X9: 24 | Y9: =LARGE((Table62345[[#This Row],[K1]:[Z4]]),1) -> 30 | Z9: =LARGE((Table62345[[#This Row],[K1]:[Z4]]),2) -> 29 | AA9: =LARGE((Table62345[[#This Row],[K1]:[Z4]]),3) -> 27 | AB9: =LARGE((Table62345[[#This Row],[K1]:[Z4]]),4) -> 27 | AC9: =LARGE((Table62345[[#This Row],[K1]:[Z4]]),5) -> 26 | AD9: =LARGE((Table62345[[#This Row],[K1]:[Z4]]),6) -> 25 | AE9: =LARGE((Table62345[[#This Row],[K1]:[Z4]]),7) -> 24 | AF9: =LARGE((Table62345[[#This Row],[K1]:[Z4]]),8) -> 24 | AG9: =LARGE((Table62345[[#This Row],[K1]:[Z4]]),9) -> 23 | AH9: =LARGE((Table62345[[#This Row],[K1]:[Z4]]),10) -> 22 | AI9: =SUM(Y9:AH9) -> 257 | AJ9: =K9+AI9 -> 269
A10: 7 | B10: 226 | C10: =_xlfn.XLOOKUP(B10,Sheet2!B:B,Sheet2!C:C) -> Tristan Du Plessis | D10: =_xlfn.XLOOKUP(B10,Sheet2!B:B,Sheet2!G:G) -> 37734 | E10: =_xlfn.XLOOKUP(B10,Sheet2!B:B,Sheet2!H:H) -> NR | F10: =_xlfn.XLOOKUP(B10,Sheet2!B:B,Sheet2!D:D) -> LNK | G10: 3 | H10: 3 | I10: 3 | J10: 3 | K10: =SUM(Table62345[[#This Row],[SARMC 1]:[SARMC 4]]) -> 12 | L10: 19 | M10: 21 | N10: 16 | O10: 30 | P10: 0 | Q10: 0 | R10: 18 | S10: 29 | T10: 23 | U10: 24 | V10: 23 | W10: 27 | X10: 29 | Y10: =LARGE((Table62345[[#This Row],[K1]:[Z4]]),1) -> 30 | Z10: =LARGE((Table62345[[#This Row],[K1]:[Z4]]),2) -> 29 | AA10: =LARGE((Table62345[[#This Row],[K1]:[Z4]]),3) -> 29 | AB10: =LARGE((Table62345[[#This Row],[K1]:[Z4]]),4) -> 27 | AC10: =LARGE((Table62345[[#This Row],[K1]:[Z4]]),5) -> 24 | AD10: =LARGE((Table62345[[#This Row],[K1]:[Z4]]),6) -> 23 | AE10: =LARGE((Table62345[[#This Row],[K1]:[Z4]]),7) -> 23 | AF10: =LARGE((Table62345[[#This Row],[K1]:[Z4]]),8) -> 21 | AG10: =LARGE((Table62345[[#This Row],[K1]:[Z4]]),9) -> 19 | AH10: =LARGE((Table62345[[#This Row],[K1]:[Z4]]),10) -> 18 | AI10: =SUM(Y10:AH10) -> 243 | AJ10: =K10+AI10 -> 255
A11: 8 | B11: 388 | C11: Caleb Moss | D11: 15155 | E11: NR | F11: PAROLIN | G11: 3 | H11: 3 | I11: 3 | J11: 3 | K11: =SUM(Table62345[[#This Row],[SARMC 1]:[SARMC 4]]) -> 12 | L11: 27 | M11: 35 | N11: 35 | O11: 25 | P11: 0 | Q11: 0 | R11: 28 | S11: 24 | T11: 13 | U11: 8 | V11: 16 | W11: 18 | X11: 0 | Y11: =LARGE((Table62345[[#This Row],[K1]:[Z4]]),1) -> 35 | Z11: =LARGE((Table62345[[#This Row],[K1]:[Z4]]),2) -> 35 | AA11: =LARGE((Table62345[[#This Row],[K1]:[Z4]]),3) -> 28 | AB11: =LARGE((Table62345[[#This Row],[K1]:[Z4]]),4) -> 27 | AC11: =LARGE((Table62345[[#This Row],[K1]:[Z4]]),5) -> 25 | AD11: =LARGE((Table62345[[#This Row],[K1]:[Z4]]),6) -> 24 | AE11: =LARGE((Table62345[[#This Row],[K1]:[Z4]]),7) -> 18 | AF11: =LARGE((Table62345[[#This Row],[K1]:[Z4]]),8) -> 16 | AG11: =LARGE((Table62345[[#This Row],[K1]:[Z4]]),9) -> 13 | AH11: =LARGE((Table62345[[#This Row],[K1]:[Z4]]),10) -> 8 | AI11: =SUM(Y11:AH11) -> 229 | AJ11: =K11+AI11 -> 241
A12: 9 | B12: 379 | C12: =_xlfn.XLOOKUP(B12,Sheet2!B:B,Sheet2!C:C) -> Reagile Spice Mailula | D12: =_xlfn.XLOOKUP(B12,Sheet2!B:B,Sheet2!G:G) -> 22482 | E12: =_xlfn.XLOOKUP(B12,Sheet2!B:B,Sheet2!H:H) -> NR | F12: =_xlfn.XLOOKUP(B12,Sheet2!B:B,Sheet2!D:D) -> KR | G12: 3 | H12: 3 | I12: 3 | J12: 3 | K12: =SUM(Table62345[[#This Row],[SARMC 1]:[SARMC 4]]) -> 12 | L12: 25 | M12: 27 | N12: 26 | O12: 35 | P12: 0 | Q12: 0 | R12: 20 | S12: 18 | T12: 9 | U12: 21 | V12: 21 | W12: 0 | X12: 21 | Y12: =LARGE((Table62345[[#This Row],[K1]:[Z4]]),1) -> 35 | Z12: =LARGE((Table62345[[#This Row],[K1]:[Z4]]),2) -> 27 | AA12: =LARGE((Table62345[[#This Row],[K1]:[Z4]]),3) -> 26 | AB12: =LARGE((Table62345[[#This Row],[K1]:[Z4]]),4) -> 25 | AC12: =LARGE((Table62345[[#This Row],[K1]:[Z4]]),5) -> 21 | AD12: =LARGE((Table62345[[#This Row],[K1]:[Z4]]),6) -> 21 | AE12: =LARGE((Table62345[[#This Row],[K1]:[Z4]]),7) -> 21 | AF12: =LARGE((Table62345[[#This Row],[K1]:[Z4]]),8) -> 20 | AG12: =LARGE((Table62345[[#This Row],[K1]:[Z4]]),9) -> 18 | AH12: =LARGE((Table62345[[#This Row],[K1]:[Z4]]),10) -> 9 | AI12: =SUM(Y12:AH12) -> 223 | AJ12: =K12+AI12 -> 235
A13: 10 | B13: 246 | C13: =_xlfn.XLOOKUP(B13,Sheet2!B:B,Sheet2!C:C) -> Matthew Carter | D13: =_xlfn.XLOOKUP(B13,Sheet2!B:B,Sheet2!G:G) -> 42852 | E13: =_xlfn.XLOOKUP(B13,Sheet2!B:B,Sheet2!H:H) -> WP | F13: =_xlfn.XLOOKUP(B13,Sheet2!B:B,Sheet2!D:D) -> PRAGA | G13: 3 | H13: 3 | I13: 3 | J13: 3 | K13: =SUM(Table62345[[#This Row],[SARMC 1]:[SARMC 4]]) -> 12 | L13: 21 | M13: 20 | N13: 21 | O13: 16 | P13: 0 | Q13: 0 | R13: 23 | S13: 22 | T13: 26 | U13: 6 | V13: 20 | W13: 24 | X13: 28 | Y13: =LARGE((Table62345[[#This Row],[K1]:[Z4]]),1) -> 28 | Z13: =LARGE((Table62345[[#This Row],[K1]:[Z4]]),2) -> 26 | AA13: =LARGE((Table62345[[#This Row],[K1]:[Z4]]),3) -> 24 | AB13: =LARGE((Table62345[[#This Row],[K1]:[Z4]]),4) -> 23 | AC13: =LARGE((Table62345[[#This Row],[K1]:[Z4]]),5) -> 22 | AD13: =LARGE((Table62345[[#This Row],[K1]:[Z4]]),6) -> 21 | AE13: =LARGE((Table62345[[#This Row],[K1]:[Z4]]),7) -> 21 | AF13: =LARGE((Table62345[[#This Row],[K1]:[Z4]]),8) -> 20 | AG13: =LARGE((Table62345[[#This Row],[K1]:[Z4]]),9) -> 20 | AH13: =LARGE((Table62345[[#This Row],[K1]:[Z4]]),10) -> 16 | AI13: =SUM(Y13:AH13) -> 221 | AJ13: =K13+AI13 -> 233
A14: 11 | B14: 267 | C14: =_xlfn.XLOOKUP(B14,Sheet2!B:B,Sheet2!C:C) -> Jesse Swart | D14: =_xlfn.XLOOKUP(B14,Sheet2!B:B,Sheet2!G:G) -> 37552 | E14: =_xlfn.XLOOKUP(B14,Sheet2!B:B,Sheet2!H:H) -> WP | F14: CS55 | G14: 3 | H14: 3 | I14: 3 | J14: 3 | K14: =SUM(Table62345[[#This Row],[SARMC 1]:[SARMC 4]]) -> 12 | L14: 29 | M14: 9 | N14: 28 | O14: 0 | P14: 0 | Q14: 0 | R14: 19 | S14: 26 | T14: 25 | U14: 28 | V14: 27 | W14: 21 | X14: 0 | Y14: =LARGE((Table62345[[#This Row],[K1]:[Z4]]),1) -> 29 | Z14: =LARGE((Table62345[[#This Row],[K1]:[Z4]]),2) -> 28 | AA14: =LARGE((Table62345[[#This Row],[K1]:[Z4]]),3) -> 28 | AB14: =LARGE((Table62345[[#This Row],[K1]:[Z4]]),4) -> 27 | AC14: =LARGE((Table62345[[#This Row],[K1]:[Z4]]),5) -> 26 | AD14: =LARGE((Table62345[[#This Row],[K1]:[Z4]]),6) -> 25 | AE14: =LARGE((Table62345[[#This Row],[K1]:[Z4]]),7) -> 21 | AF14: =LARGE((Table62345[[#This Row],[K1]:[Z4]]),8) -> 19 | AG14: =LARGE((Table62345[[#This Row],[K1]:[Z4]]),9) -> 9 | AH14: =LARGE((Table62345[[#This Row],[K1]:[Z4]]),10) -> 0 | AI14: =SUM(Y14:AH14) -> 212 | AJ14: =K14+AI14 -> 224
A15: 12 | B15: 297 | C15: =_xlfn.XLOOKUP(B15,Sheet2!B:B,Sheet2!C:C) -> Ryan Berrington-Smit | D15: =_xlfn.XLOOKUP(B15,Sheet2!B:B,Sheet2!G:G) -> 42334 | E15: =_xlfn.XLOOKUP(B15,Sheet2!B:B,Sheet2!H:H) -> KZN | F15: SODI | G15: 3 | H15: 2 | I15: 3 | J15: 3 | K15: =SUM(Table62345[[#This Row],[SARMC 1]:[SARMC 4]]) -> 11 | L15: 4 | M15: 22 | N15: 23 | O15: 23 | P15: 0 | Q15: 0 | R15: 17 | S15: 20 | T15: 18 | U15: 19 | V15: 25 | W15: 17 | X15: 16 | Y15: =LARGE((Table62345[[#This Row],[K1]:[Z4]]),1) -> 25 | Z15: =LARGE((Table62345[[#This Row],[K1]:[Z4]]),2) -> 23 | AA15: =LARGE((Table62345[[#This Row],[K1]:[Z4]]),3) -> 23 | AB15: =LARGE((Table62345[[#This Row],[K1]:[Z4]]),4) -> 22 | AC15: =LARGE((Table62345[[#This Row],[K1]:[Z4]]),5) -> 20 | AD15: =LARGE((Table62345[[#This Row],[K1]:[Z4]]),6) -> 19 | AE15: =LARGE((Table62345[[#This Row],[K1]:[Z4]]),7) -> 18 | AF15: =LARGE((Table62345[[#This Row],[K1]:[Z4]]),8) -> 17 | AG15: =LARGE((Table62345[[#This Row],[K1]:[Z4]]),9) -> 17 | AH15: =LARGE((Table62345[[#This Row],[K1]:[Z4]]),10) -> 16 | AI15: =SUM(Y15:AH15) -> 200 | AJ15: =K15+AI15 -> 211
A16: 13 | B16: 330 | C16: =_xlfn.XLOOKUP(B16,Sheet2!B:B,Sheet2!C:C) -> Tshepang Shisinwana | D16: =_xlfn.XLOOKUP(B16,Sheet2!B:B,Sheet2!G:G) -> 2905 | E16: =_xlfn.XLOOKUP(B16,Sheet2!B:B,Sheet2!H:H) -> NR | F16: =_xlfn.XLOOKUP(B16,Sheet2!B:B,Sheet2!D:D) -> KR | G16: 3 | H16: 3 | I16: 3 | J16: 3 | K16: =SUM(Table62345[[#This Row],[SARMC 1]:[SARMC 4]]) -> 12 | L16: 26 | M16: 28 | N16: 4 | O16: 32 | P16: 0 | Q16: 0 | R16: 15 | S16: 7 | T16: 3 | U16: 23 | V16: 19 | W16: 22 | X16: 0 | Y16: =LARGE((Table62345[[#This Row],[K1]:[Z4]]),1) -> 32 | Z16: =LARGE((Table62345[[#This Row],[K1]:[Z4]]),2) -> 28 | AA16: =LARGE((Table62345[[#This Row],[K1]:[Z4]]),3) -> 26 | AB16: =LARGE((Table62345[[#This Row],[K1]:[Z4]]),4) -> 23 | AC16: =LARGE((Table62345[[#This Row],[K1]:[Z4]]),5) -> 22 | AD16: =LARGE((Table62345[[#This Row],[K1]:[Z4]]),6) -> 19 | AE16: =LARGE((Table62345[[#This Row],[K1]:[Z4]]),7) -> 15 | AF16: =LARGE((Table62345[[#This Row],[K1]:[Z4]]),8) -> 7 | AG16: =LARGE((Table62345[[#This Row],[K1]:[Z4]]),9) -> 4 | AH16: =LARGE((Table62345[[#This Row],[K1]:[Z4]]),10) -> 3 | AI16: =SUM(Y16:AH16) -> 179 | AJ16: =K16+AI16 -> 191
A17: 14 | B17: 223 | C17: =_xlfn.XLOOKUP(B17,Sheet2!B:B,Sheet2!C:C) -> Emma Dowling | D17: =_xlfn.XLOOKUP(B17,Sheet2!B:B,Sheet2!G:G) -> 34171 | E17: =_xlfn.XLOOKUP(B17,Sheet2!B:B,Sheet2!H:H) -> NR | F17: =_xlfn.XLOOKUP(B17,Sheet2!B:B,Sheet2!D:D) -> KR | G17: 3 | H17: 0 | I17: 3 | J17: 3 | K17: =SUM(Table62345[[#This Row],[SARMC 1]:[SARMC 4]]) -> 9 | L17: 0 | M17: 0 | N17: 0 | O17: 29 | P17: 0 | Q17: 0 | R17: 3 | S17: 19 | T17: 32 | U17: 25 | V17: 22 | W17: 20 | X17: 25 | Y17: =LARGE((Table62345[[#This Row],[K1]:[Z4]]),1) -> 32 | Z17: =LARGE((Table62345[[#This Row],[K1]:[Z4]]),2) -> 29 | AA17: =LARGE((Table62345[[#This Row],[K1]:[Z4]]),3) -> 25 | AB17: =LARGE((Table62345[[#This Row],[K1]:[Z4]]),4) -> 25 | AC17: =LARGE((Table62345[[#This Row],[K1]:[Z4]]),5) -> 22 | AD17: =LARGE((Table62345[[#This Row],[K1]:[Z4]]),6) -> 20 | AE17: =LARGE((Table62345[[#This Row],[K1]:[Z4]]),7) -> 19 | AF17: =LARGE((Table62345[[#This Row],[K1]:[Z4]]),8) -> 3 | AG17: =LARGE((Table62345[[#This Row],[K1]:[Z4]]),9) -> 0 | AH17: =LARGE((Table62345[[#This Row],[K1]:[Z4]]),10) -> 0 | AI17: =SUM(Y17:AH17) -> 175 | AJ17: =K17+AI17 -> 184
A18: 15 | B18: 221 | C18: =_xlfn.XLOOKUP(B18,Sheet2!B:B,Sheet2!C:C) -> Travis Mingay | D18: =_xlfn.XLOOKUP(B18,Sheet2!B:B,Sheet2!G:G) -> 1571 | E18: =_xlfn.XLOOKUP(B18,Sheet2!B:B,Sheet2!H:H) -> KZN | F18: CRG | G18: 3 | H18: 3 | I18: 3 | J18: 3 | K18: =SUM(Table62345[[#This Row],[SARMC 1]:[SARMC 4]]) -> 12 | L18: 24 | M18: 30 | N18: 29 | O18: 19 | P18: 0 | Q18: 0 | R18: 22 | S18: 23 | T18: 21 | U18: 0 | V18: 0 | W18: 0 | X18: 0 | Y18: =LARGE((Table62345[[#This Row],[K1]:[Z4]]),1) -> 30 | Z18: =LARGE((Table62345[[#This Row],[K1]:[Z4]]),2) -> 29 | AA18: =LARGE((Table62345[[#This Row],[K1]:[Z4]]),3) -> 24 | AB18: =LARGE((Table62345[[#This Row],[K1]:[Z4]]),4) -> 23 | AC18: =LARGE((Table62345[[#This Row],[K1]:[Z4]]),5) -> 22 | AD18: =LARGE((Table62345[[#This Row],[K1]:[Z4]]),6) -> 21 | AE18: =LARGE((Table62345[[#This Row],[K1]:[Z4]]),7) -> 19 | AF18: =LARGE((Table62345[[#This Row],[K1]:[Z4]]),8) -> 0 | AG18: =LARGE((Table62345[[#This Row],[K1]:[Z4]]),9) -> 0 | AH18: =LARGE((Table62345[[#This Row],[K1]:[Z4]]),10) -> 0 | AI18: =SUM(Y18:AH18) -> 168 | AJ18: =K18+AI18 -> 180
A19: 16 | B19: 354 | C19: =_xlfn.XLOOKUP(B19,Sheet2!B:B,Sheet2!C:C) -> Geo Christl | D19: =_xlfn.XLOOKUP(B19,Sheet2!B:B,Sheet2!G:G) -> 45264 | E19: =_xlfn.XLOOKUP(B19,Sheet2!B:B,Sheet2!H:H) -> WP | F19: PRAGA | G19: 3 | H19: 3 | I19: 3 | J19: 3 | K19: =SUM(Table62345[[#This Row],[SARMC 1]:[SARMC 4]]) -> 12 | L19: 17 | M19: 19 | N19: - | O19: 21 | P19: 0 | Q19: 0 | R19: 11 | S19: 21 | T19: 17 | U19: 0 | V19: 13 | W19: 23 | X19: 26 | Y19: =LARGE((Table62345[[#This Row],[K1]:[Z4]]),1) -> 26 | Z19: =LARGE((Table62345[[#This Row],[K1]:[Z4]]),2) -> 23 | AA19: =LARGE((Table62345[[#This Row],[K1]:[Z4]]),3) -> 21 | AB19: =LARGE((Table62345[[#This Row],[K1]:[Z4]]),4) -> 21 | AC19: =LARGE((Table62345[[#This Row],[K1]:[Z4]]),5) -> 19 | AD19: =LARGE((Table62345[[#This Row],[K1]:[Z4]]),6) -> 17 | AE19: =LARGE((Table62345[[#This Row],[K1]:[Z4]]),7) -> 17 | AF19: =LARGE((Table62345[[#This Row],[K1]:[Z4]]),8) -> 13 | AG19: =LARGE((Table62345[[#This Row],[K1]:[Z4]]),9) -> 11 | AH19: =LARGE((Table62345[[#This Row],[K1]:[Z4]]),10) -> 0 | AI19: =SUM(Y19:AH19) -> 168 | AJ19: =K19+AI19 -> 180
